Workbook
Name Countries: Countries!$A$2:$A$250
Name DevCells: '2. Progress towards outcomes'!#REF!
Name DevCells: #REF!
Name DevRatings: '2. Progress towards outcomes'!#REF!
Name DevRatings: #REF!
Name DevScore: #REF!
Name DevScore: _Calc!$D$20
Name ImpCells: '3. Implementation Progress'!$D$88:$M$90
Name ImpRatings: '3. Implementation Progress'!$D$88:$M$90
Name ImpScore: #REF!
Name ImpScore: _Calc!$D$21
Name NumRating: #REF!
Name NumRating: _Calc!$B$2:$B$9
Name TxtRating: #REF!
Name TxtRating: _Calc!$A$2:$A$9
Name Weights: #REF!
Name Weights: _Calc!$E$14:$I$14
Name Weights2: #REF!
Name Weights2: _Calc!$E$17:$H$17

Sheet Table of Contents
B6: FAO-GEF Project Implementation Report
B7: 2025 – Revised Template
B8: Period covered: 1 July 2024 to 30 June 2025
B9: Table of Contents
B10: =HYPERLINK("#'1. Basic project data'!N10","1. BASIC PROJECT DATA") -> 1. BASIC PROJECT DATA
B11: =HYPERLINK("#'2. Progress towards outcomes'!N11","2. PROGRESS TOWARDS ACHIEVING PROJECT OBJECTIVE(S) (DEVELOPMENT OBJECTIVE)") -> 2. PROGRESS TOWARDS ACHIEVING PROJECT OBJECTIVE(S) (DEVELOPMENT OBJECTIVE)
B12: =HYPERLINK("#'3. Implementation Progress'!N12","3. IMPLEMENTATION PROGRESS (IP)") -> 3. IMPLEMENTATION PROGRESS (IP)
B13: =HYPERLINK("#'4. Summary on progress'!N13","4. SUMMARY ON PROGRESS AND CHALLENGES") -> 4. SUMMARY ON PROGRESS AND CHALLENGES
B14: =HYPERLINK("#'5. ESS Risk'!N14","5.ENVIRONMENTAL AND SOCIAL SAFEGUARDS (ESS):RISKS FROM THE PROJECT") -> 5.ENVIRONMENTAL AND SOCIAL SAFEGUARDS (ESS):RISKS FROM THE PROJECT
B15: =HYPERLINK("#'6. Risks to the project'!N15","6. RISKS TO THE PROJECT") -> 6. RISKS TO THE PROJECT
B16: =HYPERLINK("#'7. Follow-up on Mid-term review'!N16","7. FOLLOW-UP ON MID-TERM REVIEW OR SUPERVISION MISSION") -> 7. FOLLOW-UP ON MID-TERM REVIEW OR SUPERVISION MISSION
B17: =HYPERLINK("#'8. Minor project amendments'!N17","8. MINOR PROJECT AMENDMENTS") -> 8. MINOR PROJECT AMENDMENTS
B18: =HYPERLINK("#'9. Stakeholders' Engagement'!N18","9. STAKEHOLDERS' ENGAGEMENT") -> 9. STAKEHOLDERS' ENGAGEMENT
B19: =HYPERLINK("#'10. Gender Mainstreaming'!N19","10. GENDER MAINSTREAMING") -> 10. GENDER MAINSTREAMING
B20: =HYPERLINK("#'11. Knowledge Management'!N20","11. KNOWLEDGE MANAGEMENT ACTIVITIES") -> 11. KNOWLEDGE MANAGEMENT ACTIVITIES
B21: =HYPERLINK("#'12. Indigenous & Local Involve.'!N21","12. INDIGENOUS PEOPLES AND LOCAL COMMUNITIES INVOLVEMENT") -> 12. INDIGENOUS PEOPLES AND LOCAL COMMUNITIES INVOLVEMENT
B22: =HYPERLINK("#'13. Co-Financing Table'!N22","13. CO-FINANCING TABLE") -> 13. CO-FINANCING TABLE
B23: =HYPERLINK("#'14. GEO Location'!N23","14. GEO LOCATION INFORMATION") -> 14. GEO LOCATION INFORMATION
B24: =HYPERLINK("#'Annex'!N26","Annex. Monitoring Area-based GEF Core Indicator Commitments and Progress with FERM") -> Annex. Monitoring Area-based GEF Core Indicator Commitments and Progress with FERM
B27: IMPORTANT DISCLAIMER:
B28: The final version of this PIR will be submitted to the GEF Secretariat.
B29: The report will then be publicly available on the GEF website (click here).
B30: Sensitive information should be submitted in Annex to be uploaded separately.
B31: In such cases, please contact faogef-pir-support@fao.org for guidance.

Sheet _Calc
A1: Rating text | B1: Score
A2: Highly Unsatisfactory (HU) | B2: 1
A3: Unsatisfactory (U) | B3: 2
A4: Moderately Unsatisfactory (MU) | B4: 3
A5: Moderately Satisfactory (MS) | B5: 4
A6: Satisfactory (S) | B6: 5
A7: Highly Satisfactory (HS) | B7: 6
A8: Unknown | B8: 0
A9: Not Rated | B9: 0
D12: for DevScore
D13: Person | E13: PM/Coord | F13: Budget Holder | G13: LTO | H13: GEF OFP | I13: GTO
D14: Weight % | E14: 20 | F14: 25 | G14: 25 | H14: 0 | I14: 30
D15: For ImpScore
D16: Person | E16: PM/Coord | F16: LTO | G16: GEF OFP | H16: GTO
D17: Weight % | E17: 25 | F17: 35 | G17: 0 | H17: 40
A19: Once you've filled in 2. Progress towards outcomes & 3. Implementation Progress
A20: Please double click and press enter on Cells D20 and D21 | D20: {=_xlfn.LET(_xlpm.hdrRow,MATCH("*Development*Objective*rating*",'2. Progress towards outcomes'!$C:$C,0),_xlpm.rRow,_xlpm.hdrRow+1,_xlpm.ratings,INDEX('2. Progress towards outcomes'!$D:$H,_xlpm.rRow,0),_xlpm.scores,_xlfn.XLOOKUP(_xlpm.ratings,TxtRating,NumRating,0),ROUND(SUMPRODUCT(_xlpm.scores,Weights)/SUM(Weights),0))} -> 3
D21: {=ROUND( SUMPRODUCT( _xlfn.XLOOKUP( CHOOSE({1,2,3,4}, '3. Implementation Progress'!D88, '3. Implementation Progress'!F88, '3. Implementation Progress'!H88, '3. Implementation Progress'!J88 ), TxtRating, NumRating, 0 ), Weights2 ) / SUM(Weights2), 0)} -> 2

Sheet 1. Basic project data
B2: 1. Basic Project Data
B3: General Information
B4: Region: | E4: Asia and the Pacific (RAP)
B5: Country(ies): | E5: Nepal
B6: Project Title: | E6: Enhancing capacity for sustainable management of forests, land and biodiversity in the Eastern Hills (FLB Eastern Hills)
B7: FAO Project Symbol: | E7: GCP /NEP/080/GFF
B8: GEF ID: | E8: 10381
B9: Type of Trust Fund(s): | E9: GFF
B10: GEF Focal Area(s): | E10: Biodiversity and Land Degradation
B11: Project Executing Partners: | E11: Ministry of Industry, Tourism, Forest, and Environment, Koshi Province
B12: Initial project duration (years): | E12: 4 years (GEF CEO endorsed on October 2021)
B13: Project Dates
B14: GEF CEO Endorsement Date: | E14: 44497
B15: Actual Agency Approval Date | E15: 44336
B16: Project Implementation Start Date/EOD: | E16: 45084
B17: First Disbursement Date | E17: 45657
B18: Planned Project End Date/NTE1: | E18: 46544
B19: Revised project implementation End date (if approved)2:
B20: Actual Completion Date:
B21: Expected Financial Closure Date: | E21: 46910
B22: Funding
B23: GEF Grant Amount (USD): | E23: 4187900
B24: Total GEF grant delivery (as of June 30, 2025 (USD): | E24: 1079189.4
B25: Total Co-financing amount (USD)3: | E25: ='13. Co-Financing Table'!K19 -> 28500000
B26: Total estimated co-financing materialized as of June 30, 2025: | E26: ='13. Co-Financing Table'!N19 -> 242000
B27: M & E Milestones
B28: Date of Last Project Steering Committee (PSC) Meeting: | E28: 45800
B29: Expected Mid-term Review date5: | E29: 45907
B30: Actual Mid-term review date (if already completed):
B31: Expected Terminal Evaluation Date: | E31: 46362
B32: Overall ratings
B33: Overall rating of progress towards achieving objectives/outcomes (cumulative): | E33: Moderately Unsatisfactory
B34: Overall implementation progess rating: | E34: Moderately Satisfactory
B35: Overall risk rating: | E35: ='6. Risks to the Project'!C21 -> Moderate
B36: Status
B37: Implementation Status (1st PIR, 2nd PIR, etc. Final PIR): | E37: 1st PIR
B40: 1 Date that was originally foreseen at the project’s operationalization and indicated in FPMIS. 2 If NTE extension has been requested and approved by the FAO-GEF Coordination Unit. 3 This is the total amount of co-financing as included in the CEO Document/Project Document. 4 Please refer to the Section 13 of this report where updated co-financing estimates are requested and indicate the total co-financing amount materialized. 5 The Mid-Term Review (MTR) should take place after the 2nd PIR, around half-point between EOD and NTE. The MTR report in English should be submitted to the GEF Secretariat within 4 years of the CEO Endorsement date. 6 The Terminal Evaluation date should be discussed with OED 6 months before the project’s NTE date.
B45: Project Contacts
B46: Contact | E46: Name, Title, Division/Institution | I46: E-mail
B47: Project Coordinator (PC) | E47: Akhilesh Kumar Gupta, MoTFE, Koshi Province | I47: flbeh.motfe@koshi.gov.np
...

Sheet 2. Progress towards outcomes
B1: 2. Progress towards Achieving Project Objective(s) (Development objective)
B3: (All inputs in this section should be cumulative from project start, not annual)
B5: Please indicate the project’s main progress towards achieving its objective(s) and the cumulative level of achievement of each outcome since the start of project implementation.
B6: Project or Development Objective | C6: Outcomes | D6: Outcome indicators | E6: Baseline | F6: Mid-term Target | G6: End-of-project Target | H6: Cumulative progress level at 30 June 2025 | I6: % of cumulative progress | J6: Progress rating
B7: Globally significant biodiversity outside protected areas are conserved and the flow of ecosystem services for sustainable livelihoods improved in the Eastern Hills of Nepal. | C7: Outcome 1: Provincial and local stakeholders have increased capacities for adaptive and collaborative landscape planning and management to support biodiversity conservation, ecosystem restoration and achieving land degradation neutrality | D7: Province No. 1, 34 local levels and 200 CFUGs equipped with data, maps, plans and access to guidance and information for biodiversity conservation, ecosystem restoration and land degradation neutrality. | E7: Province No.1, local levels and CFUGs do not have data, maps and information for biodiversity, conservation, ecosystem restoration and land degradation neutrality | F7: 1 Province, 34 Local level, 200 CFUG | G7: 1 Province level, 34 local level, 200 CFUG | H7: 34 local level hotspots, sensitive areas, critical ecosystem and degraded patches area identified and mapped 91 CFOPs revised with maps embedded with areas/ecosystems that needs restoration | I7: 0.4 | J7: Moderately Satisfactory (MS)
C8: Output 1.1: A policy and planning framework for landscape level biodiversity-sensitive land use and forest management implemented by Province One and 34 Local level, including LDN targets for Province One | D8: By the end of 2025: A landscape policy and planning framework developed and implemented by Province One. 34 landscape policy and planning frameworks developed and implemented by local levels covering 357,500 ha | E8: No policy and planning framework is in use at province or local levels | F8: 1 provincial planning framework developed and in use. 34 local level planning frameworks developed and in use | G8: 1 provincial planning framework in use 34 local level planning frameworks in use | H8: It is planned for this year (2025/2026) | I8: 0 | J8: Not Rated
C9: Output.1.2 Province, forestry/wildlife staff and 34 local levels have capacities, mechanisms and instruments to sustainably coordinate and support biodiversity conservation and SLM | D9: Number of officials (MoITFE, Directorate, Divisions, Sub-divisions, Soil and Watershed Management Office, GESI focal persons) at province level trained in biodiversity conservation and sustainable land management | E9: 0 | F9: 40 | G9: 80 | H9: 8 officials (MoTFE, Directorate, Divisions) provided training in Bamboo seedling production to replicate in biodiversity conservation and SLM in project districts | I9: 0.15 | J9: Unsatisfactory (U)
D10: Number of officials at local level trained in land use planning | E10: 0 | F10: 204 (50% women) | G10: 408 (50% women) | H10: 155 local level officials trained in land use planning SLM, LD, BD | I10: 0.3 | J10: Moderately Satisfactory (MS)
D11: Number of stakeholder networks established/strengthened and operational at provincial and local level | E11: 0 | F11: 35(1 Province,34 local) | G11: 35 | H11: 1 Province level stakeholder network (PSC) established and operational | I11: 0.5 | J11: Moderately Satisfactory (MS)
C12: Output 1.3: 200 priority CFUGs selected for biodiversity conservation based on rapid local level-level assessments, trained and conducting biodiversity and LD monitoring (PAMEB) | D12: Number of CFUG members trained in monitoring and evaluation (biodiversity conservation and land degradation neutrality) | E12: CFUG members have not been trained in BD or LDN monitoring | F12: 400 (50% women) | G12: 800 (50% women) | H12: 304 CFUG members( 231 male and 73 females) trained on PAMEB of which 135 represent from indigeneous and marginalized group. | I12: 0.25 | J12: Moderately Unsatisfactory (MU)
C13: Output 1.4: 34 Local level landscape maps (covering 3,575 km2) of critical ecosystems, biodiversity and LD hotspot’s locations produced through participatory processes with at least 500 CFUGs and other LFUGs/CBOs | D13: No. of local level landscape maps produced showing critical ecosystem, biodiversity and land degradation hotspots. | E13: 0 | F13: 34 | G13: 34 | H13: 34 Local level landscape maps produced (critical ecosystems, biodiversity and LD hotspot's locations) | I13: 1 | J13: Highly Satisfactory (HS)
C14: Output 1.5: Development and land use plans (LUPs) of 34 local levels and operational plans for 320 CFUGs and 340 other LFUGs/ CBOs adequately integrate land use and biodiversity conservation priorities | D14: Number of Local levels with development and land use plans that integrate land use and biodiversity conservation priorities Number of CFUG operational plans (OPs) that integrate biodiversity conservation and SLM. Number of LFUGs/CBOs with plans that integrate biodiversity conservation and SLM | E14: 0 Existing operational plans do not effectively consider biodiversity conservation, SLM or the landscape planning framework Existing LFUGs/CBO plans do not effectively consider biodiversity conservation, SLM or landscape planning framework | F14: 34 175 340 | G14: 34 LUP 320 CFUG 340 LFUGs/CBOs | H14: 91 CFUGs and 5 LFUG OP revised with maps embedded with areas/ecosystems that needs restoration | I14: 0.2 | J14: Moderately Unsatisfactory (MU)
C15: Outcome 2: Local, provincial and national stakeholders have access to information needed for forest management, sustainable land use and biodiversity conservation planning, management and implementation (MoFE, FRTC, Province, Local level, CFUGs access KMIS shared information for adaptive management) | D15: Effective use of KMIS for forest management, sustainable land use and biodiversity conservation planning, management and implementation | E15: Data and information for adaptive management are scattered, and largely unavailable. | F15: Data and information required for adaptive management are available in the KMIS | G15: Data and information required for adaptive management are available in the KMIS and accessed by MoFE, FRTC, Province 1, 34 local levels and 200 CFUGs | H15: ToR developed to upgrade MIS 34 Local level Maps produced | I15: 0.1 | J15: Moderately Unsatisfactory (MU)
C16: Output 2.1: Nepal National Forest Research and Training Centre (FRTC) Forestry Information System (FIS) and Ministry of Forests and Environment (MoFE) Forest Management Information System (FMIS) upgraded and linked to the knowledge and adaptive management support (KMIS) portal where CFUG local levels, Province, and MoFE can share and access biodiversity and CFM data. | D16: FIS (FRTC) upgraded, FMIS (MoFE) established, linked to KMIS portal and operational. | E16: The FIS and FMIS are not operational. | F16: FIS/FMIS is operational | G16: FIS/FMIS is operational | H16: Need assessment of existing FMIS (under Provincial Forest Directorate) conducted. ToR developed to hire IT service provider to upgrade and link to the central FMIS system. ToR shared with MoTFE. Planned for new upcoming reporting period | I16: 0.1 | J16: Unsatisfactory (U)
C17: Output 2.2: Mechanism for the systematic creation and sharing of Provincial KMIS linked to national database, developed, and operational | D17: A sectipon or unit is established for KMIS and functional at MoTFE A provincial KMIS is linked to FIS (FRTC)/FMIS (MoFE) Number of stakeholder agencies using KMIS Level of investment on KMIS operation and use | E17: No dedicated unit KMIS doesnot exist and not operational | F17: KMIS unit established and functional at MoITFE KMIS is developed and linked to FIS/FMIS and in use 100 CFUGs, 5 DFOs, 17 local level and MoTFE Local level DFO and MoTFE bare 50% of the cost of KMIS operation and use | G17: KMIS is developed and operationalized 200 CFUGs, 5 DFOs and 34 local level and MoTFE DFO, local level and MoTFE bare 80% of total operation cost | H17: Planned for this FY | I17: 0 | J17: Not Rated
C18: Output 2.3: 200 CFUGs, 34 local levels, Province and MoFE trained, coached and monitored in KMIS operation and use | D18: Number of personnel (from CFUGs, local level, Province and MoFE) trained/coached on FIS/KMIS operation and maintenance | E18: 0 | F18: 272 (50% women) | G18: 544 (50% women) | H18: Planned for this FY | I18: 0 | J18: Not Rated
C19: Outcome 3: Local stakeholders apply community-based conservation and sustainable production, management and restoration practices for biodiversity and local livelihoods | D19: Number of people benefitting from community-based conservation Number of CFUGs applying community-based conservation and sustainable production, management and restoration practices | E19: X CFUGs do not apply sustainable production, management or restoration practices for biodiversity and local livelihoods | F19: X+ 75,000 (people) 100 CFUG | G19: X+ 150,000 (people) 200 CFUG | H19: 105 CFUGs apply management and restoration practices. | I19: 0.3 | J19: Moderately Satisfactory (MS)
C20: Output 3.1 34 Local levels implement land use interventions that strengthen biodiversity conservation and avoid interventions that negatively affect biodiversity | D20: Number of local levels implementing land use interventions to strengthen biodiversity % of project area applying interventions that strengthen biodiversity conservation Number of people benefiting from communicty based conservation and sustainable production | E20: Local levels donot have biodiversity sensitive land use plans Biodiversity strengthening interventions are not applied in the project area Target population donto benefit from community based conservation and sustainable production | F20: 25 local level implement LUP 5% of the total area is under improved management 14,000 ha of Community forest and 4,000 ha of governmewnt managed forest is brought under improved management that strengthens biodiversity conservation 100000 beneficiaries (50% women) | G20: 34 LUP 11% of the total area is under improved management of 31,000 ha and 10,000 ha Gov managed forest of total project area 150000 beneficiaries (50% women) | H20: N/A- 34 LUP will be formulated during next reporting period 58.03 ha area under restoration program through plantation 7790 ha (25%) of community forest area under improved management through CFOP revision. Within the juridiction of MoTFE Koshi province, forest patch of 4000 ha (Jhapa and lower Illam district) was established in 1979 for plantation project, the project during this reporting period has supported in the formulation of plan for sustainable forest management and biodiversity conservation. 58 Livelihood Improvement Plan for CFUGs and LUGs prepared | I20: 0.16 | J20: Moderately Unsatisfactory (MU)
C21: Output 3.2 300 CFUGs and other LFUGs/CBOs and 30,000 household implement forest, livestock, agriculture and other livelihoods support practices that strengthen biodiversity conservation and sustainable management of forest landscapes | D21: Number of CFUGs/LFUGs/CBOs implementing biodiversity friendly NRM based practices %of project area implementing forest, agriculture and livelihoods practices to strengthen biodivesity | E21: 0 | F21: X+150 (CFUGs/LFUGs/CBOs implementing biodiversity friendly NRM based practices) 5% of the project area implementing NRM practices | G21: X+300(CFUGs/LFUGs/CBOs implementing biodiversity friendly NRM based practices) 5% of the project area implementing NRM practices | H21: 123 (105 CFUG, 5 LFUG, 13 CBOs) implement biodiversity friendly practices | I21: 0.3 | J21: Moderately Satisfactory (MS)
D22: Percentage of project area implementing forest, livestock, agriculture and other livelihoods practices that strengthen biodiversity conservation and sustainable management of forest landscapes (total area-3,575 km2) | E22: 0 | F22: 5% of total area | G22: 5% of total area | H22: A number of agriculture tools/equipments were distributed to the women gorups and CFUGs members (25 groups), calculation of individual land coverage of HH using these tools is underway | I22: 0.1 | J22: Unsatisfactory (U)
D23: Number of households benefiting from biodiversity friendly NRM based livelihood practices | E23: 0 | F23: 15000 HHs | G23: 30000 HHs | H23: 580 HHs (58 Livelihood Improvement Plan for at least 10 Pro-poor HHs on an average) benefit | I23: 0.25 | J23: Moderately Unsatisfactory (MU)
C24: Output 3.3: At least ten (10) community-based anti-poaching and fire control networks established to protect ecosystem services and conserve globally threatened species such as the Red Panda and highly exploited floral species | D24: Number of CBAP network established Number of CBFF established Number of forest fire incidences and area affected by forest fire % and number of threatened fauna species and exploited flora species illegally killed/collected Area of forest containing targetted exploited flora and fauna species under effective control by anti-poaching units Number of sighting of illegal actors of activiites | E24: X X Cases of forest fires Anecdotal reports of illegal killing of Red Panda 0 ha currently under anti-poaching controls Anecdotal report of illegal killing of Red Panda and other targeted species of flora and fauna | F24: X+5 50% reduction in forest fire 50% reduction in target species being killed 50% of the total area of targetted forests have effective anti-poaching control systems 50% reduction in sighting of illegal actors reported to CFUGs | G24: X+5 75% of forest fire reduction 80% reduction in number of target species 100% of the total area of targetted forests have effective anti-poaching control systems 80% reduction in segnting of illegal actors reported to CFUGs | H24: 1 community based anti-poaching network to reduce poaching incidence established at Illam municipality. 19 Local Level forest fire networks established to response to forest fire. | I24: 0.3 | J24: Moderately Satisfactory (MS)
C25: Output 3.4: Ten (10) pro-poor biodiversity enhancing livelihood opportunities identified and developed through value chain assessments, establishment of value chain coordination networks, and strengthening of key business services (e.g., traders, collection centres, processors, technicians, input suppliers) | D25: Number of pro-poor biodiversity enhancing livelihood opportunities for FFOPs Number of inclusive value chain coordinated network established Number of business services strengthened | E25: No inclusive FFOPS No value chain formed O | F25: 5 FFOPS 5 Value Chain networks 0 | G25: 10 value chain coordination networks 10 value chain network 10 business service strengthened | H25: 2 NTFP network established in 2 district (Sankhusabha and Illam) 11 business service strengethened: -5 Taplejung (2-Essential Oil processing machine, 1-cloth knitting machine from himalaya nettle,1- Herbs drying machine, 1- Mele Juice extraction machine) -1 Terhathum (1-Nettle processing plant) -1 Illam (1-Essential Oil processing machine) -4 Panchthar (1- Essential Oil processing machine, 1-Incense sticks enterprise, 1- Timur Oil processing enterprise, 1- Herbal Soap making enterprise, ) | I25: 0.5 | J25: Satisfactory (S)
C26: Output 3.5: 100 FUGs linked to markets and business services and sustainably increase incomes from engagement in value and service chains (e.g., NTFP, eco-tourism) with extra support for poor producers | D26: Number of CFUGs/LFUGs benefitting from market linkages and business services Number of people benefitting from sustainable value chains | E26: 0 X | F26: 50 CFUGs/LFUGs benefitting from market linkages and business services X+500 people benefitting from sustainable value chains | G26: 100 CFUGs/LFUGs benefitting from market linkages and business services X+1000 | H26: 11 CFUGs/LFUGs/CBOs Fusambhu CFUG- Nettle weaving, Taplejung Herbal Network- Dryer machine, Kabeli Jadibuti Network- Juice extraction machine, Phalelung Krishak Group- Soap making, Funmang Group- Essential Oil processing machine, Pruba Prhari Sanghathan- Insence stick making machine, Chaite CFUG- Nettle processing machine, Sri Ose CFUG- Distillation unit, Sri Panch Pokhari CFUG- Distillation vessle) | I26: 0.1 | J26: Unsatisfactory (U)
B28: Average Cumulative progress toward outcomes (%) | C28: Time elapsed since project start/EOD vs Planned Project End Date | D28: % of delivery
B29: =IFERROR(AVERAGE(I7:I26),"") -> 0.2505 | C29: =IF(OR('1. Basic project data'!E16="",'1. Basic project data'!E18=""),"",(TODAY()-'1. Basic project data'!E16)/('1. Basic project data'!E18-'1. Basic project data'!E16)) -> 0.56438356 | D29: =IF('1. Basic project data'!E23=0,"",'1. Basic project data'!E24/'1. Basic project data'!E23) -> 0.25769225
B34: Development Objective (DO) Ratings, and Overall Assessment
B35: Please note that the overall DO ratings should be substantiated by evidence and progress reported above. The ratings and comments should reflect the overall progress of results since project start
C37: FY2025 Development Objective rating¹ | D37: Project Manager/ Coordinator | E37: Budget Holder | F37: Lead Technical Officer13 | G37: GEF Operational Focal Point | H37: GEF Technical Officer (GTO)
D38: Moderately Satisfactory (MS) | E38: Moderately Unsatisfactory (MU) | F38: Moderately Unsatisfactory (MU) | H38: Moderately Unsatisfactory (MU)
C39: Comments/reasons¹² justifying the ratings for FY2025 and any changes (positive or negative) in the ratings since the previous reporting period | D39: During the reporting period, the financial progress reached 69.43% against the released budget usd 928,950, though fund was received in December 2024, and sent to cost center in February 2025. Key outputs during the reporting period include five nursery establishment with a total of 250,000 seedlings of forest and agroforest native species to support restoration programme. 58.03 ha through plantation. 96 CFOPs preparation support was provided and 58 Livelihood Improvement Plan for LUGs/CFUGs. Forest fire network was established at local level based on the need and coverage. | E39: During the reporting period, the project has made significant achievement in terms of its financial and technical delivery. These achievements were seen just within 6 months of the financial transaction to the district field offices. The project has technically delivered in a number of outputs. However, few outputs will be initiates during the next reporting period. There has been a number of issues with hiring of project staffs by the operational partner due to the government process, and it is expected to be resolved by the coming year through a multi-year hiring process. FAO as an implementing agency to GEF and supervisiory entity to the OP, is technically and opeartionally supporting the implementaiton of the project the first of its kind that is directly implemented by the Provincial government. | F39: The project is picking up speed; the quality of the delivery/outputs needs improvement however with onboarding of the project staff by the OP. | H39: Though the project has made good progress this reporting year, due to initial hiccups in execution, there are pending activities to complete within the expected timelines, to avoid further delays and extension. As this is the first GEF project executed by the provincial government partner at the provincial level, consistent support and capacity building, particularly in the first few years of execution is crucial in determining the project's ability to meeting its objectives. The project team should initiate preparations for the mid-term review planned for the next reporting period, in 2026.
B41: Measures to address MS, MU, U and HU ratings on Section 2 above
B44: Outcome | D44: Action | F44: By whom? | H44: By When?
B45: Outcome 1: (i) 1 Landscape Conservation Policy (ii) 34 Local Land Use Plan (iii) Beneficiary- 150,000 | D45: 1. Develop ToR and initiate the recruitment of expert for Province Landscape Conservation Policy 2. Develop ToR for Local Land Use Plan 3. Develop Beneficiary tracking tool | F45: 1. OP, MoTFE 2. Project Support Office (Contract via Service Provider) 3. FAO Technical team | H45: 1. September 2025 2. September 2025 3. September 2025
B46: Outcome2: 1. KMIS developed, operation, and trained by multiple users | D46: 1. Develop ToR for Service Provider to upgrade on the existing system of the Province Forest Directorate 2. Upload data/information in the system 3. Train government official, users in using the system | F46: 1. OP, and FAO | H46: 1. End of September
B47: Outcome 3: 1. 34 land use plan operational 2. NTFP network functional to link with market services | D47: 1. Orientation on the localization of the land use plan to different stakeholders 2. Conduct Value Chain assesssment for NTFP | F47: 1. OP 2. Project Support Units | H47: 1. December 2025 2. End of September 2025
B48: 7 Some indicators may not identify mid-term targets at the design stage (refer to approved results framework) therefore this column should only be filled when relevant. 8 Use GEF Secretariat required six-point scale system: Highly Satisfactory (HS), Satisfactory (S), Moderately Satisfactory (MS), Moderately Unsatisfactory (MU), Unsatisfactory (U), and Highly Unsatisfactory (HU).

Sheet Countries
A1: Select Country
A2: Afghanistan
A3: Åland Islands
A4: Albania
A5: Algeria
A6: American Samoa
A7: Andorra
A8: Angola
A9: Anguilla
A10: Antarctica
A11: Antigua and Barbuda
A12: Argentina
... A250: Zimbabwe

Sheet TypeofTrustFund
A1: Type of Trust Fund
A2: Capacity-building Initiative for Transparency (CBIT)
A3: Global Biodiversity Framework Fund (GBFF)
A4: Global Environment Facility Trust Fund (GFF)
A5: Least Developed Countries Fund (LDCF)
A6: Special Climate Change Fund (SCCF)
A7: Small Grants Program (SGP)

Sheet FocalArea
A1: Focal Area
A2: Multi Focal Area
A3: Biodiversity
A4: Chemicals and Waste
A5: Chemicals/PoPs
A6: Climate Change
A7: Climate Change Adaptation
A8: Climate Change Mitigation
A9: International Waters
A10: Land Degradation

Sheet 3. Implementation Progress
B1: 3. Implementation Progress (IP)
B3: (Please indicate progress achieved during this FY as per the Implementation Plan/Annual Workplan)
B5: Outcomes and outputs | D5: Indicators (as per the logical framework) | F5: Main achievements in the last 12 months (please DO NOT repeat results reported in previous year PIR) | L5: Describe any variance 9 in delivering outputs
B7: Outcome 1.
B8: Output 1.1 | D8: By the end of 2025: A landscape policy and planning framework developed and implemented by Koshi Province. 34 landscape policy and planning frameworks developed and implemented by local levels covering 357,500 ha | F8: This activity has been planned to be completed by 2025, policy and planning framework has been proposed for upcomming FY 2025-2026. 34 LUP will be developed/revised in this FY 2025/26. | L8: No
B12: Output 1.2 | D12: Number of officials (MoTFE, Directorate, Divisions, Sub-divisions, Soil and Watershed Management Office, GESI focal persons) at province level trained in biodiversity conservation and sustainable land management | F12: This activity has been planned for this FY 2025/26. | L12: No
D16: Number of officials at local level trained in land use planning | F16: 155 local level officials trained in land use planning SLM, LD, BD | L16: No
D17: Number of stakeholder networks established/strengthened and operational at provincial and local level | F17: Provincial stakeholders (Provincial Ministries, Civil Society Organizations, Municipality/Rural municipality Association e.t.c) that are the members of the PSC is regarded as a loose network that supports the project operations at the Provincial level. 12 members of the Provincial Stakeholder visited 3 project implementation districts (Terhathum, Illam and Panchthar), to observe the progress of the project. | L17: Yes, the OP used the Provincial Stakeholder who are also the member of the PSC instead of forming and strengethening the new network
B18: Output 1.3 | D18: Number of CFUG members trained in monitoring and evaluation (biodiversity conservation and land degradation neutrality) | F18: 304 individuals( 231 male and 73 females) have been trained on Participatory Assessment Monitoring and Evaluation of Biodiversity (PAMEB) out of which 135 of them are from indigeneous and marginalized group. | L18: No
B22: Output 1.4 | D22: No. of local level landscape maps produced showing critical ecosystem, biodiversity and land degradation hotspots. | F22: 34 local level maps produced showing critical ecosystem, biodiversity and land degradation hotspots. | L22: No
B26: Output 1.5 | D26: Number of Local levels with development and land use plans that integrate land use and biodiversity conservation priorities | F26: This will be implemented during next reporting period. | L26: No
D30: Number of CFUG operational plans (OPs) that integrate biodiversity conservation and SLM. | F30: 70 CFUG were supported to renew their operational plan integrating biodiversity conservation and SLM | L30: No
D31: Number of LFUGs/CBOs with plans that integrate biodiversity conservation and SLM | F31: 5 LFUG were supported with operational plan renewal integrating biodiversity conservation and SLM | L31: No
B32: Outcome 2
B33: Output 2.1 | D33: FIS (FRTC) upgraded, FMIS (MoFE) established, linked to KMIS portal and operational. | F33: Need assessment of existing FMIS (under Provincial Forest Directorate) conducted. ToR developed to hire service provider to upgrade and link to the central FMIS system. ToR shared with MoTFE. Information system related Service Provider will be hired to expand the elements of the FMIS system and link with Divisional Forests Offices with the Provinces to upload all forests related information, also establish linkages with the federal Forests Research and Training Center/ MoFE system. This will allow CFUGs to use information from the system. The entire task will be carried out in the upcoming FY. | L33: No
B37: Output 2.2 | D37: A section/unit is established for KMIS and functional at MoITFE | F37: This will be followed up after the establishment of FMIS system. | L37: No
D41: Provincial KMIS is linked to FIS(FRTC)/FMIS (MoFE) | F41: This will be followed up after the establishment of FMIS system. | L41: No
B42: Output 2.3 | D42: Number of personnel (from CFUGs, local level, Province and MoFE) trained/coached on FIS/KMIS operation and maintenance | F42: This will be followed up after the establishment of FMIS system. | L42: No
B46: Outcome 3.
B47: Output 3.1 | D47: Number of local levels implementing land use interventions that strengthen biodiversity conservation and avoid interventions that negatively affect biodiversity | F47: The activity has been planned for next reporting period. | L47: No
D51: Percentage of project area applying interventions that strengthen biodiversity conservation (out of total area of 3,575 km2) | F51: 4952.5 ha (16%) of community forest area under improved management through Community Forests Operation Plan (CFOP) revision. | L51: No
D52: Number of people benefitting from community-based conservation and sustainable production | F52: This activity has been planned for next reporting period | L52: No
B53: Output 3.2 | D53: Number of CFUGs/ LFUGs/CBOs implementing biodiversity friendly NRM based livelihood practices | F53: 144 (126 CFUG, 5 LFUG, 13 CBOs) CFOP includes the management of forests, livelihoods activities for pro-poor, CFmembers supported with tools/equipments for land management for livelihood practices, CFUGs implement biodversity friendly NRM based livelihood practices through Livelihood Improvement Plan | L53: No
D57: Percentage of project area implementing forest, livestock, agriculture and other livelihoods practices that strengthen biodiversity conservation and sustainable management of forest landscapes (total area-3,575 km2) | F57: This reporting period only supported the agri tools/equipment to HHs/Groups, the area coverage through these implements will be reported in the next reporting period. | L57: No
D58: Number of households benefiting from biodiversity friendly NRM based livelihood practices | F58: 59 (11- Tehrathum, 12 each in 4 in remaining districts)Livelihood Improvement Plan (LIP) for Pro-poor members of CFs/LFs developed within the reporting period in all five districts, however LIP member details are yet to be received | L58: No
B59: Output 3.3 | D59: Number of community based anti-poaching (CBAP) networks established, strengthened and operational | F59: 1 community based anti-poaching network to reduce poaching incidence established at Illam municipality. | L59: No
D63: Number of community-based firefighting (CBFF) networks established, strengthened and operational | F63: 19 Local Level forest fire network established to respond to forest fire. | L63: No
D64: Number of forest fire incidences and area affected by forest fires | F64: Number of reduced forest fire incident record through the establishment of Forest Fire Network will be reported from next FY | L64: No
B65: Output 3.4 | D65: Number of pro-poor biodiversity enhancing livelihood opportunities for forest and farm producer organizations (FFPOs) developed and operational | F65: This activity has been plnned for next reporting period | L65: No
D69: Number of inclusive value chain coordination networks established and operational | F69: 2 NTFP network (1 district level network of 25 NTFP based enterpreneurs formed in Illam, 1 NTFP network of 3 local level-Madi, Dharmadevi & Chainpur) with 24 member) | L69: No
D70: Number of business services strengthened | F70: 11 business service strengethened via different equipment support for NTFP related business | L70: No
B71: Output 3.5 | D71: Number of CFUGs/LFUGs benefitting from market linkages and business services | F71: 11 different CFUGs/FLUGs based enterproze benefitted (1 unit Nettle processing and packaging unit, 1 set Herbal Insence Stick making equipments, 1 unit Oil expeller motor, 1 set Herbal soap making equipments, 1 fibre weaving machine, 1 set dryer machine for herbs drying, 1 set of herbal juice pressing equipment, 3 distillation vessel for 3 different CFUGs, 1 distillation machine) | L71: No
D75: Number of people benefitting from sustainable value chains | F75: Though 11 CFUGs/CBOs were benefited from different equipments related to processing, dying and value addition of products, the beneficiary details of each of these group is yet to receive. | L75: No
B82: Implementation Progress (IP) , and Overall Assessment
B84: Please note that the overall IP ratings should be substantiated by evidence and progress reported above. The ratings and comments shoud reflect the overall progress of results during the fiscal year (July 1 2024, to June 30, 2025)
D85: Project Manager/ Coordinator | F85: Lead Technical Officer | H85: Budget Holder | J85: GEF Operational Focal Point (OFP) | L85: GEF Technical Officer (GTO)
B88: FY2025 Implementation Objective rating10 | D88: Moderately Satisfactory (MS) | F88: Moderately Satisfactory (MS) | H88: Moderately Unsatisfactory (MU) | L88: Moderately Satisfactory (MS)
B91: Comments/reasons justifying the ratings for FY2025 and any changes (positive or negative) in the ratings since the previous reporting period | D91: The project delivery was reached to nearly 70% of the total budget of USD 928,000 during this reporting period. Significant achievement in number of nursery establishment (5 nurseries) with a seedling production of 250,000 in total. A total of 58.03 ha restoration was carried out and 96 CFOPS were prepared for sustainable management of forests. 58 LIPs for Pro-poor households for CFUGs/LUGS was prepared Webpage of the project was developed and currently active, a number of outreach material was produced and dessiminated. Regional visit to learn on the Bamboo cultivation, production technices was done and will be replicated in the project sites, as the Province is highly potential for Bamboo production and marketing. | F91: There were significant delays due to various reasons, including in hiring project staff, which affected the overall implementation. | H91: The project has not been able to achieve the overall target proposed for this reporting period. The technical delivery has not been met in terms of its intended outputs in numbers and figures. Delays were experienced on part of the Operational Partner in incorporating the annual budget in the provincial budget system, resulting in delayed implementation. Delays were also observed in procurement, and the recruitment of required technical experts by the Operational Partner, and the proposed technical experts were not fully onboard to support the implementation of the project in the field. This resulted in implementation of field activities without timely and sufficient technical guidance, support and backstopping. The project can also benefit from strengthening of its Results Framework, M&E, Reporting and Communication/Visibility components. Overall, the technical capacity of the Operational Partner requires strengthening to facilitate timely and effective project implementation. | J91: Comments | L91: Despite the late start, the project's financial delivery is almost on track and aligned with the proposed activities for the reporting period. Close support by FAO, by placing a project officer in the PMU, has helped to strengthen collaboration between FAO and the OP, while also improving capacity of the OP in GEF project execution. However, the hiring of project team has been delayed that partially affected project execution. The PTF mission in February suggested, amongst others, a review of the inconsistency in the project indicators and strengthening coordination with other sectors and at different levels within the Ministry of Tourism, Forest and Environment - federal, province and districts. These points could be taken up during the MTR in 2026.
B108: 9 Variance refers to the difference between the expected and actual progress at the time of reporting. 10 Implementation Progress Rating – A rating of the extent to which the implementation of a project’s components and activities is in compliance with the projects approved implementation plan.

Sheet 4. Summary_Progress & Challenge
B2: 4. Summary on progress and challenges
B3: Please provide a summary paragraph on project implementation progress consistent with the information reported in section 2 and 3 of the PIR (Max 400 words) (This section will be uploaded to the GEF portal)
B5: During the first reporting period, institutions both at center and field were established for the implementation of the project, and orientation to government, stakeholders and benefiicaries on the project objectives and outcome was done. This reporting period made a significant achievements for the project, Though the budget was released in February 2025 to all the field offices of the project, the project made around 70% against (928,000 usd) financial delivery. To support restoration initiatives, 5 nurseries were established to produce a total of 250,000 seedlings, and facilitated restoration of 58.03 ha of land. 96 Community Forests Operational Plans were prepared for sustanible forest management activiites and protect key biodiversity within the CFs. The project supported to establish forest fire network at the local level (Palika) to enhance community engagement and improve early detection and response, though only district wise netwrok was envisioned in the project document. A total of 59 Livelihood Improvement Plans for Pro-poor for CF/LF were prepared to support biodiversity based livelihoods. FECOFUN was activiely engaged in the project for capacity building of women members in community forests, natural resource management to ensure gender mainstreaming in related activiies, ensure meaningful participation and benefit sharing mechanism in all 34 local level reaching to 700 benefiaries. A total of 11 CFUG/CBOs/Groups were supported with equipments related to NTFP processing and packaging. NEFIN was engaged in the project districts to conduct Free Prior Informed Consent (FPIC) for 34 Palika to ensure that Indigenous People benefit have full consent for project activiites in the field, prior to implementation by the Project Support Units at the districts. Forest monitoring and monitoring and management equipment were distributed to the prioritized CFUGs. Agriculture Tools were also distributed to women groups in the targeted areas. The tools supported in reducing tillage, avoiding moisture loss and reducing time of the women when perform manually.
B17: Please provide a summary paragraph on challenges of project implementation consistent with the information reported in section 2 and 3 of the PIR (Max 400 words) (This section will be uploaded to the GEF portal)
B19: 1. Frequent administrative transfers, including the PC Support Officer (6th level officer), the Provincial Secretary and relevant SDFOs have disrupted continuity and weakened institutional memory. At the same time, the absence of a dedicated Finance Officer has created persistent bottlenecks, as financial matters are currently reviewed by finance personnel from the Province Ministry who is able to provide less than 25% of their time to the project. Together, these issues have hindered both technical delivery and financial execution. 2. The recruitment and retention of technical experts has been a major challenge. The initial process to recruit 13 experts took almost three months and resulted in only five being hired. Moreover, these experts were contracted solely for the fiscal year, requiring the entire process to restart with the new fiscal year. This cycle has undermined stability, eroded institutional learning, and created inefficiencies as new staff must be repeatedly oriented. To address this, the project has now approved multi-year contracting for technical experts being hired in the current fiscal year, which is expected to ensure greater continuity, reduce transaction costs, and strengthen consistent technical delivery. 3. Government officials at both the PMU and the district-level PSUs have limited technical understanding of the project’s objectives and results framework. As a result, activities have not always been clearly aligned with intended outputs. While the FAO Country Office has provided orientation to strengthen results tracking, significant gaps remain in ensuring coherence between field activities and the project’s overall results framework. 4. The Government-deputed Project Coordinator, who also serves as an Under Secretary at the Ministry, is only able to allocate around 40% of their time to the project. As all key processes require approval from the coordinator, this limited availability has contributed to procedural delays and slowed decision making.
B26: Implementation of Exit Strategy
B28: Has the project developed an Exit Strategy? If yes, please describe the progress to implement it.
B31: How is the project enhancing institutional capacities to foster country ownership for more durable / sustained results?

Sheet 5. ESS Risk
B2: 5. Environmental and Social Safeguards (ESS): risks from the project
B4: Initial ESS Risk Classification (at CEO Endorsement/Approval Stage) | E4: What was the project’s risk classification (in terms of Environmental and Social safeguards) at CEO Endorsement/Approval Stage? Medium
B7: New environmental and social risks. | E7: Please indicate if any new environmental and social risks were identified in this reporting period. If so, please describe them19. No new E&S risks have been identified duiring this reporting period.
B15: Progress made towards implementing the Enivronmental and Social Management Plan (ESMP) (only for Moderate and High Risk Projects) | E15: 1. During the Plantation Period only native species (Rhododendron spp. , Taxus spp. , Machilus spp. , Daphne spp.- Nepali paper, Edgeworthia spp- Japanese Yen making tree, Castanopsis spp, Gaultheria spp.), were encouraged and planted. During the plantation, inclusion was well maintained. Indigenous people and members of the CFUGs, Palika officials, DFO officials actively participated in the program. Fencing was done to safeguard the area, seedlings and also to allow natural regeneration in 28.1 ha of the plantation area. 2. During the training, at least 30% women is represented in the CFUG committee, also IPs and inclusion is well maintatined. It is reported that 43% were IP and marginalized group in capacity building activities.
B23: Grievance Redress Mechanism (GRM) | E23: The Grievance Redress Mechanism (GRM) was officially initiated on 16 January 2025 with the formation of a 5-member GRM committee including : Project Coordinator, Akhilesh Kumar Gupta- Committee Coordinator, Scientific Officer (GESI Focal Person), Rajesh Tamang- Member, Forest Officer, Binita Subedi- Member, 6th level Officer, Sishu Raj Jha- Member, National Project Facilitator- Member. Stakeholders can register complaints through the following channels: • GRM Complaint Box: Opened monthly on the first Sunday of the Nepali calendar • Official Email: flbeh.motfe@koshi.gov.np • Project Coordinator’s Official Contact Number: 9852040172 • A physical GRM complaint box has been installed at the project site. • The box is opened regularly on the first Sunday of each month. • As of this reporting period, the GRM box has been opened six times in accordance with the schedule. The GRM for FLB Eastern Hills is fully operational and complies with the project’s transparency and accountability commitments. While no complaints have been registered to date, the mechanism remains open, functional, and accessible to all stakeholders through physical and digital means.

Sheet 6. Risks to the Project
B2: 6. Risks to the Project
B4: The following table summarizes risks identified in the Project Document and reflects also any new risks identified during the project implementation.
C7: Type of risk | E7: Risk rating11 | F7: Identified in the ProDoc Y/N | G7: Description of Risk | L7: Mitigation measure implemented
B9: 1 | C9: Institutional | E9: High | F9: Yes | G9: Transfer of Government Deputed Staffs at PMU, MoTFE The Project Coordinator deputed by the government has a dual responsibility also for MoTFE and not finding enough time for the project. The process of hiring experts for the project through OP is lengthy, as it goes through the procument process of the government via technical and financial bidding. The experts that were recruited were only in the project for three months until the end of FY. | L9: PMU will recruit one technical staff in the upcoming FY under the project management cost. This year (July 2025-June 2026), the hiring process is expected to begin from early September 2025, provided the experts will stay for at least for 8 months to support the project (until mid July 2026)
B13: 2 | C13: Partnership & Coordination | E13: Moderate | F13: No | G13: Coordination between Federal MoFE and provincial MoTFE is limited. The Under-secretary Planning Division, MoFE has multiple responsiblities both for MoFE and all GEF funded project in Nepal and is only focal person for GEF project. | L13: The project has no influence over this. However, the project will aim to establish stronger communication flow between the federal and provincial partners.
B18: Project overall risk rating (Low, Moderate, Substantial or High):
B19: FY2024 rating | C19: FY2025 rating | D19: Comments/reason for the rating for FY2025 and any changes (positive or negative) in the rating since the previous reporting period
B21: Moderate | C21: Moderate | D21: The partnership and collababoration is ranked positive for the project, provided effective communication and coordination with federal Minisitry, as the focal Ministry of the GEF should be maintained by the Provincial Ministry. The OP should maintatin partnership at the Provincial as well as level to effectively implement the project in close coordination with local government in bidiverse sensitive planning and monitoring.
B24: 11 Risk ratings means a rating of the overall risk of factors internal or external to the project which may affect implementation or prospects for achieving project objectives. Risk of projects should be rated on the following scale: Low, Moderate, Substantial or High.

Sheet 7. Follow-up on Mid-term review
B2: 7. Follow-up on Mid-term review or supervision mission
B4: If the project had an MTR or a supervision mission in 2024, please report on how the recommendations were implemented during this fiscal year as indicated in the Management Response or in the supervision mission report.
B7: MTR or supervision mission recommendations LTOs, GTOs Supervision | F7: Measures implemented during this Fiscal Year
B9: MTR is yet to be conducted. The supervision mission made recommendations. These are 1: Recruit the 13 experts ASAP | F9: 5 consultants include team leader is on boarded on 15 May, 2025
B11: Recommendation 2: Identify a person for vertical and horizontal coordination | F11: Project coordinator will be a focal person for vertical and horizontal coordination as advice by secretary.
B13: Recommendation 3: Organize monthly meetings to evaluate progress with activities and targets carefully | F13: A side meeting with DFOs was held after the PSC meeting, concluding to conduct monthly virtual meeting
B15: Recommendation 4: Inconsistency in indicators in the project document | F15: PSC to recommend an MTR to review and revise the logframe and indicators, such as incidences of poaching of red pandas, forest fires, policies and plans, etc that may not be realistic and scale down the ambition, where needed.
B17: Recommendation 5: Capacity gaps of the MoTFE, CFUG, NEFIN and other partners | F17: • Develop capacity development strategy informed by needs assessment • Use existing materials for capacity building, such as the FFF tools. • Engage students as interns to spread awareness and transfer skills

Sheet 8. Minor project amendments
B2: 8. Minor project amendments
B4: Minor amendments are changes to the design or implementation that do not have significant impact on the project objectives or scope, or an increase of the GEF project financing up to 5% as described in Annex 9 of the GEF Project and Program Cycle Policy Guidelines 12. Please describe any minor changes that the project has made under the relevant category or categories and provide supporting documents as an annex to this report if available. (This section will be uploaded to the GEF Portal)
B9: Category of change | D9: Provide a description of the change | I9: Indicate the timing of the change | J9: Approved by
B12: Results framework | D12: No Change
B14: Components and cost | D14: No Change
B16: Institutional and implementation arrangements | D16: No Change
B19: Financial management | D19: No Change
B21: Implementation schedule | D21: No Change
B23: Executing Entity | D23: No Change
B25: Executing Entity Category | D25: No Change
B27: Minor project objective change | D27: No Change
B29: Safeguards | D29: No Change
B31: Risk analysis | D31: No Change
B33: Increase of GEF project financing up to 5% | D33: No Change
B36: Co-financing | D36: No Change
... B40: Other minor project amendment (define) | D40: No Change
B49: 12 GEF Council meeting documents, guidelines, project and program cycle policy 2020 update

Sheet 9. Stakeholders' Engagement
C2: 9. Stakeholders' Engagement
C4: Please report on progress, challeges, and outcomes on stakeholder engagement (based on the description of the Stakeholder Engagement Plan) included at CEO Endorsement/Approval during this reporting period. (This section will be uploaded to the GEF Portal)
C8: Profile | E8: Stakeholder name | G8: Type of partnership | H8: Progress, results & Challenges on Stakeholder's Engagement
C9: Government Institutions | E9: Provincial Ministries (MoTFE, MoIAC, MoEAP, MoWSIC) | G9: Host Ministry and PSC member | H9: PSC meeting held, discussed project progress and endorsement on the AWPB.
C10: Government Institutions | E10: Federal Ministry of Forests and Environment | G10: Executing Ministry | H10: Coordination, and Support for budget transfer and release
C11: Government Institutions | E11: Local Government (Municipality and Rural Municipality) | G11: Partner | H11: Municipality and Rural Municipality Association member of PSC
C12: Government Institutions | E12: Divisional Forest Offices | G12: Partner | H12: 5 DFOs are the implementing partner of the project, Project Support Unit established each in DFOs with HR support, plan and budget
C13: Government Institutions | E13: Provincial Forest Directorate | G13: Partner | H13: Support in planning, implementation, and monitoring, and capacity building (Technical Support)
C14: NGOs | E14: Bird Conservation Nepal | G14: Member | H14: Supporting in biodiversity conservation, training and monitoring birds and habitats in districts
C15: NGOs | E15: Local NGOs | G15: District coordination committee member | H15: Project information shared during district consultation
C16: Private Sector entities | E16: NTFP/Herbal product traders Association, Association of Cottage and Small Industries, Agriculture, and forest product-based enterprise | G16: Private entity | H16: Project partnership shared during district inception workshop to collaboration for high level
C17: Private Sector entities | E17: Private Forest Network | G17: PSC member | H17: Support private forests functioning witin the project area
C18: Others | E18: NEFIN (Nepal Federation of Indigenous Nationalities) and FECOFUN (Federation of community Forestry Users Nepal) | G18: PSC member | H18: Support in project implementation.

Sheet 10. Gender Mainstreaming
B2: 10. Gender Mainstreaming
B4: Information on Progress on Gender-responsive measures as documented at CEO Endorsement/Approval in the gender action plan or equivalent (when applicable) during this reporting period. (This section will be uploaded to the GEF Portal)
B6: Category | E6: Yes/No | F6: Briefly describe progress and results achieved during this reporting period.
B8: a. Closing gender gaps in access to and control overal natural resources | E8: Yes | F8: The Gender related training conducted by FECOFUN in all 34 local levels with 700 women beneficiaries participation also added to closing the gender gap for access to and control over natural resources. The training through FECOFUN also supported the project in mainstreaming Gender and increase their awareness to manage and control their natural resources.
B12: b. Improving women's participation and decision making | E12: Yes | F12: FAO contracted FECOFUN (Federation of Community Forestry Users Nepal) to create an enabling environment for gender inclusiveness in the project area, FECOFUN Koshi conducted the following tasks: ToT (Training of Trainers) for CFUG’s (Community Forests User Groups) data collection in 34 wards of project area (Trainee-5 female and 3 male) Capacity Building Training to CFUG members for Improving women's participation and decision making, Closing gender gaps in access to and control overal natural resources was completed at 34 municipality and 700 members were capacitated.
B16: c. generating socio-economic benefits or services for women | E16: Yes | F16: Small agriculture land management tools provided to women group in --level , equipment such as, hand tractor, weeder/mini tiller, mini threasher, grass cutter to generate economic benefits from these tools through their farmland.
