Workbook
Name Countries: Countries!$A$2:$A$250
Name DevCells: '2. Progress towards outcomes'!#REF!
Name DevCells: #REF!
Name DevRatings: '2. Progress towards outcomes'!#REF!
Name DevRatings: #REF!
Name DevScore: #REF!
Name DevScore: _Calc!$D$20
Name ImpCells: '3. Implementation Progress'!$D$82:$M$84
Name ImpRatings: '3. Implementation Progress'!$D$82:$M$84
Name ImpScore: #REF!
Name ImpScore: _Calc!$D$21
Name NumRating: #REF!
Name NumRating: _Calc!$B$2:$B$9
Name TxtRating: #REF!
Name TxtRating: _Calc!$A$2:$A$9
Name Weights: #REF!
Name Weights: _Calc!$E$14:$I$14
Name Weights2: #REF!
Name Weights2: _Calc!$E$17:$H$17

Sheet Table of Contents
B6: FAO-GEF Project Implementation Report
B7: 2025 – Revised Template
B8: Period covered: 1 July 2024 to 30 June 2025
B9: Table of Contents
B10: =HYPERLINK("#'1. Basic project data'!N10","1. BASIC PROJECT DATA") -> 1. BASIC PROJECT DATA
B11: =HYPERLINK("#'2. Progress towards outcomes'!N11","2. PROGRESS TOWARDS ACHIEVING PROJECT OBJECTIVE(S) (DEVELOPMENT OBJECTIVE)") -> 2. PROGRESS TOWARDS ACHIEVING PROJECT OBJECTIVE(S) (DEVELOPMENT OBJECTIVE)
B12: =HYPERLINK("#'3. Implementation Progress'!N12","3. IMPLEMENTATION PROGRESS (IP)") -> 3. IMPLEMENTATION PROGRESS (IP)
B13: =HYPERLINK("#'4. Summary on progress'!N13","4. SUMMARY ON PROGRESS AND CHALLENGES") -> 4. SUMMARY ON PROGRESS AND CHALLENGES
B14: =HYPERLINK("#'5. ESS Risk'!N14","5.ENVIRONMENTAL AND SOCIAL SAFEGUARDS (ESS):RISKS FROM THE PROJECT") -> 5.ENVIRONMENTAL AND SOCIAL SAFEGUARDS (ESS):RISKS FROM THE PROJECT
B15: =HYPERLINK("#'6. Risks to the project'!N15","6. RISKS TO THE PROJECT") -> 6. RISKS TO THE PROJECT
B16: =HYPERLINK("#'7. Follow-up on Mid-term review'!N16","7. FOLLOW-UP ON MID-TERM REVIEW OR SUPERVISION MISSION") -> 7. FOLLOW-UP ON MID-TERM REVIEW OR SUPERVISION MISSION
B17: =HYPERLINK("#'8. Minor project amendments'!N17","8. MINOR PROJECT AMENDMENTS") -> 8. MINOR PROJECT AMENDMENTS
B18: =HYPERLINK("#'9. Stakeholders' Engagement'!N18","9. STAKEHOLDERS' ENGAGEMENT") -> 9. STAKEHOLDERS' ENGAGEMENT
B19: =HYPERLINK("#'10. Gender Mainstreaming'!N19","10. GENDER MAINSTREAMING") -> 10. GENDER MAINSTREAMING
B20: =HYPERLINK("#'11. Knowledge Management'!N20","11. KNOWLEDGE MANAGEMENT ACTIVITIES") -> 11. KNOWLEDGE MANAGEMENT ACTIVITIES
B21: =HYPERLINK("#'12. Indigenous & Local Involve.'!N21","12. INDIGENOUS PEOPLES AND LOCAL COMMUNITIES INVOLVEMENT") -> 12. INDIGENOUS PEOPLES AND LOCAL COMMUNITIES INVOLVEMENT
B22: =HYPERLINK("#'13. Co-Financing Table'!N22","13. CO-FINANCING TABLE") -> 13. CO-FINANCING TABLE
B23: =HYPERLINK("#'14. GEO Location'!N23","14. GEO LOCATION INFORMATION") -> 14. GEO LOCATION INFORMATION
B24: =HYPERLINK("#' GEF-5 LDCF Indicators'!N27"," GEF-5 LDCF Indicators") -> GEF-5 LDCF Indicators
B25: =HYPERLINK("#'GEF6&7 LDCF Core Indicators'!N28"," GEF 6&7 LDCF Core Indicators") -> GEF 6&7 LDCF Core Indicators
B26: =HYPERLINK("#'Annex'!N26","Annex. Monitoring Area-based GEF Core Indicator Commitments and Progress with FERM") -> Annex. Monitoring Area-based GEF Core Indicator Commitments and Progress with FERM
B29: IMPORTANT DISCLAIMER:
B30: The final version of this PIR will be submitted to the GEF Secretariat.
B31: The report will then be publicly available on the GEF website (click here).
B32: Sensitive information should be submitted in Annex to be uploaded separately.
B33: In such cases, please contact faogef-pir-support@fao.org for guidance.

Sheet _Calc
A1: Rating text | B1: Score
A2: Highly Unsatisfactory (HU) | B2: 1
A3: Unsatisfactory (U) | B3: 2
A4: Moderately Unsatisfactory (MU) | B4: 3
A5: Moderately Satisfactory (MS) | B5: 4
A6: Satisfactory (S) | B6: 5
A7: Highly Satisfactory (HS) | B7: 6
A8: Unknown | B8: 0
A9: Not Rated | B9: 0
D12: for DevScore
D13: Person | E13: PM/Coord | F13: Budget Holder | G13: LTO | H13: GEF OFP | I13: GTO
D14: Weight % | E14: 20 | F14: 25 | G14: 25 | H14: 0 | I14: 30
D15: For ImpScore
D16: Person | E16: PM/Coord | F16: LTO | G16: GEF OFP | H16: GTO
D17: Weight % | E17: 25 | F17: 35 | G17: 0 | H17: 40
A19: Once you've filled in 2. Progress towards outcomes & 3. Implementation Progress
A20: Please double click and press enter on Cells D20 and D21 | D20: {=_xlfn.LET(_xlpm.hdrRow,MATCH("*Development*Objective*rating*",'2. Progress towards outcomes'!$C:$C,0),_xlpm.rRow,_xlpm.hdrRow+1,_xlpm.ratings,INDEX('2. Progress towards outcomes'!$D:$H,_xlpm.rRow,0),_xlpm.scores,_xlfn.XLOOKUP(_xlpm.ratings,TxtRating,NumRating,0),ROUND(SUMPRODUCT(_xlpm.scores,Weights)/SUM(Weights),0))} -> 3
D21: {=ROUND( SUMPRODUCT( _xlfn.XLOOKUP( CHOOSE({1,2,3,4}, '3. Implementation Progress'!D82, '3. Implementation Progress'!F82, '3. Implementation Progress'!H82, '3. Implementation Progress'!L82 ), TxtRating, NumRating, 0 ), Weights2 ) / SUM(Weights2), 0)} -> 4

Sheet 1. Basic project data
B2: 1. Basic Project Data
B3: General Information
B4: Region: | E4: Africa (RAF)
B5: Country(ies): | E5: Guinea
B6: Project Title: | E6: Integrated management of degraded landscapes for sustainable food systems and livelihoods in Guinea Forest Region and Upper Guinea
B7: FAO Project Symbol: | E7: GCP /GUI/024/GFF
B8: GEF ID: | E8: 10600
B9: Type of Trust Fund(s): | E9: GFF
B10: GEF Focal Area(s): | E10: Biodiversity, Land Degradation, Climate Change Mitigation, IP FOLUR, MFA
B11: Project Executing Partners: | E11: DNFF, ANAFIC, SERPROCA
B12: Initial project duration (years): | E12: 5
B13: Project Dates
B14: GEF CEO Endorsement Date: | E14: 44669
B15: Actual Agency Approval Date | E15: 44536
B16: Project Implementation Start Date/EOD: | E16: 44986
B17: First Disbursement Date | E17: 45596
B18: Planned Project End Date/NTE1: | E18: 46812
B19: Revised project implementation End date (if approved)2: | E19: 47208
B20: Actual Completion Date: | E20: N/A
B21: Expected Financial Closure Date: | E21: 47573
B22: Funding
B23: GEF Grant Amount (USD): | E23: 9498165
B24: Total GEF grant delivery (as of June 30, 2025 (USD): | E24: 1960706.5
B25: Total Co-financing amount (USD)3: | E25: ='13. Co-Financing Table'!K19 -> 43395420
B26: Total estimated co-financing materialized as of June 30, 2025: | E26: ='13. Co-Financing Table'!N19 -> 8112311
B27: M & E Milestones
B28: Date of Last Project Steering Committee (PSC) Meeting: | E28: No PSC meeting as of yet
B29: Expected Mid-term Review date5: | E29: 46631
B30: Actual Mid-term review date (if already completed): | E30: N/A
B31: Expected Terminal Evaluation Date6: | E31: 46997
B32: Overall ratings
B33: Overall rating of progress towards achieving objectives/outcomes (cumulative): | E33: =_xlfn.XLOOKUP(DevScore, NumRating, TxtRating, "Not Rated") -> Moderately Unsatisfactory (MU)
B34: Overall implementation progess rating: | E34: =_xlfn.XLOOKUP(ImpScore, NumRating, TxtRating, "Not Rated") -> Moderately Satisfactory (MS)
B35: Overall risk rating: | E35: ='6. Risks to the Project'!C46 -> Moderate
B36: Status
B37: Implementation Status (1st PIR, 2nd PIR, etc. Final PIR): | E37: 1st PIR
B40: 1 Date that was originally foreseen at the project’s operationalization and indicated in FPMIS. 2 If NTE extension has been requested and approved by the FAO-GEF Coordination Unit. 3 This is the total amount of co-financing as included in the CEO Document/Project Document. 4 Please refer to the Section 13 of this report where updated co-financing estimates are requested and indicate the total co-financing amount materialized. 5 The Mid-Term Review (MTR) should take place after the 2nd PIR, around half-point between EOD and NTE. The MTR report in English should be submitted to the GEF Secretariat within 4 years of the CEO Endorsement date. 6 The Terminal Evaluation date should be discussed with OED 6 months before the project’s NTE date.
B45: Project Contacts
B46: Contact | E46: Name, Title, Division/Institution | I46: E-mail
B47: Project Coordinator (PC) | E47: Koéro Bernard Haba | I47: koerobernard@gmail.com
...

Sheet 2. Progress towards outcomes
B1: 2. Progress towards Achieving Project Objective(s) (Development objective)
B3: (All inputs in this section should be cumulative from project start, not annual)
B5: Please indicate the project’s main progress towards achieving its objective(s) and the cumulative level of achievement of each outcome since the start of project implementation.
B6: Project or Development Objective | C6: Outcomes | D6: Outcome indicators | E6: Baseline | F6: Mid-term Target | G6: End-of-project Target | H6: Cumulative progress level at 30 June 2025 | I6: % of cumulative progress | J6: Progress rating
B7: To promote sustainable and comprehensive food systems that are deforestation free and provide ecosystem services, with a focus on palm oil productive landscapes | C7: Outcome 1
C8: Planning, monitoring and enabling conditions enhanced for integrated landscape management | D8: # of multistakeholder mechanisms, with equal representation of male and woman, developed or strengthened to plan and monitor ILM and FLR | E8: 0 | F8: 20 | G8: 25 | H8: 0 | I8: 0 | J8: Unsatisfactory (U)
D9: # of ha covered by evidence-based participatory ILM plans (contributing to Core Indicator 4: Area of landscapes under improved practices ) | F9: 100,000 | G9: 150,000 | H9: 0 | I9: 0 | J9: Unsatisfactory (U)
D10: # stakeholders trained in ILM planning and implementation | F10: 300 (including 150 women) | H10: 0 | I10: 0 | J10: Unsatisfactory (U)
D11: # of ILM participatory plans developed | F11: 8 | G11: 13 | H11: 0 | I11: 0 | J11: Unsatisfactory (U)
D12: # of policy frameworks updated to foster ILM | F12: 1 | G12: 3 | H12: 0 | I12: 0 | J12: Unsatisfactory (U)
D13: # of integrated national land use planning and monitoring system | H13: 0 | I13: 0 | J13: Unsatisfactory (U)
D14: # of products, tools and approaches developed and effectively shared through the FOLUR IP Global platform | F14: TBC | H14: 0 | I14: 0 | J14: Unsatisfactory (U)
C15: Outcome 2 Agricultural land within mixed rice and palm oil productive landscapes, managed sustainably and responsible value chains promoted. | D15: # of ha of landscapes under SLM in production systems (Core Indicator 4.3) - this includes the wider area under the plans and direct SLM interventions on 15,000 ha. | F15: tbd | G15: 145,000 | H15: 0 | I15: 0 | J15: Unsatisfactory (U)
D16: # of ha of palm oil plantation in process of certification (Core Indicator 4.2 Area of landscapes that meet national or international third-party certification that incorporates biodiversity considerations) | F16: 1,000 | G16: 5,000 | H16: 0 | I16: 0 | J16: Unsatisfactory (U)
D17: #communes implementing a Local Development Plan (LDP) and an Investment Plan including integrated land management activities | F17: 5 | G17: 13 | H17: 0 | I17: 0 | J17: Unsatisfactory (U)
D18: # stakeholders implementing climate resilient and environmentally sound agricultural practices (including sustainable rice, agroforestry with palm trees, etc.) – 50% of which are women | F18: 5 000 | G18: 13.000 | H18: 0 | I18: 0 | J18: Unsatisfactory (U)
D19: # hectares of palm groves (Dura and Tenera) under improved practices | F19: 1 000 | G19: 3 500 | H19: 0 | I19: 0 | J19: Unsatisfactory (U)
D20: # groups trained and equipped for better palm oil processing | F20: 6 (at least 50% of the groups are led by women) | G20: 15 (at least 50% of the groups are led by women) | H20: 0 | I20: 0 | J20: Unsatisfactory (U)
D21: # inclusive businesses (small and large) with sustainable and growing activity (50% led by women) | F21: 10 (at least 50 % leading by women) | G21: 20 (at least 50 % leading by women) | H21: 0 | I21: 0 | J21: Unsatisfactory (U)
D22: # hectares of palm groves under certification | F22: 1 000 | G22: 5 000 | H22: 0 | I22: 0 | J22: Unsatisfactory (U)
C23: Outcome 3: Degraded sites of high environmental value restored and protected | D23: # # of ha of degraded farmland and forest under restoration rehabilitation and improved management. (Core Indicator 3.1 Area of degraded agricultural land restored: 4,000ha + Core Indicator 3.2 Area of forest and forest land restored: 6,000ha) | F23: 5,000 | G23: 10,000 | H23: 0 | I23: 0 | J23: Unsatisfactory (U)
D24: # Metric tons of CO2e of GHG Emissions Mitigated (Core indicator 6.1: Carbon sequestered or emissions avoided in the AFOLU sector) | G24: 6,187,155 | H24: 0 | I24: 0 | J24: Unsatisfactory (U)
D25: # Supported NTFP value chains | F25: 2 | G25: 4 | H25: 0 | I25: 0 | J25: Unsatisfactory (U)
D26: # MUSD raised through innovative financing mechanisms (50% of funds go to women-led initiatives) | F26: 1 | H26: 0 | I26: 0 | J26: Unsatisfactory (U)
C27: Outcome 4 Successful execution of the project in an effective manner, with knowledge shared through the FOLUR global platform | D27: # of products, tools and approaches developed and effectively shared through the FOLUR IP Global platform | E27: 0 | F27: 5 | G27: 20 | H27: 0 | I27: 0 | J27: Unsatisfactory (U)
D28: # of people reached by the project’s communication and dissemination work (50% women) | F28: 20,000 (50% women) | G28: 100,000 (50% women) | H28: 4999 | I28: 0.05 | J28: Moderately Satisfactory (MS)
D29: # M&E system put in place to ensure adaptive management | F29: 1 | H29: 0 | I29: 0 | J29: Unsatisfactory (U)
B31: Average Cumulative progress toward outcomes (%) | C31: Time elapsed since project start/EOD vs Planned Project End Date | D31: % of delivery
B32: =IFERROR(AVERAGE(I7:I29),"") -> 0.0022727273 | C32: =IF(OR('1. Basic project data'!E16="",'1. Basic project data'!E18=""),"",(TODAY()-'1. Basic project data'!E16)/('1. Basic project data'!E18-'1. Basic project data'!E16)) -> 0.50657174 | D32: =IF('1. Basic project data'!E23=0,"",'1. Basic project data'!E24/'1. Basic project data'!E23) -> 0.20643003
B38: Development Objective (DO) Ratings, and Overall Assessment
B39: Please note that the overall DO ratings should be substantiated by evidence and progress reported above. The ratings and comments should reflect the overall progress of results since project start
C41: FY2025 Development Objective rating¹ | D41: Project Manager/ Coordinator | E41: Budget Holder | F41: Lead Technical Officer | G41: GEF Operational Focal Point | H41: GEF Technical Officer (GTO)
D42: Moderately Satisfactory (MS) | E42: Moderately Unsatisfactory (MU) | F42: Moderately Unsatisfactory (MU) | H42: Moderately Unsatisfactory (MU)
C43: Comments/reasons¹² justifying the ratings for FY2025 and any changes (positive or negative) in the ratings since the previous reporting period | D43: The activities planned for the period have largely been completed and mainly consist of training and capacity building for key stakeholders, as well as dissemination to raise awareness among communities. However, difficulties in acquiring equipment for the implementation of the project (three vehicles and 60 motorcycles) have caused delays in the implementation of activities. Discussions are underway to take the appropriate measures to finalise the various processes for acquiring equipment and logistics for the project. It should also be noted that the communities benefiting from the project are committed and demonstrate a genuine motivation to ensure the success of the project and to contribute actively to the sustainable improvement of their living conditions. | E43: The project got off to a slow start due to difficulties in understanding the disbursement procedures by the three partners and also by FAO Guinea, which is implementing its first OPIM project. Although the launch workshop took place in July 2024, activities did not really begin until February 2025, with the establishment of the PMU and the organisation of the partners. Going forward, it is crucial to maintain good coordination between the partners and the FAO Guinea team. Now that the procedures are better understood, no further delays are expected. Continued technical support from the GEF, the LTO teams (headquarters and SFW), and the technical units at headquarters will be essential to accelerate implementation and achieve results by July 2026. | F43: The project experienced significant delays during this period. The official launch workshop took place in July 2024, and between July 2024 and January 2025, no activities could be implemented due to difficulties in understanding and implementing the procedures for making funds available to the three operational partners. The activities themselves finally started in February 2025. Since then, the PMU has been set up and the partners are starting to get organised. It is essential that, for the coming period, the PMU continues to develop a clear workflow between the three operational partners and the FAO teams in Conakry. The procedures are now known and should therefore no longer cause delays. Joint support from the GEF unit, the LTO units (headquarters and SFW) and other technical teams at headquarters will be particularly important to accelerate implementation and ensure significant results by July 2026. | H43: After significant delays in the launch phase due to the novelty of the partnership model, concrete activities have begun. It is still too early to identify progress towards the expected results; however, the mobilisation of communities and local authorities during the initial training sessions and public meetings demonstrates strong expectations that the implementation of the work plan will deliver results, otherwise there is a risk of disappointment and demobilisation.
B45: Measures to address MS, MU, U and HU ratings on Section 2 above
B48: Outcome | D48: Action(s) to be taken | F48: By whom? | H48: By When?
B49: Outcome 1: Planning, monitoring and enabling conditions enhanced for integrated landscape management. | D49: Provision of funds - Facilitate the disbursement of funds for the advancement of activities (consider the possibility of opening a project sub-account in a primary bank managed by the operational partners themselves) upon validation of the TOR - Finalisation and validation of the meeting framework note and reporting (no later than 4 July 2025) Ensure implementation of the framework note (PMU) for the duration of the project - Preparation of PDLs Finalise the process of acquiring logistical resources (vehicles, motorcycles and computers) DNFF and SERPROCA (15 July) | F49: FAO, PMU, OPs | H49: Imminent / Jul - Sept 2025
B50: Outcome 2 Agricultural land in mixed rice and palm oil productive landscapes, sustainably managed and responsible value chains promoted. | D50: Accelerate the process of accurately identifying sites for sustainable agriculture practices. | F50: SERPRO-CA | H50: Jul - Sept 2025
B51: Outcome 3 Degraded sites with high environmental value restored and protected. | D51: Accelerate the process of accurately identifying sites for the restoration of degraded landscapes. | F51: DNFF | H51: Jul - Sept 2025
B52: Outcome 4 Successful execution of the project in an efficient manner, with knowledge shared through the global FOLUR platform | D52: The commitment of operational partners and the participation of indigenous peoples and local communities in the implementation of activities; Provision of funds in real time to ensure that the implementation schedule is adhered to; Involvement of universities, the media and CSOs in knowledge sharing. | F52: DNFF, ANAFIC, SERPRO-CA, FAO, PMU, Universities, OSCs & media | H52: Jul 25 -June 2026
...

Sheet Countries
A1: Select Country
A2: Afghanistan
A3: Åland Islands
A4: Albania
A5: Algeria
A6: American Samoa
A7: Andorra
A8: Angola
A9: Anguilla
A10: Antarctica
A11: Antigua and Barbuda
A12: Argentina
... A250: Zimbabwe

Sheet TypeofTrustFund
A1: Type of Trust Fund
A2: Capacity-building Initiative for Transparency (CBIT)
A3: Global Biodiversity Framework Fund (GBFF)
A4: Global Environment Facility Trust Fund (GFF)
A5: Least Developed Countries Fund (LDCF)
A6: Special Climate Change Fund (SCCF)
A7: Small Grants Program (SGP)

Sheet FocalArea
A1: Focal Area
A2: Multi Focal Area
A3: Biodiversity
A4: Chemicals and Waste
A5: Chemicals/PoPs
A6: Climate Change
A7: Climate Change Adaptation
A8: Climate Change Mitigation
A9: International Waters
A10: Land Degradation

Sheet 3. Implementation Progress
B1: 3. Implementation Progress (IP)
B3: (Please indicate progress achieved during this FY as per the Implementation Plan/Annual Workplan)
B5: Outcomes and outputs | D5: Indicators (as per the logical framework) | F5: Main achievements in the last 12 months (please DO NOT repeat results reported in previous year PIR) | L5: Describe any variance 9 in delivering outputs
B7: Outcome 1.1: Planning, monitoring and enabling conditions enhanced for integrated landscape management
B8: Output 1.1.1 Intersectoral and multistakeholder (including private sector) coordination and collaboration mechanisms established and / or strengthened at national and landscape level to plan and monitor ILM and FLR | F8: 1. Capacity building for 82 local actors in rural municipalities, including 7 women, to update the 13 Local Development Plans (LDPs) and Annual Investment Programmes, including integrated land management and restoration of degraded landscapes. 2. Capacity building for 26 Receivers and Secretaries General of the 13 rural municipalities, including 2 women, on the administrative and financial management of Annual Investment Programmes (AIPs). 3. Technical supervision and support for the 13 municipalities in the PDL development process. This reached 340 local actors, including 67 women. | L8: N/A
B12: Output 1.1.2 Technical capacities of national and local authorities to plan, implement and update integrated green land use plans, enhanced | F12: No activities under this output in the reporting year. | L12: N/A
B16: Output 1.1.3 Integrated land use plans for the target landscape developed based on field and remotely-sensed evidence and on stakeholder engagement | F16: No activities under this output in the reporting year. | L16: N/A
B20: Output 1.1.4 Agriculture, forestry and land tenure policies and legal frameworks updated and coordinated to foster ILM, restoration of degraded landscapes and deforestation free agricultural development | F20: No activities under this output in the reporting year. | L20: N/A
B24: Output 1.1.5 Integrated national land use planning and monitoring system including forestry data in place with data sharing protocols, and used to report on national and international commitments (Rio conventions and LDN Targets, Bonn Challenge, AFR100) | F24: No activities under this output in the reporting year. | L24: N/A
B30: Outcome 2.1: Agricultural land within mixed rice and palm oil productive landscapes, managed sustainably and responsible value chains promoted.
B31: Output 2.1.1 Climate-resilient and ecologically sound intensification models implemented in smallholder production systems of the selected landscape over 10,000 ha | F31: Training of 24 SERPROCA agents (agricultural operations officers and agricultural advisors) on sustainable agricultural practices in the rice, palm oil, market gardening and agroforestry sectors, including five women. 2. Raising awareness among 1,629 producers, including 633 women, on sustainable and climate-smart agricultural practices. 3. Supervision of field activities. | L31: N/A
B35: Output 2.1.2 Stakeholders capacities strengthened with knowledge, equipment, tools and trainings (e.g. FFS at farmer’s level) for a more efficient and responsible palm oil value chain from producer to buyer | F35: No activities under this output in the reporting year. | L35: N/A
B39: Output 2.1.3 Inclusive business models catalyzed (addressing, inter alia, women empowerment, innovative finance, market access) in collaboration with cooperatives and private sector | F39: No activities under this output in the reporting year. | L39: N/A
B43: Output 2.1.4 Sustainable palm oil standards, certification and traceability schemes developed and implemented | F43: No activities under this output in the reporting year. | L43: N/A
B52: Outcome 3.1: Degraded sites of high environmental value restored and protected
B53: Output 3.1.1 Restoration practices that will enhance the biodiversity and long-term climate-resilience of degraded forests and agrosylvopastoral systems implemented in selected sites of the landscape | F53: 1. Training of 25 trainers, including 6 women, composed of representatives of the Prefectural Forestry and Wildlife Sections of the Upper Guinea and Forest Guinea regions, members of civil society and local PMU facilitators on restoration options. 2. Feedback on training on options for restoring degraded landscapes in the Prefectural Forestry and Wildlife Sections and in the 13 project municipalities. 3. Supervision of field activities. | L53: N/A
B57: Output 3.1.2 Local producers organizations strengthened to identify and run profitable NWFP and other green businesses jects | F57: This activity was planned for the last quarter (April, May, June) but has not yet been carried out. | L57: N/A
B61: Output 3.1.3 Innovative arrangements for financing restoration of degraded areas tested, including partnerships with private sector (e.g. mining) and development of bankable pro | F61: No activities under this output in the reporting year. | L61: N/A
B65: Outcome 4.1: Successful execution of the project in an effective manner, with knowledge shared through the FOLUR global platform
B66: Output 4.1.1: Knowledge products, tools and approaches developed and shared through the FOLUR IP Global platform and other relevant platforms | F66: No activities under this output in the reporting year. | L66: N/A
B70: Output 4.1.2: Operational project M&E system in place | F70: Limited progress achieved in the establishment of the M&E system. In the first actual implementation year, M&E efforts have mostly consisted in getting acquainted with the various reporting requirements and setting up a workflow between the PMU, executing partners and FAO. | L70: Full-on M&E plan still to be developed
B76: Implementation Progress (IP) , and Overall Assessment
B78: Please note that the overall IP ratings should be substantiated by evidence and progress reported above. The ratings and comments shoud reflect the overall progress of results during the fiscal year (July 1 2024, to June 30, 2025)
D79: Project Manager/ Coordinator | F79: Lead Technical Officer | H79: Budget Holder | J79: GEF Operational Focal Point (OFP) | L79: GEF Technical Officer (GTO)
B82: FY2025 Implementation Objective rating10 | D82: Moderately Satisfactory (MS) | F82: Moderately Satisfactory (MS) | H82: Moderately Satisfactory (MS) | L82: Moderately Satisfactory (MS)
B85: Comments/reasons justifying the ratings for FY2025 and any changes (positive or negative) in the ratings since the previous reporting period | D85: The activities planned for the period have been carried out and consist of training and capacity building for key stakeholders, as well as feedback on the training and community awareness-raising. However, difficulties in acquiring equipment (three vehicles and 60 motorcycles) have caused significant delays in the implementation of activities. Nevertheless, the communities are committed to ensuring the success of the project and to actively contributing to the sustainable improvement of their living conditions. | F85: The implementation of planned project activities has been delayed due to a lack of familiarity with OPIM procedures and funding requests by the three operational partners. Activities began in February 2025. Since then, the partners have started to organise themselves, the PMU is operational and has put in place tools to organise the workflow. The first quarterly work plans have been completed. The first awareness-raising, mobilisation and training activities have taken place, the communities have been mobilised and have confirmed their commitment to actively contribute to the project activities. The implementation of activities is at an early stage and results are not yet visible. For the coming period, implementation needs to be accelerated, particularly with regard to municipal investments and community restoration activities. | H85: The project started late, mainly due to a misunderstanding of OPIM procedures and funding requests by the three partners. This delay disrupted the initial schedule. Since February 2025, things have started to improve. The Project Management Unit (PMU) is operational and is putting tools in place to better organise the work. The first work plans have been completed, and awareness-raising, mobilisation and training activities have begun. The communities are committed and ready to participate actively. However, the project is still in its early stages of implementation, and results are not yet visible. It is therefore essential to accelerate activities, especially those related to community investments and restoration by communities. As Budget Holder, I recommend: Strengthening technical support to partners to improve the implementation of OPIM procedures. Improving planning to make up for delays. Strengthening coordination between stakeholders, especially at the local level. Closely monitoring indicators to quickly adjust actions. | J85: Comments | L85: After a long phase of learning and familiarisation with the partnership modality by both national partners and FAO Guinea, working practices were established during the reporting period. This should make it possible to make up for the delay in implementation and prevent any further delays by anticipating difficulties and resolving them promptly when they arise. This will only be possible through excellent communication between the various parties and within the FAO team, an area in which progress has been noted.
B102: 9 Variance refers to the difference between the expected and actual progress at the time of reporting. 10 Implementation Progress Rating – A rating of the extent to which the implementation of a project’s components and activities is in compliance with the projects approved implementation plan.

Sheet 4. Summary_Progress & Challenge
B2: 4. Summary on progress and challenges
B3: Please provide a summary paragraph on project implementation progress consistent with the information reported in section 2 and 3 of the PIR (Max 400 words) (This section will be uploaded to the GEF portal)
B5: The implementation of planned project activities has been delayed due to a lack of familiarity with the OPIM approach and delays in the disbursement of funds. In terms of progress, the following key points can be mentioned:  Coordination meetings held by the project management unit;  Consultation meetings between the PMU, FAO and operational partners  Preparation and organisation of the official project launch workshop  Training of DNFF trainers on forest and landscape restoration options  Feedback from the training of trainers on forest and landscape restoration options in the prefectural forestry and wildlife departments and in the 13 project municipalities  Training of SERPROCA agents (agricultural operations officers and agricultural advisers) on sustainable agricultural practices  Raising awareness among producers on good practices in sustainable and climate-smart agriculture  Capacity building for local actors in the process of developing PDLs for the 13 rural municipalities  Capacity building for municipal secretaries-general and revenue collectors on the administrative and financial management of PAI  Supervision and support mission by the PMU  Joint mission (PMU, ANAFIC, SERPROCA, DNFF, FAO Guinea and FAO Headquarters)  Participation of operational partners in international conferences in Malaysia and Vietnam
B17: Please provide a summary paragraph on challenges of project implementation consistent with the information reported in section 2 and 3 of the PIR (Max 400 words) (This section will be uploaded to the GEF portal)
B19: In terms of challenges 1. Implementation of activities in accordance with the workplan 2. Provision of vehicles and motorcycles to facilitate the implementation of activities in the field 3. Facilitating the disbursement of funds for the implementation of planned activities 4. Smooth communication between the parties involved
B26: Implementation of Exit Strategy
B28: Has the project developed an Exit Strategy? If yes, please describe the progress to implement it. | F28: No exit strategy developed as such, but key actions are being taken to ensure the sustainability of the project outcomes: - 1. Capacity building for decentralised technical services (DNFF, SERPROCA) and decentralised services (presidents of special delegations, secretaries-general of municipalities, municipal tax collectors, community technical officers) - 2 Integration of integrated land management activities into the PDL and PAI is ongoing. - 3.Participation of operational partners in international conferences: - Vietnam in the regional dialogue of the FOLUR project on low-emission rice extension in all landscapes - Malaysia in the regional dialogue of FOLLUR on oil palm and responsible value chains. These conferences enabled the sharing of knowledge on rice and oil palm within the framework of the implementation of project GCP/GUI/024/GFF.
B31: How is the project enhancing institutional capacities to foster country ownership for more durable / sustained results? | F31: 1. Through the OPIM approach, the institutional capacities of operational partners are strengthened by providing funds to enhance their managerial and administrative capacities. 2. Promotion of synergies between operational partners in project implementation.

Sheet 5. ESS Risk
B2: 5. Environmental and Social Safeguards (ESS): risks from the project
B4: Initial ESS Risk Classification (at CEO Endorsement/Approval Stage) | E4: Low risk
B7: New environmental and social risks. | E7: No new risk identified
B15: Progress made towards implementing the Enivronmental and Social Management Plan (ESMP) (only for Moderate and High Risk Projects) | E15: N/A
B23: Grievance Redress Mechanism (GRM) | E23: To date, no complaints were received. There is an Operational Complaints Management Committee (CGR) in every rural municipality in Guinea.

Sheet 6. Risks to the Project
B2: 6. Risks to the Project
B4: The following table summarizes risks identified in the Project Document and reflects also any new risks identified during the project implementation.
C7: Type of risk | E7: Risk rating11 | F7: Identified in the ProDoc Y/N | G7: Description of Risk | L7: Mitigation measure implemented
B9: 1 | C9: Operational & Logistical | E9: Low | F9: Yes | G9: Insufficient capacity within the relevant ministerial departments and decentralised agencies to successfully engage in a complex, global, multisectoral and multi-level GIT programme. | L9: The appointment of focal points at the operational partner level (DNFF, SERPROCA and ANAFIC) and support for their ownership of the project; Participatory development of the framework note defining the types of meetings and reporting in the process of implementing project activities by the PMU, DNFF, ANAFIC, SERPROCA and FAO ; Capacity building for decentralised and devolved services
B13: 2 | C13: Political | E13: Low | F13: Yes | G13: The lack of political stability to support integrated planning and implementation. Turnover and changes among decision-makers and institutional arrangements that are not under the control of the project can lead to an unstable environment that hinders the long-term success of the project | L13: The designated focal points are managers from the various operational partners who ensure the operationalisation of activities in the field. The Project Management Unit provides technical support to operational partners in the implementation of the project. FAO, which plays the role of quality assurance and supervision of activities in collaboration with the PMU.
B17: 3 | C17: Operational & Logistical | E17: Low | F17: Yes | G17: The project is unable to obtain the external expertise and technical assistance necessary for the successful implementation of the project within the time frame. | L17: DNFF has recruited a consultant to train trainers on restoration options. SERPROCA has signed a service agreement with IRAG to strengthen the capacity of its agents on sustainable agriculture practices.
B21: 4 | C21: Social | E21: Low | F21: Yes | G21: Local communities are reluctant to commit to or abandon the adoption of ITM/RPF in their respective landscapes. | L21: During the joint mission by the PMU, FAO, ANAFIC, DNFF and SERPROCA, these communities reiterated their commitment to actively participate in the implementation of the project in order to ensure its success and contribute to the sustainable improvement of their living conditions. This commitment was demonstrated by the provision of land for the establishment of farmer training fields and agroforestry activities, illustrating their concrete willingness to support the project's momentum.
B25: 5 | C25: Social | E25: Low | F25: Yes | G25: The project interventions do not take gender into account. | L25: Organisation of special focus groups for women and young people during the updating of the PDLs to take their concerns into account. Agreement on speaking time for women and young people during workshops and supervision missions
B29: 6 | C29: Environmental | E29: Substantial | F29: Yes | G29: The current and future impacts of climate change threaten the sustainability of GIT/RFP investments. | L29: Capacity building for local actors in the 13 rural municipalities benefiting from the project to integrate GIT and restoration activities into local development plans
B33: 7 | C33: Partnership & Coordination | E33: Moderate | F33: Yes | G33: The private sector is reluctant to invest in GIT/RFP. | L33: To date, there has been no agreement between the project and the private sector.
B37: 8 | C37: Social | E37: Low | F37: Yes | G37: The COVID-19 crisis or another health crisis (Ebola or Marburg fever) persists and has operational effects on the implementation and institutional/governance arrangements of the project. | L37: During this period, no health crisis was recorded by the competent authorities in the project area.
B43: Project overall risk rating (Low, Moderate, Substantial or High):
B44: FY2024 rating | C44: FY2025 rating | D44: Comments/reason for the rating for FY2025 and any changes (positive or negative) in the rating since the previous reporting period
B46: Moderate risk | C46: Moderate | D46: The level of risk is stable; however initial delays due to slow project implementation have highlighted the inherent complexity of the operational modality.
B49: 11 Risk ratings means a rating of the overall risk of factors internal or external to the project which may affect implementation or prospects for achieving project objectives. Risk of projects should be rated on the following scale: Low, Moderate, Substantial or High.

Sheet 7. Follow-up on Mid-term review
B2: 7. Follow-up on supervision mission
B4: If the project had an MTR or a supervision mission in 2024, please report on how the recommendations were implemented during this fiscal year as indicated in the Management Response or in the supervision mission report.
B7: MTR or supervision mission recommendations | F7: Measures implemented during this Fiscal Year
B9: Recommendation 1: Strengthen the involvement of the Project Management Unit (PMU) from the preparatory phase of activities, particularly when its technical expertise is crucial to their smooth running. | F9: The PMU's technical support in developing the terms of reference and its assistance in implementing training workshops for trainers on restoration options; capacity building for SERPROCA agents on sustainable agriculture practices; capacity building for local actors in the 13 project municipalities in the process of updating PDLs and PAI, including ITG activities and restoration
B11: Recommendation 2: Clarify the administrative arrangements, in particular the costs of participants, at the start of the workshops to avoid any misunderstanding. Failing this, these details should be explicitly stated in the invitation letters | F11: Clarification of administrative arrangements, in particular the costs of participants, at the start of the DNFF training-of-trainers workshops; capacity building for SERPROCA agents; capacity building for municipal secretaries-general and revenue collectors.
B13: Recommendation 3: Ensure the effective integration of project activities into Local Development Plans (PDLs) and Annual Investment Plans (PAIs), in line with local priorities and inter-municipal dynamics | F13: Technical support mission by the PMU (expert in community engagement and local facilitators) to the 13 rural municipalities involved in the process of updating the PDLs, including GIT activities and restoration.
B15: Recommendation 4: Set up a post-workshop technical monitoring mechanism to support municipalities in transposing the lessons learned at the local level. | F15: Involvement of the PMU in supervising awareness-raising activities on sustainable agriculture, feedback on training on restoration options and the process of updating and integrating ITG into the PDLs of the 13 municipalities involved in the project.
B17: Recommendation 5: Strengthen the capitalisation of good practices from these workshops to feed into future training sessions and adjust intervention tools. | F17: Develop tools and plans for feedback on training on restoration options and sustainable agriculture in the 13 project intervention municipalities
B19: Recommendation 6: Ensure close follow-up of the recommendations made at the end of the workshop, with periodic progress reports shared between partners. Organise feedback and awareness-raising workshops for local grassroots actors. | F19: Organisation of feedback workshops and awareness-raising sessions for local grassroots stakeholders.
B20: Recommandation…Anticiper les contraintes logistiques en prenant, en temps utile, les dispositions nécessaires pour garantir la mobilité des équipes, que ce soit par la location de véhicules, en coordination avec les partenaires, ou via l’appui logistique de la FAO.
B21: Recommendation 7: Strengthen joint technical and operational monitoring missions in the field, in close collaboration with the PMU and ANAFIC, to assess the quality of implementation in real time and identify any necessary adjustments. Anticipate the vehicle rental process during the joint mission of the PMU, FAO Guinea, FAO headquarters, ANAFIC, DNFF and SERPROCA in Forest Guinea. | F21: Anticipating the vehicle rental process during the joint mission of UGP, FAO Guinea, FAO headquarters, ANAFIC, DNFF, and SERPROCA in Guinée Forestière
B22: Renforcer les missions conjointes de suivi technique et opérationnel sur le terrain, en étroite collaboration avec l’UGP et l’ANAFIC, pour évaluer en temps réel la qualité de la mise en œuvre et identifier les ajustements nécessaires.
B23: Recommendation 8: Provide harmonised monitoring and reporting tools, adapted to the OPIM approach, to facilitate information flow, results analysis and evidence-based decision-making. | F23: Ongoing

Sheet 8. Minor project amendments
B2: 8. Minor project amendments
B4: Minor amendments are changes to the design or implementation that do not have significant impact on the project objectives or scope, or an increase of the GEF project financing up to 5% as described in Annex 9 of the GEF Project and Program Cycle Policy Guidelines 12. Please describe any minor changes that the project has made under the relevant category or categories and provide supporting documents as an annex to this report if available. (This section will be uploaded to the GEF Portal)
B9: Category of change | D9: Provide a description of the change | I9: Indicate the timing of the change | J9: Approved by
B12: Results framework | I12: N/A
B14: Components and cost | I14: N/A
B16: Institutional and implementation arrangements | I16: N/A
B19: Financial management | I19: N/A
B21: Implementation schedule | D21: Update of EOD & NTR to reflect the actual start of OPAs | I21: New EOD & NTE : 01/04/2024 to 31/03/2029 | J21: BH, FLO
B23: Executing Entity | I23: N/A
B25: Executing Entity Category | I25: N/A
B27: Minor project objective change | I27: N/A
B29: Safeguards | I29: N/A
B31: Risk analysis | I31: N/A
B33: Increase of GEF project financing up to 5% | I33: N/A
B36: Co-financing | I36: N/A
B38: Location of project activity | I38: N/A
B40: Other minor project amendment (define) | I40: N/A
B45: 12 GEF Council meeting documents, guidelines, project and program cycle policy 2020 update

Sheet 9. Stakeholders' Engagement
C2: 9. Stakeholders' Engagement
C4: Please report on progress, challeges, and outcomes on stakeholder engagement (based on the description of the Stakeholder Engagement Plan) included at CEO Endorsement/Approval during this reporting period. (This section will be uploaded to the GEF Portal)
C8: Profile | E8: Stakeholder name | G8: Type of partnership | H8: Progress, results & Challenges on Stakeholder's Engagement
C9: Government Institutions | E9: DNFF | G9: OPA | H9: 1. Organisation of the official project launch workshop 2. Training of 25 trainers, including 6 women, composed of representatives of the Forestry and Wildlife Sections of the Upper Guinea and Forest Guinea regions, members of civil society and local PMU facilitators on restoration options 3. Feedback on training on options for restoring degraded landscapes in the 13 project municipalities. 4. Supervision of field activities
C10: Government Institutions | E10: SERPRO-CA | G10: OPA | H10: 1. Training of 24 SERPROCA agents (agricultural operations officers and agricultural advisors) on sustainable agricultural practices (rice, palm oil, market gardening and agroforestry), including 5 women. 2. Raising awareness among 1,629 producers, including 633 women, on sustainable and climate-smart agricultural practices. 3. Supervision of field activities.
C11: Government Institutions | E11: ANAFIC | G11: OPA | H11: 1. Capacity building for 82 local actors in rural municipalities, including 7 women, to update the 13 Local Development Plans (PDLs) and Annual Investment Programmes, including integrated land management and restoration of degraded landscapes. 2. Capacity building for 26 Receivers and Secretaries General of the 13 rural municipalities, including 2 women, on the administrative and financial management of Annual Investment Programmes (AIPs). 3. Technical supervision and support for the 13 municipalities in the PDL development process. This reached 340 local actors, including 67 women.
C12: Government Institutions | E12: Institut de Recherche Agronomique de Guinée (IRAG) | G12: Contract | H12: Capacity building for SERPROCA agents on sustainable agriculture practices in the regional research centres of Bordeau and Seredou

Sheet 10. Gender Mainstreaming
B2: 10. Gender Mainstreaming
B4: Information on Progress on Gender-responsive measures as documented at CEO Endorsement/Approval in the gender action plan or equivalent (when applicable) during this reporting period. (This section will be uploaded to the GEF Portal)
B6: Category | E6: Yes/No | F6: Briefly describe progress and results achieved during this reporting period.
B8: a. Closing gender gaps in access to and control overal natural resources | E8: Yes | F8: During the joint mission, it was recommended that women's access to natural resources and their participation in decision-making be encouraged.
B12: b. Improving women's participation and decision making | E12: Yes | F12: Organisation of special focus groups for women and young people during the updating of the PDLs to take their concerns into account. Agreement on speaking time for women and young people during workshops and supervision missions.
B16: c. generating socio-economic benefits or services for women | E16: Yes | F16: Awareness raising and information for women's groups on market gardening and the processing of non-timber forest products.
B20: Any other good practices on gender | E20: Yes | F20: Raising awareness among beneficiaries about the gender approach in project implementation;

Sheet 11. Knowledge Management
B2: 11. Knowledge and Learning Activities
B4: Knowledge activities/products (when applicable), as outlined in Knowledge Management (and Learning) Approach approved at CEO Endorsement/Approval, during this reporting period. (This section will be uploaded to the GEF Portal)
B6: Knowledge management and Learning (KML): Does the project have a KML strategy? | E6: Yes
B8: If YES, what is the implementation progress? In your answer, please describe how the project is fostering knowledge sharing and learning among stakeholders at national and sub-national level. | E8: ANAFIC is developing two gender-based tools Tool 1: a typical day, which addresses the integration of all gender aspects into local development plans and the distribution of tasks and responsibilities Tool 2: decision-making within the household, which involves making decisions within households based on the gender of individuals. These approaches are taken into account in the implementation of annual investment programmes (AIPs). Several communication and knowledge management activities have been carried out as part of the implementation of activities through the communication units of operational partners. These activities have been relayed at various levels, including Radio Télévision Guinéenne (RTG), websites, operational partner platforms, YouTube, etc. However, several challenges remain, including the publication of images on the FOLUR platform and the establishment of a communication mechanism.
B10: If NO, how does the project identify, collect and document good practices?
B14: Please list good practices, including key-technical and/or institutional innovations, from the project thus far. | E14: Creation of WhatsApp platforms at the following levels: PMU, PMU including operational partners and FAO, internal operational partners.
B15: Communication strategy: Does the project have a communication strategy? | E15: Yes
B18: Please provide a brief overview of the communications successes and challenges this fiscal year. | E18: As part of the project implementation, a framework document was developed in collaboration with all stakeholders. This document facilitates the effective sharing of information related to activities and ensures consistency. It clearly defines the various meetings to be held depending on the actors involved and the deadlines for submitting activity reports. The PMU also has templates for the various reports (PIR, PPR, technical and financial reports) and meeting minutes.
B21: Human-interest story: Please share a human-interest story from your project, focusing on how the project has helped to improve people's livelihoods while contributing to achieving the expected Global Environmental Benefits. Please indicate any Socio-economic Co-benefits that were generated by the project. Include at least one beneficiary quote and perspective, and please also include related photos and photo credits. | E21: At the end of the training course for trainers on restoration options, Chief Warrant Officer SANDOUNO of the Kissidougou Prefectural Forestry and Wildlife Section said: "This training has given me knowledge that I did not have before as a nature conservation officer. From now on, assisted natural regeneration is a practice that I have mastered for the restoration of degraded landscapes."
B33: Please provide links to related website, social media account | E33: "https://infochrono.org/2025/02/20/kissidougou-plusieurs-acteurs-impliques-pour-la-restauration-du-couvert-vegetal-sont-en-formation/ https://www.facebook.com/share/p/1erpaiBA63/; Kissidougou /Environnement: Tenue d’une session de formation des formateurs sur les options de restauration des paysages dégradés - AGP GUINEE"" https://agpguinee.com/kissidougou-environnement-tenue-dune-session-de-formation-des-formateurs-sur-les-options-de-restauration-des-paysages-degrades/ https://youtu.be/nJd1G1tQfC0?si=3lFU1oZeuB4m69uQ&sfnsn=wa "
B37: Please provide a list of publications, leaflets, video materials, newsletters, or other communications assets publised on the web, if any. | E37: "1. Kissidougou : plusieurs acteurs impliqués pour la restauration du couvert végétal sont en formation. 2. Kissidougou /Environnement : Tenue d’une session de formation des formateurs sur les options de restauration des paysages dégradés 3. MEDD/Kissidougou : Lancement de la 1ere activité du projet « Gestion intégrée des paysages dégradés en Guinée forestière et en Haute Guinée pour des systèmes alimentaires durables et des moyens de subsistances améliorés » "
B41: Please indicate the Communication and/or knowledge management focal point's name and contact detais. | E41: Koéro Bernard HABA, National Coordinator ; Tel : +224 625 452 119; E-Mail : koerobernard@gmail.com, Guinée-Conakry

Sheet 12. Indigenous & Local Involve.
B2: 12. Indigenous Peoples and Local Communites Involvement
B4: Are Indigenous Peoples and local communities involved in the project (as per the approved Project Document)? If yes, please briefly explain.
B6: Indigenous peoples and local communities are effectively involved in the project insofar as project activities are integrated into the PDLs and PAI. These planned activities will be implemented by these indigenous peoples and communities. During the joint mission by the UGP, FAO, ANAFIC, DNFF and SERPROCA, these communities reiterated their commitment to actively participate in the implementation of the project in order to ensure its success and contribute to the sustainable improvement of their living conditions. This commitment has been demonstrated by the provision of land for the establishment of farmer training fields and agroforestry activities, illustrating their concrete willingness to support the project's momentum.

Sheet 13. Co-Financing Table
B2: 13. Co-Financing Table
B4: Sources of Co-financing | D4: Name of Co-financer | I4: Type of Co-financing | K4: Amount Confirmed at CEO endorsement/approval (in USD) | N4: Actual Amount Materialized at 30 June 2025 (in USD)
D6: World Bank | I6: Grant | K6: 25000000 | N6: 5000000
B7: Recipient Country Government | D7: ANAFIC | I7: Grant | K7: 3000000 | N7: 33228
B8: Recipient Country Government | D8: ANAFIC | I8: In-kind | K8: 2000000 | N8: 400000
B9: Recipient Country Government | D9: SERPRO-CA | I9: In-kind | K9: 5905611 | N9: 1181122
B10: Recipient Country Government | D10: DNFF | I10: In-kind | K10: 5577291 | N10: 1115458
B11: GEF Agency | D11: FAO-Guinea | I11: Grant | K11: 1412518 | N11: 282503
B12: GEF Agency | D12: FAO-FLRM | I12: Grant | K12: 500000 | N12: 100000
B19: Total | I19: Total | K19: =SUM(K6:K18) -> 43395420 | N19: =SUM(N6:N18) -> 8112311
B21: Please explain any significant changes in project co-financing since CEO Endorsement/Approval, or differences between the pledged and materialized co-financing amounts.
B23: GEF CoFinancing Guidelines 2018

Sheet 14. GEO Location
E2: 14. Geo Location Information
E4: This section should be completed ONLY by projects with 1st PIR and in case the geographic coverage of project activities has changed since last reporting period. This information is required by GEF Secretariat in GEF Portal
E6: Are there any changes in the geographic coverage of the project activities since the last PIR report? | K6: Yes
B9: N° | C9: Préfectures | D9: Communes Rurales | E9: Location Name | G9: Latitude | H9: Longitude | I9: Geo Name ID | L9: Location & Activity Description*
B10: 1 | C10: Kouroussa | D10: Komola-Koura | E10: Gagna | G10: 11.04396 | H10: -10.400749 | L10: Sustainable agriculture & restoration
B11: 2 | C11: Kouroussa | D11: Komola-Koura | E11: Bantanbaye | G11: 11,38755556 | H11: -10,28548611 | L11: Sustainable agriculture & restoration
B12: 3 | C12: Kouroussa | D12: Komola-Koura | E12: Sanbaya-Centre | G12: 11,18808333 | H12: -10,40133333 | L12: Sustainable agriculture & restoration
B13: 4 | C13: Kankan | D13: Baté-Nafadji | E13: Bakonko-Cissela | G13: 10.659724 | H13: -9.2485 | L13: Sustainable agriculture & restoration
B14: 5 | C14: Kankan | D14: Baté-Nafadji | E14: Tassiliman | G14: 10,79109722 | H14: -9,22493889 | L14: Sustainable agriculture & restoration
B15: 6 | C15: Kankan | D15: Baté-Nafadji | E15: Kofilani | G15: 10,78001389 | H15: -9,214425 | L15: Sustainable agriculture & restoration
B16: 7 | C16: Kankan | D16: Baté-Nafadji | E16: Timinindou | G16: 10,62976389 | H16: -9,30400556 | L16: Sustainable agriculture & restoration
B17: 8 | C17: Kérouané | D17: Komodou | E17: Sanankoroni | G17: 9.636425 | H17: -9.057629 | L17: Sustainable agriculture & restoration
B18: 9 | C18: Kérouané | D18: Komodou | E18: Diaradou | G18: 9,50306667 | H18: -8,97775833 | L18: Sustainable agriculture & restoration
B19: 10 | C19: Kérouané | D19: Komodou | E19: Saramoridou | G19: 9,45466111 | H19: -9,06841944 | L19: Sustainable agriculture & restoration
B20: 11 | C20: Kérouané | D20: Komodou | E20: Franfina | G20: 9,64387222 | H20: -8,89471667 | L20: Sustainable agriculture & restoration
B21: 12 | C21: Faranah | D21: Tiro | E21: Saourou | G21: 9.738902 | H21: -10.635945 | L21: Sustainable agriculture & restoration
... B44: 35 | C44: Guéckédou | D44: Tékoulo | E44: Owet Kama | G44: 8,47343333 | H44: -10,01681667 | L44: Sustainable agriculture & restoration

Sheet Annex
B2: Annex. Monitoring Area-based GEF Core Indicator Commitments and Progress with FERM
B4: The Framework for Ecosystem Restoration Monitoring (FERM), developed by FAO, is the official monitoring platform for tracking global progress and disseminating good practices for the UN Decade of Ecosystem Restoration. The FERM can serve as an integrated GIS-based platform, providing GEF staff and all relevant stakeholders the chance to display the progress of committed versus achieved land under restoration or under improved management for conservation and sustainable use, along with clear results such as the percentage of project achievement. Having a common tracking and monitoring platform allows users to comprehensively assess and report on project progress. A user-friendly dashboard showcasing project results gives stakeholders a clear understanding of the extent to which project targets have been achieved. Projects with area-based GEF Core Indicators (GEF Core Indicators 1-5 and LDCF Core Indicator 2) are encouraged to register in the FERM platform.
B5: Useful links:
B6: • FERM website
B7: • FERM User Guide (PDF)
B8: • FERM YouTube channel
B9: • Email Carmen Morales
B24: 26 It also supports countries in reporting areas under restoration for the Kunming-Montreal GBF Target 2 (areas under restoration) for which FAO is the custodian agency.
