Workbook
Name Countries: Countries!$A$2:$A$250
Name DevCells: '2. Progress towards outcomes'!#REF!
Name DevCells: #REF!
Name DevRatings: '2. Progress towards outcomes'!#REF!
Name DevRatings: #REF!
Name DevScore: #REF!
Name DevScore: _Calc!$D$20
Name ImpCells: '3. Implementation Progress'!$D$128:$M$130
Name ImpRatings: '3. Implementation Progress'!$D$128:$M$130
Name ImpScore: #REF!
Name ImpScore: _Calc!$D$21
Name NumRating: #REF!
Name NumRating: _Calc!$B$2:$B$9
Name TxtRating: #REF!
Name TxtRating: _Calc!$A$2:$A$9
Name Weights: #REF!
Name Weights: _Calc!$E$14:$I$14
Name Weights2: #REF!
Name Weights2: _Calc!$E$17:$H$17

Sheet _Calc
A1: Rating text | B1: Score
A2: Highly Unsatisfactory (HU) | B2: 1
A3: Unsatisfactory (U) | B3: 2
A4: Moderately Unsatisfactory (MU) | B4: 3
A5: Moderately Satisfactory (MS) | B5: 4
A6: Satisfactory (S) | B6: 5
A7: Highly Satisfactory (HS) | B7: 6
A8: Unknown | B8: 0
A9: Not Rated | B9: 0
D12: for DevScore
D13: Person | E13: PM/Coord | F13: Budget Holder | G13: LTO | H13: GEF OFP | I13: GTO
D14: Weight % | E14: 20 | F14: 25 | G14: 25 | H14: 0 | I14: 30
D15: For ImpScore
D16: Person | E16: PM/Coord | F16: LTO | G16: GEF OFP | H16: GTO
D17: Weight % | E17: 25 | F17: 35 | G17: 0 | H17: 40
A19: Once you've filled in 2. Progress towards outcomes & 3. Implementation Progress
A20: Please double click and press enter on Cells D20 and D21 | D20: {=_xlfn.LET(_xlpm.hdrRow,MATCH("*Development*Objective*rating*",'2. Progress towards outcomes'!$C:$C,0),_xlpm.rRow,_xlpm.hdrRow+1,_xlpm.ratings,INDEX('2. Progress towards outcomes'!$D:$H,_xlpm.rRow,0),_xlpm.scores,_xlfn.XLOOKUP(_xlpm.ratings,TxtRating,NumRating,0),ROUND(SUMPRODUCT(_xlpm.scores,Weights)/SUM(Weights),0))} -> 5
D21: {=ROUND( SUMPRODUCT( _xlfn.XLOOKUP( CHOOSE({1,2,3,4}, '3. Implementation Progress'!D128, '3. Implementation Progress'!F128, '3. Implementation Progress'!H128, '3. Implementation Progress'!L128 ), TxtRating, NumRating, 0 ), Weights2 ) / SUM(Weights2), 0)} -> 4

Sheet Table of Contents
B6: FAO-GEF Project Implementation Report
B7: 2025 – Revised Template
B8: Period covered: 1 July 2024 to 30 June 2025
B9: Table of Contents
B10: =HYPERLINK("#'1. Basic project data'!N10","1. BASIC PROJECT DATA") -> 1. BASIC PROJECT DATA
B11: =HYPERLINK("#'2. Progress towards outcomes'!N11","2. PROGRESS TOWARDS ACHIEVING PROJECT OBJECTIVE(S) (DEVELOPMENT OBJECTIVE)") -> 2. PROGRESS TOWARDS ACHIEVING PROJECT OBJECTIVE(S) (DEVELOPMENT OBJECTIVE) | N11: Progress towards Achieving Project Objective(s) (Development Objective)
B12: =HYPERLINK("#'3. Implementation Progress'!N12","3. IMPLEMENTATION PROGRESS (IP)") -> 3. IMPLEMENTATION PROGRESS (IP) | N12: Implementation Progress (IP)
B13: =HYPERLINK("#'4. Summary on progress'!N13","4. SUMMARY ON PROGRESS AND CHALLENGES") -> 4. SUMMARY ON PROGRESS AND CHALLENGES | N13: Summary on progress, challenges, and outcomes
B14: =HYPERLINK("#'5. ESS Risk'!N14","5.ENVIRONMENTAL AND SOCIAL SAFEGUARDS (ESS):RISKS FROM THE PROJECT") -> 5.ENVIRONMENTAL AND SOCIAL SAFEGUARDS (ESS):RISKS FROM THE PROJECT
B15: =HYPERLINK("#'6. Risks to the project'!N15","6. RISKS TO THE PROJECT") -> 6. RISKS TO THE PROJECT
B16: =HYPERLINK("#'7. Follow-up on Mid-term review'!N16","7. FOLLOW-UP ON MID-TERM REVIEW OR SUPERVISION MISSION") -> 7. FOLLOW-UP ON MID-TERM REVIEW OR SUPERVISION MISSION
B17: =HYPERLINK("#'8. Minor project amendments'!N17","8. MINOR PROJECT AMENDMENTS") -> 8. MINOR PROJECT AMENDMENTS
B18: =HYPERLINK("#'9. Stakeholders' Engagement'!N18","9. STAKEHOLDERS' ENGAGEMENT") -> 9. STAKEHOLDERS' ENGAGEMENT
B19: =HYPERLINK("#'10. Gender Mainstreaming'!N19","10. GENDER MAINSTREAMING") -> 10. GENDER MAINSTREAMING
B20: =HYPERLINK("#'11. Knowledge Management'!N20","11. KNOWLEDGE MANAGEMENT ACTIVITIES") -> 11. KNOWLEDGE MANAGEMENT ACTIVITIES
B21: =HYPERLINK("#'12. Indigenous & Local Involve.'!N21","12. INDIGENOUS PEOPLES AND LOCAL COMMUNITIES INVOLVEMENT") -> 12. INDIGENOUS PEOPLES AND LOCAL COMMUNITIES INVOLVEMENT
B22: =HYPERLINK("#'13. Co-Financing Table'!N22","13. CO-FINANCING TABLE") -> 13. CO-FINANCING TABLE
B23: =HYPERLINK("#'14. GEO Location'!N23","14. GEO LOCATION INFORMATION") -> 14. GEO LOCATION INFORMATION
B26: =HYPERLINK("#'Annex'!N26","Annex. Monitoring Area-based GEF Core Indicator Commitments and Progress with FERM") -> Annex. Monitoring Area-based GEF Core Indicator Commitments and Progress with FERM
B29: IMPORTANT DISCLAIMER:
B30: The final version of this PIR will be submitted to the GEF Secretariat.
B31: The report will then be publicly available on the GEF website (click here).
B32: Sensitive information should be submitted in Annex to be uploaded separately.
B33: In such cases, please contact faogef-pir-support@fao.org for guidance.

Sheet 1. Basic project data
B2: 1. Basic Project Data
B3: General Information
B4: Region: | E4: Africa (RAF)
B5: Country(ies): | E5: Benin, Malawi, Mozambique, Uganda & Togo
B6: Project Title: | E6: Groundwater for aDvancing Resilience in Africa
B7: FAO Project Symbol: | E7: GCP/INT/1027/GFF
B8: GEF ID: | E8: 10970
B9: Type of Trust Fund(s): | E9: GFF
B10: GEF Focal Area(s): | E10: International Waters
B11: Project Executing Partners: | E11: IWMI
B12: Initial project duration (years): | E12: 4 YRS
B13: Project Dates
B14: GEF CEO Endorsement Date: | E14: 45281
B15: Actual Agency Approval Date | E15: 45234
B16: Project Implementation Start Date/EOD: | E16: 45538
B17: First Disbursement Date | E17: 45596
B18: Planned Project End Date/NTE1: | E18: 46965
B19: Revised project implementation End date (if approved)2: | E19: n/a
B20: Actual Completion Date: | E20: n/a
B21: Expected Financial Closure Date: | E21: 47330
B22: Funding
B23: GEF Grant Amount (USD): | E23: 5786073
B24: Total GEF grant delivery (as of June 30, 2025 (USD): | E24: 867911
B25: Total Co-financing amount (USD)3: | E25: ='13. Co-Financing Table'!K23 -> 45483346
B26: Total estimated co-financing materialized as of June 30, 2025: | E26: ='13. Co-Financing Table'!N23 -> 10119786
B27: M & E Milestones
B28: Date of Last Project Steering Committee (PSC) Meeting: | E28: 45679
B29: Expected Mid-term Review date5: | E29: 46377
B30: Actual Mid-term review date (if already completed): | E30: n/a
B31: Expected Terminal Evaluation Date6: | E31: 46752
B32: Overall ratings
B33: Overall rating of progress towards achieving objectives/outcomes (cumulative): | E33: =_xlfn.XLOOKUP(DevScore, NumRating, TxtRating, "Not Rated") -> Satisfactory (S)
B34: Overall implementation progess rating: | E34: =_xlfn.XLOOKUP(ImpScore, NumRating, TxtRating, "Not Rated") -> Moderately Satisfactory (MS)
B35: Overall risk rating: | E35: ='6. Risks to the Project'!C82 -> Low
B36: Status
B37: Implementation Status (1st PIR, 2nd PIR, etc. Final PIR): | E37: 1st PIR
B40: 1 Date that was originally foreseen at the project’s operationalization and indicated in FPMIS. 2 If NTE extension has been requested and approved by the FAO-GEF Coordination Unit. 3 This is the total amount of co-financing as included in the CEO Document/Project Document. 4 Please refer to the Section 13 of this report where updated co-financing estimates are requested and indicate the total co-financing amount materialized. 5 The Mid-Term Review (MTR) should take place after the 2nd PIR, around half-point between EOD and NTE. The MTR report in English should be submitted to the GEF Secretariat within 4 years of the CEO Endorsement date. 6 The Terminal Evaluation date should be discussed with OED 6 months before the project’s NTE date.
B45: Project Contacts
B46: Contact | E46: Name, Title, Division/Institution | I46: E-mail
B47: Project Coordinator (PC) | E47: Dr Jonathan Lautze | I47: j.lautze@cgiar.org
...

Sheet Countries
A1: Select Country
A2: Afghanistan
A3: Åland Islands
A4: Albania
A5: Algeria
A6: American Samoa
A7: Andorra
A8: Angola
A9: Anguilla
A10: Antarctica
A11: Antigua and Barbuda
A12: Argentina
... A250: Zimbabwe

Sheet TypeofTrustFund
A1: Type of Trust Fund
A2: Capacity-building Initiative for Transparency (CBIT)
A3: Global Biodiversity Framework Fund (GBFF)
A4: Global Environment Facility Trust Fund (GFF)
A5: Least Developed Countries Fund (LDCF)
A6: Special Climate Change Fund (SCCF)
A7: Small Grants Program (SGP)

Sheet FocalArea
A1: Focal Area
A2: Multi Focal Area
A3: Biodiversity
A4: Chemicals and Waste
A5: Chemicals/PoPs
A6: Climate Change
A7: Climate Change Adaptation
A8: Climate Change Mitigation
A9: International Waters
A10: Land Degradation

Sheet 2. Progress towards outcomes
B1: 2. Progress towards Achieving Project Objective(s) (Development objective)
B3: (All inputs in this section should be cumulative from project start, not annual)
B6: Please indicate the project’s main progress towards achieving its objective(s) and the cumulative level of achievement of each outcome since the start of project implementation.
B8: Project or Development Objective | C8: Outcomes | D8: Outcome indicators | E8: Baseline | F8: Mid-term Target | G8: End-of-project Target | H8: Cumulative progress level at 30 June 2025 | I8: % of cumulative progress | J8: Progress rating
B9: To enhance water security and resilience in Africa by unlocking the potential of sustainable development and protection | C9: Outcome 1.1: AMCOW sustained and strengthened in its mandate to support Regional Economic Communities (RECs), River Basins Organization (RBOs) & Member States (MSs) in achieving GW-based water security and resilience | D9: Intergovernmental and financial support for AMCOW secured. Support of GW-focused investments documented. | E9: AMCOW’s capacity to guide pan-African groundwater planning remains limited. | F9: AMCOW support continued. | G9: Commitment by key countries to continue sustaining AMCOW documented. | H9: Support to AMCOW has indeed continued through this project. Multiple tranches of funding have been disbursed (in total approximately 170,000 USDs), allowing the groundwater program to advance. | I9: 0.17 | J9: Satisfactory (S)
C10: Outcome 1.2: Greater resilience to shocks through increased capacity and use of tools to assess groundwater quantity and quality | D10: Number of capacity building events held and number of assessments conducted with newly provided tools and implemented in partnership with regional centers of excellence and their networks to ensure sustainable capacity improvements. Number of knowledge sharing events held in partnership with regional centres of excellence and their networks to support sustainable capacity improvement. Level of gender responsiveness to the content of knowledge sharing events. | E10: Land and water administrators relevant for groundwater extraction and recharge lack experience in and tools for conducting transboundary assessments. Generally gender blind knowledge sharing related to groundwater | F10: 2 knowledge sharing events held. | G10: 4 knowledge sharing events held | H10: Multiple sessions held in international events to advance the groundwater program. Specifically, the regional program was featured in four AMCOW regional consultations and 1 continental one (PANAFCON-3) to seek input on the regional strategy. In addition, there was a session at World Water Week 2024 focused on introducing our project. These were conducted in partnership with key organizations active in the region. Work remains to incoporate tools into these events | I10: 0.15 | J10: Satisfactory (S)
C11: Outcome 1.3: Environments that enable & support management of groundwater opportunity and risk | D11: Policy guidelines on groundwater use and management endorsed by relevant agencies. | E11: Countries’ actions lack strategic vision and transboundary coordination. | F11: Policy guidelines being drafted based on scientific evidence and shared vision. | G11: Policy guidelines submitted for signature at Minister level. | H11: Progress toward this indicator will begin next year/2026. | I11: 0 | J11: Moderately Satisfactory (MS)
C12: Outcome: 1.4: Coordinated multi-scale approach to groundwater planning in Africa | D12: Groundwater strategy and framework approved by relevant agencies and support by regional centers documented. | E12: Lack of regional groundwater use and management strategy. | F12: Groundwater strategy and framework drafted and support documented by regional centers. | G12: Groundwater strategy and framework submitted for signature by at least one Minister in each country. | H12: Development of the Groundwater Strategy and framework (now increasingly referred to as strategic program for water security and resilience) in Africa is at an advanced stage | I12: 0.25 | J12: Satisfactory (S)
C13: Outcome 2.1: More informed decision making on groundwater-related risks and opportunities under present and future climate and development scenarios | D13: Analysis endorsed by the countries’ representatives in the Steering Committee. | E13: Knowledge on (transboundary) aquifer management is patchy and transboundary implications have not been assessed nor agreed upon. | F13: Finalization of the assessment of the aquifers’ current state and projected scenarios, as well as of the evaluation of dependent ecosystems. | G13: Analysis submitted for endorsement to the Steering Committee. | H13: Analysis is underway but at an initial stage: A conceptual framework and data inventory have been completed. Estimated completion is next year. | I13: 0.1 | J13: Satisfactory (S)
C14: Outcome 2.2: RECs, RBOs, MSs capacitated in groundwater assessment tools and approaches | D14: Skills and knowledge on transboundary issues of 200 gender-balanced national staff increased by 50% over baseline levels. Number of staff by gender, locality and age in capacity development activities and stakeholders engagement events. Guidelines on gender and ethnicity integration. | E14: Land and water administrators relevant for groundwater extraction and recharge lack experience in transboundary aspects. Low levels of participation by women and marginalized groups | F14: 5 courses held At least 100 trainees | G14: 10 courses held at least 100 trainees | H14: This work has not yet begun. This will begin next year. | I14: 0 | J14: Moderately Satisfactory (MS)
C15: Outcome 3.1: Evidence-driven transboundary groundwater management in the Shire aquifer system | D15: Demonstration project designs, implementation reports, and upscaling-focused assessments for at least three demonstration projects for improved groundwater management (extraction and recharge) in each country. Demonstration projects include disaggregated data by gender and ethnic minority. | E15: Transboundary aquifer management and aquifer recharge strategies and practices that the project will test on the ground are new to the region. | F15: Demonstration projects under implementation. | G15: At least 1 demonstration project implemented for each aquifer | H15: Work in demonstration sites is beginning. Technical Workshops was conducted, secondary data collected, and national coordinators put in place. | I15: 0.1 | J15: Satisfactory (S)
C16: Outcome 3.2: Groundwater integrated into catchment planning in Uganda | D16: Groundwater Diagnostic Assessment (GDA) and a Strategic Action Plan (SAP) for Upper Nile Management Zone on groundwater management | E16: Groundwater not integrated in catchment planning. | F16: GDA drafted | G16: GDA drafted and recommendations for policy planning presented to relevant stakeholders, and subsequently endorsed by SC. | H16: Work on the GDA has not yet begun. | I16: 0 | J16: Moderately Satisfactory (MS)
C17: Outcome 3.3: Supporting integrated aquifer management & Reducing groundwater risks in the Shared Mono Basin | D17: Number of planning decisions integrating newly provided groundwater data. | E17: Groundwater not integrated in transboundary water management planning. | F17: Transboundary monitoring and data sharing drafted and commenced. | G17: Transboundary monitoring and data sharing informs transboundary and national water management. | H17: Work on transboundary monitoring has begun through completion of a hydrocensus | I17: 0.05 | J17: Satisfactory (S)
C18: Outcome 3.4: Decision-making on prioritization of groundwater investments enhanced | D18: Number of plans considering groundwater use and management. | E18: Lack of consideration of groundwater in planning. | F18: 5 planning processes incorporating groundwater extraction and aquifer recharge. | G18: 10 planning processes incorporating groundwater extraction and aquifer recharge. | H18: This work has not yet led to incorporation of groundwater into planning. However, two meetings of a community of practice has taken place, which is laying the basis for lesson learning that advances groundwater into planning. | I18: 0 | J18: Moderately Satisfactory (MS)
C19: Outcome 4.1: Youth across Africa is capacitated on groundwater to enhance consideration of social and cross-sectoral dimensions of groundwater | D19: Number of Youth capacitated. 50% of representation to be female | E19: Lack of capacity of Youth to improve social and cross-sector dimensions of groundwater, | F19: 50 Youth involved in G4DR activities and 5,000 Youth reached by G4DR outputs. | G19: 100 Youth involved in G4DR activities and 10,000 Youth reached byG4DR outputs. | H19: This work has not yet begun. Nonetheless, youth ambassadors will start in July, 2025 to drive this work going forward. | I19: 0 | J19: Moderately Satisfactory (MS)
C20: Outcome 5.1: Knowledge management & dissemination to support visibility and adoption | D20: Number of communication strategies endorsed and dissemination events held. | E20: NA | F20: 1 communication strategy endorsed; 2 events held At least 100 trainees | G20: 1 communication strategy endorsed; 4 events held | H20: Project website has been created and stories have been produced and disseminated. The Communications strategy has been produced. Dissemination events have not yet been held. | I20: 0.35 | J20: Satisfactory (S)
C21: Outcome 5.2: Adaptive results-based management and sharing of information and lessons learned. | D21: Number of monitoring systems operational and number of information updates provided. | E21: NA | F21: One monitoring system established and operational. | G21: Three or more information updates provided to identified stakeholders. | H21: The monitoring system is nearly complete. It is an excel-based system that tracks progress against a number of key indicators | I21: 0.25 | J21: Satisfactory (S)
B29: Development Objective (DO) Ratings, and Overall Assessment
B30: Please note that the overall DO ratings should be substantiated by evidence and progress reported above. The ratings and comments should reflect the overall progress of results since project start
C32: FY2025 Development Objective rating | D32: Project Manager/ Coordinator | E32: Budget Holder | F32: Lead Technical Officer | H32: GEF Technical Officer (GTO)
D33: Satisfactory (S) | E33: Satisfactory (S) | F33: Satisfactory (S) | H33: Satisfactory (S)
C34: Comments/reasons justifying the ratings for FY2025 and any changes (positive or negative) in the ratings since the previous reporting period | D34: While the project is in its early phase of implementation, the inception workshop was successfully implemented, partners are on board, and activities are advancing largely as planned. | E34: Regular reporting of the activities which are progressing steadily. While early progress aligns with expectations, the next phase will be critical to deliver measurable impact on the ground. | F34: The project has initiated most activities as planned, in particular in setting the team and basis for the future activities such as the hydrocensus on which the following activities at country level (component 3) will be set. At global level, the drafting of the groundwater strategy is well advanced, while nomination of youth ambassadors is a major step for the follow up activities. | H34: The Inception Workshop and first Steering Committee meeting were successfully delivered in January 2025 ensuring shared understanding of GEF and FAO rules and agreement on timelines and workplans across all the Project Partners. The advances made in less than a year of implementation are satisfactory and encouraging, and demonstrate a high-level commitment from Project Partners to achieve environmental benefits within the agreed timeframe. There are no particular risks to flag at this stage and it seems that the project is on track to deliver all outcomes.
B39: Measures to address MS, MU, U and HU ratings on Section 2 above
B42: Outcome | D42: Action(s) to be taken | F42: By whom? | H42: By When?
B43: Outcome 1.3: Environments that enable & support management of groundwater opportunity and risk | D43: Progress toward this outcome is planned to begin in earnest in the project's year 2. Action to be taken is to proceed as planned in year 2, to begin monitoring that supports lesson-learning and advancing toward policy guidelines. | F43: AMCOW | H43: June of 2026
B44: Outcome 2.2: RECs, RBOs, MSs capacitated in groundwater assessment tools and approaches | D44: Progress toward this outcome is planned to begin in earnest in the project's year 2. Action to be taken is to proceed as planned in year 2, to begin implementing trainings the support capacitation | F44: IIASA | H44: December of 2025
B45: Outcome 3.2: Groundwater integrated into catchment planning in Uganda | D45: Progress on this activitity has been delayed due to issues with finalizing a subcontract. This subctontract needs to be finalized urgently, to enable progress toward advancement of activities in Uganda. | F45: FAO/IWMI/IIASA | H45: October of 2025
B46: Outcome 3.4: Decision-making on prioritization of groundwater investments enhanced | D46: Progress toward this outcome has commenced with the near-finalization of Youth Ambassador appointments. Given the long-term nature of youth engagement, activities will proceed in a phased manner: initial induction and integration of Ambassadors into G4DR activities, followed by structured interventions to broaden youth participation across the project. Key actions going forward are the completion of the Youth Forum Action Plan. | F46: SADC-GMI | H46: December of 2025
B47: Outcome 4.1: Youth across Africa is capacitated on groundwater to enhance consideration of social and cross-sectoral dimensions of groundwater | D47: Progress towards this outcome has began, with the appointment of the Youth Ambassadors nearly finalised and youth forum to soon follow. Key action is to finalize all YAs appointments & collectively develop a youth forum action plan. | F47: IWMI | H47: December of 2025

Sheet 3. Implementation Progress
B1: 3. Implementation Progress (IP)
B3: (Please indicate progress achieved during this FY as per the Implementation Plan/Annual Workplan)
B5: Outcomes and outputs | D5: Indicators (as per the logical framework) | F5: Main achievements in the last 12 months (please DO NOT repeat results reported in previous year PIR) | L5: Describe any variance 9 in delivering outputs
B7: Outcome 1.1 Enhanced capacity and sustainability of the AMCOW Secretariat to execute its mandate to support Regional Economic Communities (RECs), River Basins Organization (RBOs) & Member States (MSs) in achieving groundwater-based water security and resilience
B8: Output 1.1.1 The Groundwater function at the AMCOW Secretariat is fully operationalised and provides the anchor for APAGroP and G4DR objectives within AMCOW Organization (RBOs) & Member States (MSs) in achieving groundwater-based water security and resilience | D8: Continued support of regional gender and ethnic minority balanced AMCOW confirmed and operational. | F8: Funding through the project has been initiated to contribute to the operationalisation and sustainability of GW activities and advance APAGroP at AMCOW. This is manifested in progress toward outputs 1.4.1 below as well as initial planning to strengthen WASSMO. Related, stakeholder consultations conducted via AMCOW & AUC routine regional consultation sessions have asserted APAPGroP as the anchor within the regional framework of actors in the region.
B12: Outcome 1.2 Greater resilience to shocks through increased capacity and use of tools to assess groundwater quantity and quality
B13: Output 1.2.1 Lesson-sharing on groundwater knowledge among basins & other key stakeholders (e.g., RECs) through the application of an assessment framework to gauge progress toward incorporating groundwater into water resources programs and plans, to be shared with AMCOW and the African Union Commission (AUC) as part of Water and Sanitation Sector Monitoring (WASSMO) process | D13: Number of knowledge sharing events held in partnership with regional centers of excellence and their networks to ensure sustainable capacity improvements. Level of gender responsiveness to the content of the knowledge sharing events | F13: AMCOW convened a series of Regional Consultation sessions from mid-March to early April, across the 5 Regions, which included lesson sharing in working groups/breakouts. The regional consultations were convened on the following dates for the 3 regions: 1. West Africa - 17- 19 March 2025, Abuja, Nigeria 2. East Africa - 4 - 6 March 2025, Protea Hotel Dar es Salaam, Tanzania 3. Southern Africa - 24-26 March 2025, Hyatt Regency Hotel, Harare, Zimbabwe In addition, AMCOW convened PANAFCON-3 27-29 May in Lusaka
B17: Outcome1.3 Environments that enable & support management of groundwater opportunity and risk
B18: Output 1.3.1 Adoption & application of policy guidelines on groundwater use and management, co-developed with multisectoral actors | D18: Policy guidelines on groundwater use and management endorsed by relevant agencies. | F18: No specific achievements for this output yet
B22: Outcome 1.4 Coordinated multi-scale approach to groundwater planning in Africa
B23: Output 1.4.1 Africa-wide Groundwater Strategy & Coordinative Framework that is driven by data and supported through a “Hub and Spoke” model between AMCOW and regional centres (Southern African Development Community (SADC) – Groundwater Management Institute (GMI) - Sahara and Sahel Observatory (OSS) – Intergovernmental Authority on Development (IGAD) | D23: Groundwater strategy and framework approved by relevant agencies and support by regional centers documented. | F23: The initial draft of the Groundwater Strategy and Framework (now referred to as the Strategic Program on Groundwater for Water Security and Resilience) was developed, comprising a framework of built around 4 Stategic Objectives (SOs), namely: SO1: Strengthen the policy, legal and institutional environment and practice for groundwater development, utilisation and management towards resilient rural economies, sustainable urban centres, and overall quality of livelihoods, social security and protection, SO2: Support multilevel human and institutional groundwater management capacity development for water security and climate resilience, SO3: Build a business case to demonstrate the economic value and cross-sectoral benefits of structured investment in groundwater development and management, SO4: Develop and operationalise tools, to raise awareness, support evidence-based decision making and catalyse political and stakeholder buy-in and ownership. Key regional organisations and sector experts (including those with expertise in groundwater, knowledge management, academia, project development & management) provided inputs into the version of the SPGW that was circulated for broader stakeholder consultation ahead of PANAFCON-3, where the side session made additional recommendations on what to be included/enhanced in the document.
B27: Outcome 2.1 More informed decision making on groundwater-related risks and opportunities under present and future climate and development scenarios
B28: Output 2.1.1 Knowledge products, information, and policy products that map groundwater-related risks and opportunities to water security and resilience | D28: Assessment, including considerations of gender equality aspects and the use of disaggregated data, endorsed by the countries’ representatives in the Steering Committee. F/M participation of officials from relevant ministries and institutions in the Assessment Team | F28: The GESI Water and Livelihoods Assessment Report was finalised mid-June 2025; it discusses how integrating Gender Equality and Social Inclusion (GESI) into groundwater management across Africa can lead to more equitable, effective, and sustainable outcomes, highlighting thematic gaps, data needs, and opportunities for inclusive governance. A particular thrust of this work was how to include GESI indicators into a pan-Africa assessment of groundwater opportunities and risks. This assessment is informed by desktop study research, which reviews existing literature, policy documents, and relevant databases and was led by the GESI focal for the project in conjuction with two colleagues. Two of the three people involved in this product were women.
B32: Outcome 2.2 RECs, RBOs, MSs capacitated in groundwater assessment tools and approaches
B33: Output 2.2.1 Joint learning and exchange on sustainably assessing quantity and efficiently approaching groundwater quality, and potential risks of groundwater | D33: Number of training courses held during the project lifetime. Number of trained experts (F/M). Number of trainees by gender, locality and age. | F33: No specific achievements for this output yet
B37: Outcome 3.1 Evidence-driven transboundary groundwater management in the Shire aquifer system
B38: Output 3.1.1. Gender, Indigenous Peoples presence and water assessment for the transboundary Shire aquifer system. | D38: Increased in-depth understanding of gender related issues in terms of water and groundwater for the Shire basin aquifer. | F38: Gender focus discussions were held during the Shire Technical Meeting as one of the site visits to the Paiva & Chizenga Communities on the 15th April 2025. The community members that attended the group discussions were mostly women, with persons from the ingenious group in the area also part of the discussion. Discussions/feedback from these sessions with the communities fed into the Gender and Water Assessment, which was completed for the transboundary Shire Aquifer System in June 2025. The report provides tailored recommendations on how to integrate Gender Equality and Social Inclusion (GESI) into groundwater governance, planning, and infrastructure development in the Shire Basin (compiled by the project GESI Focal).
B42: Output 3.1.2 Design of harmonized groundwater monitoring network, rehabilitation of non-functional wells and targeted new borehole drilling | D42: Agreement on Design of harmonized groundwater monitoring network. Participation of relevant stakeholders identified bygender, locality and ethnicity in the design and implementation of the monitoring network. | F42: There have been initial steps toward monitoring network design. Two National Coordinators were appointed for the Shire Basin, 1 from Mozambique and 1 from Malawi. The National Coordinators were instrumental in collecting data (coordinating with the Ministries & other national Institutions like ARA Centro) to collect biophysical and gender data. Extensive planning has taken place, including convening the Shire technical meeting between 14 - 16 April 2025, Zonse Villa Chikwawa Malawi to support planning & implementation of a hydrocensus in July 2025, which will serve as a foundation for the design of the monitoring network.
B46: Output 3.1.3 Data logger installation in selected boreholes and analysis of measured data | D46: Number of boreholes drilled and established for monitoring system Agreement on the selection boreholes for installation of data loggers including procedures for gender balance participation. Participation of members of local communities and relevant stakeholders identified by gender, locality and ethnicity in the selection of pilot boreholes. | F46: No specific achievements for this output yet
B50: Output 3.1.4 Water quality monitoring and laboratory analysis | D50: agreement on the selection of monitoring variables and provision of water quality analysis. | F50: No specific achievements for this output yet
B54: Output 3.1.5 Shared data platform to support improved aquifer planning | D54: Agreement on the design of the shared data platform reached. | F54: No specific achievements for this output yet
B58: Outcome 3.2 Groundwater integrated into catchment planning in Uganda
B59: Output 3.2.1 Tools and evidence base for managing and planning groundwater in the Upper Nile Water Management Zone (UNWMZ) of Uganda | D59: Provision of groundwater management supporting tools and analysis. Increased in-depth understanding of gender related issues in terms of water and groundwater for the Upper Nile Water Management Zone (UNWMZ) of Uganda | F59: Initial steps were taken in form of data collection. IIASA held a online meeting with MWE-Uganda to outline groundwater data needs (online) and later defined the roadmap for integrating groundwater modelling into existing hydrological models. Linked to that, existing data from other groundwater-related projects in Uganda were compiled and cross-checked to inform the list of additional data required from MWE and other relevant institutions.
B63: Outcome 3.3 Supporting integrated aquifer management & Reducing groundwater risks in the Shared Mono Basin
B64: Output 3.3.1 Gender, Indigenous Peoples presence and Water Assessment for the shared Mono basin | D64: Increased in-depth understanding of gender related issues in terms of water and groundwater for the shared Mono basin | F64: Gender-focused discussions were conducted in the Mono Basin during site visits to communities outside Nangbeto, specifically in Datcha and Korikossa (Togo), and in Houéyogbé and Athiémé (Benin), on May 13–14, 2025. These discussions fed into the Gender and Water Assessment for the Mono Basin, which was finalised in June 2025. The assessment, compiled by the project GESI focal points, drew from both desktop review and field-level consultations to identify how gender dynamics affect groundwater access, use, and decision-making. and provides recommendations to support more inclusive groundwater governance and development in the basin. Attention was given to indigenous people in the gender and water assessment.
B68: Output 3.3.2 Design of harmonized groundwater monitoring network and data loggers installed | D68: Number of monitoring sites established. Number of data loggers installed and number of analysis provided.. | F68: Technical meeting Mono was convened on the 14-15 May 2025 in Grand Popo. Hydrocensus was conducted in June 2025; the Team, comprising representatives from Mono Basin Authority, Ministry of Water Togo & Benin, IWMI and the National Coordinators, collected data from monitoring wells in the basin. This will serve as the basis for monitoring network design.
B72: Output 3.3.3 Water quality monitoring and laboratory analysis | D72: Number of years of monitoring. Number of analyses. | F72: No specific achievements for this output yet
B76: Output 3.3.4 Shared data platform to support improved aquifer planning | D76: Number of data sharing platforms introduced and maintained. | F76: No specific achievements for this output yet
B80: Output 3.3.5 Strategic well rehabilitation to reduce flood risk to drinking water supplies | D80: Number of designs of flood protection mechanisms | F80: No specific achievements for this output yet
B84: Outcome 3.4 Decision-making on prioritization of groundwater investments enhanced
B85: Output 3.4.1 Knowledge exchange, study tours & communities of practice to support cross-pilot learning | D85: Number of study tours conducted and communities of knowledge established. At least 40% participation of women and at least 40% participation of youth | F85: The first Community of Practice (COP) for sharing experience across Case Studies was implemented in the context of Outcome 3.4. The SADC-GMI hosted the first COP meeting on Zoom on March 27, 2025. This came after the Terms of Reference (TORs) for the Community of Practice (COP) were developed and shared for inputs from all COP members before being adopted during the first COP meeting. The second COP was held on 26 June 2025, where all National Focals Points shared best practices concerning GW from their countries as part of the peer-learning initiative embedded in the COP.
B89: Output 3.4.2 Synthesis & dissemination of lessons | D89: Number of assessment reports published and dissemination workshops conducted. | F89: No specific achievements for this output yet
B93: Outcome 4. 1 Youth across Africa is capacitated on groundwater to enhance consideration of social and cross-sectoral dimensions of groundwater
B94: Output 4.1.1 Youth Forum for G4DR – creating opportunities for youth of all genders and social differences i) for learning and interaction with professionals and decision makers active in groundwater; and ii) putting forward their voice in decision making processes. | D94: TOR for Youth Forum endorsed by participating agencies and at least 3 meetings held. | F94: TORs were formulated for Youth Ambassadors, and the recruitment process was undertaken to fill these roles. Focal points in each of the project’s five countries nominated three candidates, the selection procedure unfolded, and interviews were held in May 2025. Succesful candidates were selected, and contracting processes undertaken in June 2025.
B98: Output 4.1.2 Website or social media platform by the Youth Forum, attracting youth to the debate and building knowledge sharing around the importance of youth in taking an active role in G4DR in Africa, and continue driving the agenda forward. | D98: Number of websites of social media platforms, number of posts/articles published, and number of years maintained. Number of youth outreach ambassadors for the G4DR project as a part of the Forum. | F98: No specific achievements for this output yet
B102: Outcome 5.1 Knowledge management & dissemination to support visibility and adoption
B103: Output 5.1.1 Programme findings and lessons learned identified and contribute to IW:LEARN. | D103: Number of dissemination events and experience notes / documents / videos including on gender activities. Coordination mechanisms with relevant national and international stakeholders implementing NRM, water and agricultural fisheries activities. | F103: The project website was developed and has been routinely updated with stories, including the blog article developed after the Inception Workshop convened in Cotonou, Benin, in January 2025, which was reshared on IW-Learn News.
B107: Output 5.1.2 Information sharing mechanism & communication strategy developed enabling broad access to best practices and lessons learned in the countries supporting AMCOW. | D107: Number of information sharing mechanisms and number of communication strategies endorsed. | F107: The communication strategy was finalised & encompasses a communications plan (including social media) and a project brand guideline. Communications personnel or designated focal points from partner organisations, including AMCOW, were consulted and given the opportunity to provide comments and inputs to the documents. Additionally, the project has social media profiles on Facebook & LinkedIn, which are (routinely) updated by IWMI & IIASA.
B111: Outcome 5.2 Adaptive results-based management and sharing of information and lessons learned.
B112: Output 5.2.1 Gender-reponsive monitoring system operating and providing systematic and regular information updates on progress towards reaching G4DR targets | D112: Number of monitoring systems operational and number of information updates provided. | F112: The contracting process for the M&E Framework has been completed, and a draft framework was developed in consultation with the project team. The framework is designed to track progress against project targets and includes a dedicated section for monitoring gender and youth integration. Specifically, it captures sex- and age-disaggregated data on participation in project activities, such as attendance at workshops, representation in training sessions, and access to learning opportunities.
...

Sheet 4. Summary_Progress & Challenge
B2: 4. Summary on progress and challenges
B3: Please provide a summary paragraph on project implementation progress consistent with the information reported in section 2 and 3 of the PIR (Max 400 words) (This section will be uploaded to the GEF portal)
B5: During the last quarter of year 1 (2024) and the first two quarters of Year 2 (2025), the G4DR project has made steady progress, focusing on inception activities, coordination mechanisms, and groundwork technical activities to unfold later in the project. Under Component 1, initial engagement toward regional policy alignment began with AMCOW’s Strategic Programme on Groundwater (SPGW), including the development of an initial draft og the Strategic Programme and an early round of consultations during the routine regional consultations & at Africa-wide PANAFCON-3. Component 2 has progressed in data access negotiations and conceptual groundwork for continental groundwater risk/opportunity mapping. This includes contracting with IGRAC for technical support. Component 3 has advanced pilot groundwork in four countries. National Coordinators were contracted in Malawi, Mozambique, Benin, and Togo. Country-specific TORs and 2025 workplans were validated early in the year, followed by technical meetings in Q2 of Yr 2 on the planning of the hydrocensus. The Community of Practice (CoP) under 3.4.1 was initiated to support cross-country learning as well, led by SADC-GMI Youth engagement under Component 4 focused on recruitment preparation for the Youth Ambassadors (YAs). The YAs ToRs were finalised, and recruitment began in all countries, with interviews held during Q2 of Yr 2, and YAs are expected to start in Q3/1 July 2025. Component 5 successfully convened the inception workshop and launched knowledge-sharing structures. The project communication strategy was finalised, the G4DR website was developed and is currently being populated (on-going). Internal coordination tools (templates, shared folders) were disseminated, and initial project outputs have begun to be shared through institutional (IWMI) and the IW - LEARN channels.
B7: Please provide a summary paragraph on challenges of project implementation consistent with the information reported in section 2 and 3 of the PIR (Max 400 words) (This section will be uploaded to the GEF portal)
B9: Key challenges relate to delays with regard to IIASA contracting in components 2 and 3. Under Component 2, delays were experienced in finalising the contract with IIASA. The agreement was concluded in January 2025. Under Component 3, the contract from IIASA to the Ugandan case study coordinator is still outstanding as contractual arrangements between IIASA and MWE are still ongoing (pending approval from FAO for the subcontract). Continued delays may put the project activities in Uganda at risk.
B12: Implementation of Exit Strategy
B13: Has the project developed an Exit Strategy? If yes, please describe the progress to implement it.
B15: How is the project enhancing institutional capacities to foster country ownership for more durable/sustained results?
B16: As of the end of Q2 of Yr 2 (2025), the project demonstrates strong country ownership through consistent engagement in various in-country activities. Project materials consistently feature the countries' Coats of Arms, reinforcing the message that the project is conducted "in partnership with the countries" particularly at the regional level, the project is supporting AMCOW in developing the Strategic Programme on Groundwater (SPGW), which aims to embed groundwater in continental frameworks where the process is consultative and positions the countries at the centre. The Community of Practice provides a platform for peer learning and facilitates the sharing of lessons learned among participating countries/stakeholders. Finally, in all field activities, including the Hydrocensus technical meeting, the planned Hydrocensus in both the Mono and Shire basins, and related undertakings, relevant governmental bodies responsible for water and groundwater are consistently invited. This approach not only allows the project team to learn from and harness their existing knowledge but also actively contributes to their capacity building.

Sheet 5. ESS Risk
B2: 5. Environmental and Social Safeguards (ESS): risks from the project
B4: Initial ESS Risk Classification (at CEO Endorsement/Approval Stage) | E4: Moderate
B7: New environmental and social risks. | E7: No new ESS-triggered risks identified.
B15: Progress made towards implementing the Enivronmental and Social Management Plan (ESMP) (only for Moderate and High Risk Projects) | E15: MItigation measures (e.g., gender and water assessments) contained in the EMSP have begun to be implemented.
B23: Grievance Redress Mechanism (GRM) | E23: The project Redress Mechanism (GRM) described in the ESMP aligns with the commitments outlined in the ProDoc, and as of the current reporting period, no grievances have been received.

Sheet 6. Risks to the Project
B2: 6. Risks to the Project
B4: The following table summarizes risks identified in the Project Document and reflects also any new risks identified during the project implementation.
C7: Type of risk | E7: Risk rating11 | F7: Identified in the ProDoc Y/N | G7: Description of Risk | L7: Mitigation measure implemented
B9: 1 | C9: Environmental | E9: High | F9: Yes | G9: Climate variability and change: climate change is expected to have significant impacts on water resources and water-related sectors in Africa. | L9: This risk did not materialize during this implementation phase but will continue to be monitored given its relevance to Components 2 and 3.
B13: 2 | C13: Environmental | E13: Low | F13: Yes | G13: Risks related to COVID-19 or any other pandemic | L13: This risk did not materialize, as the pandemic had already ended before the project began.
B17: 3 | C17: Operational & Logistical | E17: Low | F17: Yes | G17: The capacity to effectively carry out monitoring and evaluation activities during programme implementation was identified as a risk during the project development. | L17: A Monitoring & Evaluation Framework is available & will be implemented from mid 2025. In addition to monitoring & evaluation, there is a Monthly Project Meeting with all partners, which is supported by monthly/biweekly focused calls with each of the executing partners.
B21: 4 | C21: Environmental | E21: Low | F21: Yes | G21: Delays due to COVID-19 or any other pandemic lead to slow implementation or stalling of the project | L21: This risk did not materialize, as the pandemic had already ended before the project began.
B25: 5 | C25: Environmental | E25: Moderate | F25: Yes | G25: Delays due to COVID-19 or any other pandemic lead to slow or stalling of the local activities including stakeholder engagement process and capacity development activities that involve local and international mobilities | L25: This risk did not materialize, as the pandemic had already ended before the project began.
B29: 6 | C29: Environmental | E29: Low | F29: Yes | G29: Impacts from COVID-19 affect the availability of technical expertise and capacity. | L29: This risk did not materialize, as the pandemic had already ended before the project began.
B33: 7 | C33: Economic | E33: Low | F33: Yes | G33: Increased national debt/fiscal crises due to costs of COVID-19 responses influencing sustainability of project results where Government funding is needed. | L33: This risk did not materialize, as the pandemic had already ended before the project began.
B37: 8 | C37: Social | E37: Low | F37: Yes | G37: Future risks of similar crises (including from human-livestock-wildlife interaction) | L37: This risk did not materialize during this implementation phase.
B41: 9 | C41: Partnership & Coordination | E41: Moderate | F41: Yes | G41: Capacity and information constraints: regions, where case studies are conducted may have information and capacity constraints, such as security risks and political instability. Moreover, the time spent with regional stakeholders may be too limited to fully understand and incorporate political and historical realities. | L41: Before any meetings, workshops, or travel, the PMU consults with country teams and local counterparts on safety-related matters. These decisions are further guided by IWMI’s travel security protocols to avoid entering high-risk or volatile situations. Where possible, the project also relies on existing data to minimise unnecessary travel and opts for online validation meetings instead.
B45: 10 | C45: Partnership & Coordination | E45: Moderate | F45: Yes | G45: Limited ownership and interest of partners: ownership and interest of countries, and/or private sector partners is limited in the development of policy documents (e.g., guidelines, framework and strategy). | L45: During the development of these documents — namely the Strategic Framework on Groundwater — the process has been highly inclusive of the countries, RECs, and similar organisations to ensure they are informed and involved from the outset, leaning on the convening expertise of AMCOW, which helps to mitigate the risk of limited ownership or alignment.
B49: 11 | C49: Partnership & Coordination | E49: Moderate | F49: Yes | G49: Limited uptake of project outcomes: national and subnational uptake of project outcome is limited due to the low-capacity environment. | L49: This risk has not materialized.
B53: 12 | C53: Institutional | E53: High | F53: Yes | G53: Lack of commitment from stakeholders. | L53: To maintain stakeholder commitment, the project ensures ongoing communication and involvement through regular team meetings and the Community of Practice platform, where representatives from all participating countries are given space to share, learn, and engage. During field activities, the team also includes not only government/ministry representatives but also other key stakeholders, including community members, to ensure broad awareness and try to get buy-in at all levels.
... B69: 16 | C69: Institutional | E69: Moderate | F69: Yes | G69: Limited sustainability of project activities postcompletion. | L69: It is too soon to evaluate this risk, as project activities have just begun.
B73: 17
B79: Project overall risk rating (Low, Moderate, Substantial or High):
B80: FY2024 rating | C80: FY2025 rating | D80: Comments/reason for the rating for FY2025 and any changes (positive or negative) in the rating since the previous reporting period
C82: Low | D82: The project has maintained a Low risk rating. No major risks materialised during FY2025/since project start in Sept 2024, and all anticipated risks were either resolved or effectively mitigated.
B94: 11 Risk ratings means a rating of the overall risk of factors internal or external to the project which may affect implementation or prospects for achieving project objectives. Risk of projects should be rated on the following scale: Low, Moderate, Substantial or High.

Sheet 7. Follow-up on Mid-term review
B2: 7. Follow-up on Mid-term review or supervision mission
B4: If the project had an MTR or a supervision mission in 2024, please report on how the recommendations were implemented during this fiscal year as indicated in the Management Response or in the supervision mission report.
B7: MTR or supervision mission recommendations | F7: Measures implemented during this Fiscal Year
B9: Recommendation 1:
B11: Recommendation 2:
B13: Recommendation 3:
B15: Recommendation …
B17: Recommendation…

Sheet 8. Minor project amendments
B2: 8. Minor project amendments
B4: Minor amendments are changes to the design or implementation that do not have significant impact on the project objectives or scope, or an increase of the GEF project financing up to 5% as described in Annex 9 of the GEF Project and Program Cycle Policy Guidelines 12. Please describe any minor changes that the project has made under the relevant category or categories and provide supporting documents as an annex to this report if available. (This section will be uploaded to the GEF Portal)
B9: Category of change | D9: Provide a description of the change | I9: Indicate the timing of the change | J9: Approved by
B12: Results framework
B14: Components and cost
B16: Institutional and implementation arrangements
B19: Financial management
B21: Implementation schedule
B23: Executing Entity
B25: Executing Entity Category
B27: Minor project objective change
B29: Safeguards
B31: Risk analysis
B33: Increase of GEF project financing up to 5%
B36: Co-financing
... B49: 12 GEF Council meeting documents, guidelines, project and program cycle policy 2020 update

Sheet 9. Stakeholders' Engagement
C2: 9. Stakeholders' Engagement
C4: Please report on progress, challeges, and outcomes on stakeholder engagement (based on the description of the Stakeholder Engagement Plan) included at CEO Endorsement/Approval during this reporting period. (This section will be uploaded to the GEF Portal)
C8: Profile | E8: Stakeholder name | G8: Type of partnership | H8: Progress, results & Challenges on Stakeholder's Engagement
C9: Private Sector entities | E9: BaseFlow | G9: National Technical Stakeholder | H9: Participated in Malawi stakeholder consultation. Provided local expertise on sustainable water supply systems. Sub contrator for hydrocenus
C10: Private Sector entities | E10: Wellfield | G10: National Technical Stakeholder | H10: Consulted in Malawi during the Hydrocensus Planning Technical Meeting. Brought expertise on groundwater infrastructure.
C11: NGOs | E11: Water Aid Malawi | G11: Civil Society / WASH Stakeholder | H11: Consulted in Malawi during the Hydrocensus Planning Technical Meeting.
C12: NGOs | E12: Water Aid Southern Africa | G12: Civil Society / Regional NGO | H12: Explore potential synergies in policy & goverance in the Shire landscape
C13: Government Institutions | E13: Ara Centro | G13: Government Entity/Government Counterpart | H13: Participated in the Inception Workshop, the 1st PSC meeting and also participated in the COP, in addition to being part of the Technical Meeting (Shire); actively engaged in planning for the Shire Hydrocensus
C14: Others | E14: IGRAC | G14: Technical Expert | H14: Participated in Inception Workshop & is technical support/advisory consultant for IIASA in Component 2
C15: Others | E15: BGS | G15: Technical Expert | H15: Participated in Inception Workshop
C16: IGOs | E16: AMCOW | G16: Execution Partner | H16: Project core partner (executing partner) leading Component 1 and leading the development of the AMCOW Strategic Programme on Groundwater in the project
C17: Others | E17: IIASA | G17: Execution Partner | H17: Project core partner (executing partner) leading Component 2 and leading the mapping GW Risks in Africa
C18: Others | E18: SADC - GMI | G18: Execution Partner | H18: Project core partner (executing partner) leading Component 3.4 and serves as secretariate of the COP
C19: Government Institutions | E19: Ministries in Benin, Malawi, Mozambique, Togo, Uganda | G19: Government & National Focal Point | H19: Participated in the Inception Workshop, the 1st PSC meeting (those who are members) and also participated in the COP, in addition to being part of the Technical Meetings (Mono Basin & Shire) and the Hydrocenus (Mono Basin).
... C21: Others | E21: IW:LEARN | G21: Partner/Collaboration | H21: Participation at the bi-annual IW-Learn Conference and engagement on communications.

Sheet 10. Gender Mainstreaming
B2: 10. Gender Mainstreaming
B4: Information on Progress on Gender-responsive measures as documented at CEO Endorsement/Approval in the gender action plan or equivalent (when applicable) during this reporting period. (This section will be uploaded to the GEF Portal)
B6: Category | E6: Yes/No | F6: Briefly describe progress and results achieved during this reporting period.
B8: a. Closing gender gaps in access to and control overal natural resources | E8: Yes | F8: A promising start has been made as the project team has developed Gender Equality and Social Inclusion (GESI) and groundwater assessments for two case study areas (Shire and Mono). These assessments offer practical recommendations for the project to identify realistic opportunities through its activities to address gender gaps in access to and control over groundwater resources. In addition, an Africa-wide gender and livelihoods assessment was developed to support the pan-Africa groundwater risk and opportunity assessment, as part of Component 2.
B12: b. Improving women's participation and decision making | E12: Yes | F12: Improving women's participation and decision making is planned as the project progresses through the different components and associated activities.Thus far, women have actively contributed by sharing their local knowledge and lived experiences regarding groundwater and its sources during the limited community discussions conducted.
B16: c. generating socio-economic benefits or services for women | E16: Yes | F16: Achieving this long-term goal can only be achieved through better planning and management of groundwater resources, ultimately delivering socio-economic benefits to women by expanding livelihood opportunities. Engaging women in discussions about their needs and opportunities, based on their own experiences, will provide valuable guidance for the project. Given the long term nature of this goal, it is difficult to report any substantive progress at this early stage.
B20: Any other good practices on gender | E20: Yes | F20: The project is actively recruiting young women as part of their Youth Ambassadors (Component 4) - two women have thus far been appointed (Benin and Malawi).

Sheet 11. Knowledge Management
B2: 11. Knowledge and Learning Activities
B4: Knowledge activities/products (when applicable), as outlined in Knowledge Management (and Learning) Approach approved at CEO Endorsement/Approval, during this reporting period. (This section will be uploaded to the GEF Portal)
B6: Knowledge management and Learning (KML): Does the project have a KML strategy? | E6: Yes
B8: If YES, what is the implementation progress? In your answer, please describe how the project is fostering knowledge sharing and learning among stakeholders at national and sub-national level. | E8: The project continues to work with national/local partners during field activities, including the hydro-census in the Mono and Shire River Basins. Activities are always done jointly with ministries and national water authorities, allowing teams to learn from each other. On information sharing, the project has developed and published the project brief( which will be translated to French and Portuguese, working languages for 3 of the case study areas. After each major workshop or meeting, the Team puts together a blog article which goes on the project website, communicating what the workshop/meeting was about & also the next steps. These are supplemented by social media content that highlights the articles and/or field progress, driving engagement on the website & social platforms. An upcoming opportunity to enhance knowledge management & sharing lessons is the newly appointed Youth Ambassadors in each five countries, who will be reaching wider audiences through tailored messaging to young people and local communities.
B10: If NO, how does the project identify, collect and document good practices?
