Workbook
Name Countries: Countries!$A$2:$A$250
Name DevCells: '2. Progress towards outcomes'!#REF!
Name DevCells: #REF!
Name DevRatings: '2. Progress towards outcomes'!#REF!
Name DevRatings: #REF!
Name DevScore: #REF!
Name DevScore: _Calc!$D$20
Name ImpCells: '3. Implementation Progress'!$D$70:$M$72
Name ImpRatings: '3. Implementation Progress'!$D$70:$M$72
Name ImpScore: #REF!
Name ImpScore: _Calc!$D$21
Name NumRating: #REF!
Name NumRating: _Calc!$B$2:$B$9
Name TxtRating: #REF!
Name TxtRating: _Calc!$A$2:$A$9
Name Weights: #REF!
Name Weights: _Calc!$E$14:$I$14
Name Weights2: #REF!
Name Weights2: _Calc!$E$17:$H$17

Sheet Table of Contents
B6: FAO-GEF Project Implementation Report
B7: 2026 – Revised Template
B8: Period covered: 1 July 2025 to 30 June 2026
B9: Table of Contents
B10: =HYPERLINK("#'1. Basic project data'!N10","1. BASIC PROJECT DATA") -> 1. BASIC PROJECT DATA
B11: =HYPERLINK("#'2. Progress towards outcomes'!N11","2. PROGRESS TOWARDS ACHIEVING PROJECT OBJECTIVE(S) (DEVELOPMENT OBJECTIVE)") -> 2. PROGRESS TOWARDS ACHIEVING PROJECT OBJECTIVE(S) (DEVELOPMENT OBJECTIVE)
B12: =HYPERLINK("#'3. Implementation Progress'!N12","3. IMPLEMENTATION PROGRESS (IP)") -> 3. IMPLEMENTATION PROGRESS (IP)
B13: =HYPERLINK("#'4. Summary on progress'!N13","4. SUMMARY ON PROGRESS AND CHALLENGES") -> 4. SUMMARY ON PROGRESS AND CHALLENGES
B14: =HYPERLINK("#'5. ESS Risk'!N14","5.ENVIRONMENTAL AND SOCIAL SAFEGUARDS (ESS):RISKS FROM THE PROJECT") -> 5.ENVIRONMENTAL AND SOCIAL SAFEGUARDS (ESS):RISKS FROM THE PROJECT
B15: =HYPERLINK("#'6. Risks to the project'!N15","6. RISKS TO THE PROJECT") -> 6. RISKS TO THE PROJECT
B16: =HYPERLINK("#'7. Follow-up on Mid-term review'!N16","7. FOLLOW-UP ON MID-TERM REVIEW OR SUPERVISION MISSION") -> 7. FOLLOW-UP ON MID-TERM REVIEW OR SUPERVISION MISSION
B17: =HYPERLINK("#'8. Minor project amendments'!N17","8. MINOR PROJECT AMENDMENTS") -> 8. MINOR PROJECT AMENDMENTS
B18: =HYPERLINK("#'9. Stakeholders' Engagement'!N18","9. STAKEHOLDERS' ENGAGEMENT") -> 9. STAKEHOLDERS' ENGAGEMENT
B19: =HYPERLINK("#'10. Gender Mainstreaming'!N19","10. GENDER MAINSTREAMING") -> 10. GENDER MAINSTREAMING
B20: =HYPERLINK("#'11. Knowledge Management'!N20","11. KNOWLEDGE MANAGEMENT ACTIVITIES") -> 11. KNOWLEDGE MANAGEMENT ACTIVITIES
B21: =HYPERLINK("#'12. Indigenous & Local Involve.'!N21","12. INDIGENOUS PEOPLES AND LOCAL COMMUNITIES INVOLVEMENT") -> 12. INDIGENOUS PEOPLES AND LOCAL COMMUNITIES INVOLVEMENT
B22: =HYPERLINK("#'13. Co-Financing Table'!N22","13. CO-FINANCING TABLE") -> 13. CO-FINANCING TABLE
B23: =HYPERLINK("#'14. GEO Location'!N23","14. GEO LOCATION INFORMATION") -> 14. GEO LOCATION INFORMATION
B29: IMPORTANT DISCLAIMER:
B30: The final version of this PIR will be submitted to the GEF Secretariat.
B31: The report will then be publicly available on the GEF website (click here).
B32: Sensitive information should be submitted in Annex to be uploaded separately.
B33: In such cases, please contact faogef-pir-support@fao.org for guidance.

Sheet 1. Basic project data
B2: 1. Basic Project Data
B3: General Information
B4: Region: | E4: Europe and Central Asia (REU)
B5: Country(ies): | E5: Azerbaijan, Kazakhstan, Kyrgyzstan, Tajikistan, Türkiye
B6: Project Title: | E6: Lifecycle Management of Pesticides and Disposal of POPs Pesticides in Central Asian countries and Türkiye
B7: FAO Project Symbol: | E7: GCP/SEC/011/GFF
B8: GEF ID: | E8: 5000
B9: Type of Trust Fund(s): | E9: GFF
B10: GEF Focal Area(s): | E10: Chemicals (Persistent Organic Pollutants – POPS)
B11: Project Executing Partners: | E11: a. Azerbaijan: Ministries of Agriculture, Environment and Health, Food Safety Agency (new, not in ProDoc); b.Kazakhstan: Ministries of Agriculture, Environment and Health; c. Kyrgyzstan: Ministry of Water Resources, Agriculture and Processing Industry; Ministry of Natural Resources, Ecology and Technical Supervision (new, not in ProDoc. Changes are due to fundamental government reorganisation in spring 2021); d. Tajikistan: Committee of Environmental Protection under the Government of the Republic of Tajikistan in collaboration with the Ministries of Agriculture and Health; e. Türkiye: Ministry of Agriculture and Forestry.
B12: Initial project duration (years): | E12: 4 years
B13: Project Dates
B14: GEF CEO Endorsement Date: | E14: 42657
B15: Actual Agency Approval Date | E15: 42654
B16: Project Implementation Start Date/EOD: | E16: 43388
B17: First Disbursement Date | E17: 43507
B18: Planned Project End Date/NTE1: | E18: 44848
B19: Revised project implementation End date (if approved)2: | E19: 30/06/2026
B20: Actual Completion Date: | E20: 30/06/2026
B21: Expected Financial Closure Date: | E21: 46568
B22: Funding
B23: GEF Grant Amount (USD): | E23: 8136986
B24: Total GEF grant delivery (as of June 30, 2026 (USD): | E24: 7906683.7
B25: Total Co-financing amount (USD)3: | E25: ='13. Co-Financing Table'!K30 -> 38300000
B26: Total estimated co-financing materialized as of June 30, 20264: | E26: ='13. Co-Financing Table'!N30 -> 1.3369051e+08
B27: M & E Milestones
B28: Date of Last Project Steering Committee (PSC) Meeting: | E28: 19/12/2025
B29: Expected Mid-term Review date5: | E29: N/A
B30: Actual Mid-term review date (if already completed): | E30: 44657
B31: Expected Terminal Evaluation Date6: | E31: completed
B32: Overall ratings
B33: Overall rating of progress towards achieving objectives/outcomes (cumulative): | E33: =_xlfn.XLOOKUP(DevScore, NumRating, TxtRating, "Not Rated") -> Satisfactory (S)
B34: Overall implementation progess rating: | E34: =_xlfn.XLOOKUP(ImpScore, NumRating, TxtRating, "Not Rated") -> Satisfactory (S)
B35: Overall risk rating: | E35: ='6. Risks to the Project'!C62 -> Moderate
B36: Status
B37: Implementation Status (1st PIR, 2nd PIR, etc. Final PIR): | E37: Final PIR
B40: 1 Date that was originally foreseen at the project’s operationalization and indicated in FPMIS. 2 If NTE extension has been requested and approved by the FAO-GEF Coordination Unit. 3 This is the total amount of co-financing as included in the CEO Document/Project Document. 4 Please refer to the Section 13 of this report where updated co-financing estimates are requested and indicate the total co-financing amount materialized. 5 The Mid-Term Review (MTR) should take place after the 2nd PIR, around half-point between EOD and NTE. The MTR report in English should be submitted to the GEF Secretariat within 4 years of the CEO Endorsement date. 6 The Terminal Evaluation date should be discussed with OED 6 months before the project’s NTE date.
B45: Project Contacts
B46: Contact | E46: Name, Title, Division/Institution | I46: E-mail
B47: Project Coordinator (PC) | E47: Stephan Robinson, Senior Technical Advisor, FAO SEC | I47: stephan.robinson@fao.org
...

Sheet _Calc
A1: Rating text | B1: Score
A2: Highly Unsatisfactory (HU) | B2: 1
A3: Unsatisfactory (U) | B3: 2
A4: Moderately Unsatisfactory (MU) | B4: 3
A5: Moderately Satisfactory (MS) | B5: 4
A6: Satisfactory (S) | B6: 5
A7: Highly Satisfactory (HS) | B7: 6
A8: Unknown | B8: 0
A9: Not Rated | B9: 0
D12: for DevScore
D13: Person | E13: PM/Coord | F13: Budget Holder | G13: LTO | H13: GEF OFP | I13: GTO
D14: Weight % | E14: 20 | F14: 25 | G14: 25 | H14: 0 | I14: 30
D15: For ImpScore
D16: Person | E16: PM/Coord | F16: LTO | G16: GEF OFP | H16: GTO
D17: Weight % | E17: 25 | F17: 35 | G17: 0 | H17: 40
A19: Once you've filled in 2. Progress towards outcomes & 3. Implementation Progress
A20: Please double click and press enter on Cells D20 and D21 | D20: {=_xlfn.LET(_xlpm.hdrRow,MATCH("*Development*Objective*rating*",'2. Progress towards outcomes'!$B:$B,0),_xlpm.rRow,_xlpm.hdrRow+1,_xlpm.ratings,INDEX('2. Progress towards outcomes'!$C:$G,_xlpm.rRow,0),_xlpm.scores,_xlfn.XLOOKUP(_xlpm.ratings,TxtRating,NumRating,0),ROUND(SUMPRODUCT(_xlpm.scores,Weights)/SUM(Weights),0))} -> 5
D21: {=ROUND( SUMPRODUCT( _xlfn.XLOOKUP( CHOOSE({1,2,3,4}, '3. Implementation Progress'!D70, '3. Implementation Progress'!F70, '3. Implementation Progress'!J70, '3. Implementation Progress'!L70 ), TxtRating, NumRating, 0 ), Weights2 ) / SUM(Weights2), 0)} -> 5

Sheet Countries
A1: Select Country
A2: Afghanistan
A3: Åland Islands
A4: Albania
A5: Algeria
A6: American Samoa
A7: Andorra
A8: Angola
A9: Anguilla
A10: Antarctica
A11: Antigua and Barbuda
A12: Argentina
... A250: Zimbabwe

Sheet TypeofTrustFund
A1: Type of Trust Fund
A2: Capacity-building Initiative for Transparency (CBIT)
A3: Global Biodiversity Framework Fund (GBFF)
A4: Global Environment Facility Trust Fund (GFF)
A5: Least Developed Countries Fund (LDCF)
A6: Special Climate Change Fund (SCCF)
A7: Small Grants Program (SGP)

Sheet FocalArea
A1: Focal Area
A2: Multi Focal Area
A3: Biodiversity
A4: Chemicals and Waste
A5: Chemicals/PoPs
A6: Climate Change
A7: Climate Change Adaptation
A8: Climate Change Mitigation
A9: International Waters
A10: Land Degradation

Sheet 2. Progress towards outcomes
A1: 2. Progress towards Achieving Project Objective(s) (Development objective)
A3: (All inputs in this section should be cumulative from project start, not annual)
A6: Region:
A7: Project or Development Objective | B7: Outcomes | C7: Outcome indicators | D7: Baseline | E7: Mid-term Target | F7: End-of-project Target | G7: Cumulative progress level at 30 June 2026 | H7: % of cumulative progress | I7: Progress rating
B8: Outcome 1: 900 tonnes of POPs and obsolete pesticides are disposed of in an environmentally sound manner; and risks from obsolete stocks, contaminated sites and empty pesticide containers are further quantified and reduced | C8: a) Technical capacity available for environmentally sound disposal options for POPs and other hazardous wastes in the Central Asian region | D8: No environmentally sound disposal option existing due to inability to export wastes because of transit restrictions. Alternatives in the region need to be evaluated: CKT, SCWO, HTI to be built/upgraded. | E8: Year 1: Follow up investigation on the feasibility of POPs pesticides disposal in AZE, TJK and TUR completed Political advocacy on lifting of export ban organized Year 2: Disposal strategy (new technology in the region or export) agreed | F8: Year 3: Test destruction in new regional facility completed | G8: Output 1.1: National inventories * AZE: Inventory of 19 sites was done in 2019. All sites must be considered contaminated. At seven sites, a total of 350 metric tonnes (MT) of OP identified, additional buried amount of 100 MT suspected at one site. In addition, 10’000+ MT of obsolete pesticides (mostly POPs) centralised at Jangi storage facility and at least 25’000 MT of contaminated soil needing treatment. Azerbaijan requested in April 2023 an additional inventory in its new areas, however, due to lack of demining of the potential sites the request has been canceled; * KAZ: In view that only fragmented data existed on obsolete pesticides in Kazakhstan, it was decided to implement a full national inventory. In a first step, archival data were researched and eight inventory trainings conducted for representatives of government agencies, local executive bodies, and NGOs) across all regions of Kazakhstan (129 participants, 86 women, 43 men). Three Oblasts were inventoried in 2022, followed by all remaining Oblasts in 2023. Based on the initial screening of historical data, a total of 964 sites across 15 Oblasts were visited in 2022-2023. The inventory identified 168 sites with obsolete pesticides containing a total of 1 261 m³ of mixed pesticides without packaging, at least 146 728 m3 of contaminated soil, about 81 metric tonnes of solid and 404 litres of liquid obsolete pesticides as well as about 1 500 empty pesticide containers needing management. In addition, six burial sites across four Oblasts have been identified. The amount of wastes buried there will be known only after undertaking site-specific investigations. It must be assumed that the figures above are lower estimates. It is likely that more sites will be identified in future or that existing sites contain larger quantities of materials (e.g., buried pesticides) than estimated during the inventories. An inventory report has been developed which provides the inventory data, identifies the highest risk sites, which should be prioritised for remediation, and provides recommendations for an effective national approach to manage in a safe manner Kazakhstan’s obsolete pesticide legacy. All data have been introduced into a GIS system installed at and managed by the MoE. Based on the inventory work, MoE established a Working Group on POPs management, which includes other ministries and institutions. * KGZ: A national inventory of 62 sites was done in 2021. At 26 sites, approximately 5’000 MT of OP found (90 % buried at three landfills, rest scattered across various sites). Many of the former store sites are ownerless, in poor condition, posing a potential hazard to human health and the environment; * TJK: Project inventoried obsolete pesticides at 55 sites in Sukhd Oblast, the last non-inventoried region, and reconciled data from various prior inventories to generate a first national inventory. Data show that main challenge in Tajikistan is not obsolete pesticides in stores but the large volumes of contaminated soil around the 200 mini-landfills across the country. However, there is currently no understanding of the size of the challenge to remediate these 200 sites (contaminants, concentrations, total volume of contaminated materials). Hence, 20 Rapid Environmental Assessments (REAs) were undertaken in October-November 2023 to contribute to a national mini-landfill inventory. Samples taken were send to an analytical lab, based on which the site risk characterisations were done in February 2024. * TUR: OP inventoried at 16 stores across the country. The stocks have been pre-centralised at 11 stores for their safeguarding and disposal in 2024 (→ see Output 1.3). * AZE, KAZ, KGZ, TJK: Training and technical support was provided for better information management of obsolete pesticides by using a Geographical Information System (GIS). The trainings conveyed fundamental methods for data management, digitalisation and spatial analysis of national inventory data on obsolete pesticides using GIS tools and methods. In total, 86 country representatives participated in the trainings. Based on the training, digitalisation of the KAZ inventory data was done. The key role of GIS technologies in obsolete pesticide management was presented for further awareness raising in the conference on digitalisation in agriculture (attached to the April 2024 PSCM in Almaty) and on the World Soil Day (19 December 2024 in Astana). | H8: 1 | I8: Satisfactory (S)
C9: b) 900 tonnes of POPs and other obsolete pesticides safeguarded and disposed of | D9: TUR: 1’239 tonnes of waste safeguarded | E9: Year 1: National inventories updated and validated in AZE, KAZ, and TJK Year 2: Risk reduction and disposal strategies for obsolete stocks adopted in AZE, KAZ and TJK and start of implementation | F9: Year 3: Inventoried stocks safeguarded in AZE, KGZ, and TJK (if disposal options in KGZ and TJK available). Start of disposal in AZE (KGZ and TJK) Year 4: Disposal of min. 900 MT completed in AZE (KGZ and TJK) | G9: Output 1.2: Disposal strategy * Regional disposal strategy developed 2021. * Options for export for disposal were investigated with negative result for all countries. Last turndown received in 2023 in communication between KGZ and China. * AZE: The Holcim Garadagh cement kiln was benchmarked in 2021 for its ability to co-process POPs wastes in compliance with relevant Basel Convention Technical Guidelines. Discussion was held with GEF on 10 June 2022 whether and how to move forward with testing and permitting co-processing. GEF directed to explore further the option of co-processing in close collaboration with GEF STAP and with all steps to be documented for GEF. Following a meeting with Holcim Azerbaijan and Geocycle (the alternative fuels arm of Holcim) in Baku in September 2022 to discuss the benchmark results and the further way forward, a scientific-technical assessment of the probability of successful destruction of POPs pesticides in compliance with the Basel Convention Technical Guidelines at the Holcim Garadagh kiln was undertaken in 2H/2022. Based on the positive recommendations of both assessment reports, three Azerbaijani ministries requested a performance test to demonstrate compliance of POPs co-processing with Basel Convention and national requirements. Following the request, a Task Force has been established including all relevant government institutions, project team and technical consultants to share information, advice and provide necessary support in developing and conducting the performance test. The test protocol has been developed and presented at a first Task Force meeting on 14 June 2024. The test protocol has been submitted to FAO NSP and the GEF for review and comment. Following the non-objection of all reviewing parties, three major activities were undertaken in 2025 for the preparation of the performance test: 1) Additional chemical analysis of the waste to be co-processed during the performance test was undertaken. Aim was to establish the relation between chlorine and DDT contents in the drums, which is important to know to compute the DE/DRE of the performance test. Based on the lab results, the feed order of the drums ensuring a constant chlorine level in the kiln was defined. A total of 757 drums were palletised in the feed order and are now ready for the test. 2) A logistics company was selected which will load the pallets into shipping containers and transport them from their current location to the Garadagh kiln. 3) Emission monitoring during the performance test was tendered. Based on a competitive selection, a highly experienced emission testing company was contracted. The test was initially scheduled for October 2025, but had to be canceled on a very short notice as the kiln did not run stably and could potentially have to be shut down in the midst of the performance test. Following a personal meeting between the Minister of Agriculture of Azerbaijan and the project BH, it was decided to move the test to April 2026 following the annual shutdown, servicing and upgrade of the kiln. The performance test has been undertaken 13-27 April 2026. The test was successful, reaching a DDT destruction level (both DE and DRE) between 99.9999980 % and 99.9999988 %, which is about 80 times higher than the DRE of 99.9999 % required by the Basel Convention. * AZE: On 20 September 2023, a workshop was held in Baku on improving the management of obsolete pesticides and prevent their recurrence. The workshop, among other, has facilitated the establishment of an inter-ministerial commission addressing the management of obsolete pesticides and contaminated soils. * AZE: Following a request by MoA, an assessment of the management capacity at the Jangi obsolete pesticides storage facility was done in July 2023. Based on identified gaps, a training to improve site management and discuss equipment and site upgrade needs was held in 11-15 December 2023. In July/August 2024, SOPs for handling the wastes at the Jangi storage facility were developed by an IC based on International Best Practices. A NC was subsequently recruited to review and adapt these SOPs considering national Azerbaijani requirements and identify additional national capacity gaps for their proper implementation. 150 IBCs for storing liquid wastes were procured for Jangi. The development of an electronic Waste Management Information System (WMIS) was tendered. Work on the WMIS started in January 2025, the system is to register delivered wastes, its storage location, safety information, and in future also mark disposal of the volumes. The system has been delivered to ASA in October 2025, which will manage its further operation and development. To improve capacity for safe handling of wastes at Jangi, a tender was published on UNGM to procure various equipment, which was delivered in 2Q/2026. * KAZ: Benchmarking of one cement kiln (JSC “Jambyl Cement”, Vicat company) for its ability to co-process POPs wastes in compliance with the relevant Basel Convention Technical Guidelines was done in December 2022. The results were presented to the government during a 19 April 2024 workshop in Almaty. While based on the initial assessment the plant is technically able to co-process POPs wastes, current legislation does only have provisions for incinerating, but not for co-processing hazardous wastes. As treatment of hazardous wastes is to happen in a legally regulated space, legislation should be updated first to add co-processing as an allowed technology for hazardous waste treatment. A legislation draft based on best practices for co-processing wastes was developed. * KAZ: An initial review of existing high-temperature disposal capacity in the country was made. Compliance of these incinerators with international standards is doubtful, waste can only be fed in very small batches, and annual disposal capacity for highly chlorinated halogens is incongruent with the amount to be disposed of. Also, national legislation does not foresee regular monitoring of dioxin and furan in absence of accredited national labs. There is also no clear understanding of the role of a performance test to demonstrate disposal safety and compliance of the disposal DE/DRE with the levels set forth by the Stockholm and Basel Conventions. To overcome all these challenges, the MoE established a Working Group on POPs management. * KGZ: A round-table was held on 20 April 2023 in Bishkek to discuss the development of a national strategy for OP management. As an element of this strategy, a roadmap for the construction of two central stores for safeguarded obsolete pesticides in the North and the South of the Republic has been jointly developed with the main partners and approved by relevant Ministries. The road map includes: volumes of OP to be safeguarded; possible store locations with advantages and disadvantages; criteria for the selection of stores. A key obstacle for the overall safeguarding process is the missing designation of the government entity responsible for the management of obsolete pesticides, without which work cannot start. Despite repeated discussions with ministries and the presidential office, no decision on the responsible entity was obtained, which impacted plans for safeguarding obsolete pesticides and constructing central stores. In view of the remaining limited project time, it was decided to refrain from constructing a central store(s), as no decision on the siting could be obtained in 2024. However, nearly 100 MT of obsolete pesticides in the Osh region can still be safeguarded without a governmental decision (see next Output 1.3). The project also supported the design of three options for a central store, the design documents have been transferred to the ministry for further action. (Note: The Ministry of Natural Resources, Ecology and Technical Supervision has been designated as the responsible entity on 21 January 2026.) * For KGZ + TJK: both countries will not investigate disposal options but want waste to be contained (information from communication with related GEF/UNEP project). * TUR: Has well developed national disposal capacity including for POPs waste (but does not accept imported waste). * Webinars were held on POPs disposal options (24 June 2020, 21 participants) and empty pesticides container management systems (CMS) (14 October 2020, 170 participants). Output 1.3: Safeguarding and disposal of 900 metric tonnes (MT) *AZE: 210.342 MT of liquid POPs and other obsolete pesticides safeguarded at central Jangi storage facility. Materials repacked in 11 402 UN-approved drums in a locked store building and awaiting disposal. A video on Jangi and obsolete pesticides safeguarding was finalised in early 2024. The safeguarded wastes are ready for disposal following a successful performance test at the Holcim plant (see 1.2 above), however, while about 500 drums were used for the performance test, the balance will have to be managed by ASA under a government-funded disposal campaign. During discussions in October 2025 and April 2026, ASA underlined that based on a successful performance test they will make a budget request for the disposal of the remaining drums and initiate work for disposing of the solid OP in the Soviet bunkers (10 000 MT). * KAZ: From 30 March – 6 April 2026, an obsolete pesticides store in the village of Nekrasovka, Denisov District, Kostanay Region, was safeguarded. In total, 6 916.8 kg of obsolete pesticides and contaminated materials were repacked into UN-certified packaging in line with best international practice for hazardous chemicals management. The work took place in presence of an experienced FAO supervisor. An Act of Completion of Works was signed, thus handing the waste back to MoE, which intends to move it away and dispose of it until end 2026. * KAZ: The development of lab standards for the analysis of certain key pesticides was supported as otherwise safeguarding and disposal of OP could not be monitored. National methodologies needed to be developed standardising laboratory testing procedures, accreditation, staff certification, and quality management, ensuring reliable and comparable results; defining regulatory standards, providing clear guidelines for accreditation and testing standards, inspections and compliance checks. Although many methodologies exist as European standards, they cannot be directly applied in Kazakhstan due to differences in legislation, technical infrastructure, and local conditions. Therefore, they require first formal adaptation and approval as Kazakh national standards to ensure legal recognition and practical applicability. The same applies to ISO standards, which, under national legislation, cannot be used for national laboratory accreditation or state procurement unless officially adopted as National Standards (ST RK) or as GOST. The adoption order was issued on 30 December 2025 and the standards will enter into force on 1 July 2026. * KGZ: The plan to construct two central stores for obsolete pesticides had to be terminated due to the lack of a governmental entity which would be responsible for the stores (see 1.2 above). The project decided thus to safeguard as much as possible of the known 26 OP sites, but had also to refrain from this plan for the same reason. Nevertheless, safeguarding of a stock of almost 100 MT of obsolete pesticides stored at a military base in the Osh region was initiated as for this site, no governmental decision was needed. An Environmental Impact Assessement (EIA) for the safeguarding work was developed and approved by MoE. a training for the safeguarding team was held 25/26 June 2024. Safeguarding was undertaken in April 2025. Due to a wrong delivery of salvage drums, correct salvage drums needed to be re-procured from a different provider. The salvage drums arrived in late December 2025. From 20-27 April 2026, the remaining 9 drums with liquid obsolete pesticides remaining from the 2025 safeguarding campaign have been repackaged and the materials transferred to Ministry of Defense. And in Batken, 16 953 kg of obsolete pesticides with soils have been repackaged and the materials transferred to the Kulundu local self-government. * TUR: A total of 14.173 MT of obsolete pesticides collected from 11 stores were safeguarded and disposed of by high-temperature incineration in July 2024. The obsolete pesticides were initially located at 16 stores, but pre-centralised by MoAF to 11 stores. Also, MoAF is continuing its efforts to reduce the generation of expired and obsolete pesticides, which need costly disposal. Output 1.4: Contaminated sites * AZE: A contaminated site assessment including a drone map and the drilling of a series of sampling and monitoring wells was done at the Ujar former pesticide store. Based on the data, a Phase 2 Conceptual Site Model and a site management plan were developed by June 2024. In parallel, the project was contacted by the newly created Azerbaijan inter-ministerial "Commission for coordinating the activities of state bodies in the field of ensuring the safe operation of potentially dangerous objects" to provide methodological support and advice for the assessment and management of pesticide contaminated sites in the country. A targeted training was held 3-6 August 2024 for the Commission members at the contaminated Yevlakh site. It included training in line with the new guidelines for the management of POPs contaminated sites of the Stockholm Convention, particularly on the initial site assessment phase, interviews with local stakeholders, installation of boreholes and soil sampling. Further, a Manual on Contaminated Site Management was drafted summarising the main elements of the Stockholm Convention guidance. * KAZ: A training on management of POPs contaminated sites in line with the Stockholm Convention Guidance was provided 14-16 May 2025 at the Leninsk (Atameken) contaminated site, particularly on the initial site assessment phase, interviews with local stakeholders, installation of boreholes, soil sampling and development of a conceptual site model to plan further remediation measures. The training was attended by 13 women and 7 men participants. Based on a post-training questionnaire, participants expressed high satisfaction with the new theoretical knowledge on risk assessment and remediation planning and practical skills during field work, and noted that the knowledge gained would be applicable in their current work. The training also generated 21 publications in various media. * KAZ + KGZ: Lab and field trials on phyto- and bio-remediation of pesticide contaminated soils (both POPs and heavy metals) have been undertaken. Both trials showed encouraging levels of POPs reduction. In Kazakhstan, the use of degrader microorganisms and phytoremediation plants achieved an effect of 85–90 % reduction and up to 98–99 % for some compounds. The tree crop Paulownia elongata achieved removal up to 90 % and up to 99 % for some compounds. These data were confirmed by similar data from the Kyrgzy trials. Results and recommendations on the best use of bio-/phyto-remediation have been developed by both projects and are currently now developed into a FAO resource document. * TJK: Work was done to upgrade Vakhsh landfill to become a recipient site for excavated obsolete pesticides from mini-landfills being remediated. A topographical map for site management and planning was developed. A store annex able to host about 1 000 MT of obsolete pesticides and other materials was built in early 2023 (inaugurated on 8 April 2023). For the remediation of the DDT-containing mini-landfill at Village #1, two tenders were published: one for the excavation and transport of the contaminated materials at the mini-landfill, and one for the construction of six soil cells at Vakhsh for storing the excavated materials. Both tenders were evaluated and the SPs contracted in late 2024. All remediation work was undertaken in the course of 2025. In total, 33.5 MT of obsolete pesticides (mainly DDT) and 5 124 MT of contaminated soil were excavated and are now stored at Vakhsh landfill in the store annex and the soil cells. To ensure that Vakhsh Landfill staff clearly understands how to hold regular monitoring and safety checks of the integrity of the soil cells, an “Instruction for Monitoring of Constructed Soil Cells at Vakhsh Landfill” was prepared in both Tajik and English. This instruction manual was introduced to the landfill staff during a dedicated session. * TJK: In a separate activity, a drone map of the Bagara mini-landfill was made, which forms the base for any future remediation planning. The digital map was provided to CEP. * Regional: On 16 April 2024, an International Conference on “Bio- And Phyto-Remediation Technologies for Contaminated Agricultural Soil towards Green Agriculture” was held in Almaty, bringing together 61 experts (including 28 women) from different countries to discuss international best practices in management of contaminated soils and to provide a platform to present recent studies and field works in the region aiming at rehabilitation and restoration of pesticides contaminated areas. One outcome of the conference was the proposal to establish a Central Asia Working Group on Contaminated Soil as part of FAO’s Global Soil Partnership. On 17 April 2024, conference participants could then visit the bio-/phyto-remediation trial site. A leaflet on remediation technologies was prepared in English and Russian. https://openknowledge.fao.org/items/2bc92de0-2aef-4a08-847c-63d1c04423a8. Output 1.5: Container management system (CMS) * Regional: CMS and Agricultural Plastic Waste (APW) baselines were assessed in all five project countries and reconciled in a regional report. Assessments of national pesticide management frameworks showed that CMS regulation is widely absent in all countries. * AZE: A national CMS workshop was conducted in May 2024. The workshop aimed to familiarise participants with the history and best practices of CMS, present the results of the baseline assessment on CMS and Agricultural Plastic Waste (APW) in Azerbaijan, and explore pathways to establish effective management of empty pesticide containers and APW. Representatives from relevant ministries and local companies participated. The workshop identified that empty pesticide container collection falls withing the scope of the new Extended Producer Responsibility (EPR) law. A ToT on triple rinsing of empty pesticide containers was held in March 2025. Also, several meetings with potential industrial solution providers and responsible government entities were held to discuss models for a CMS managing body. Based on that input, a roadmap for introducing a CMS in Azerbaijan was developed and submitted to AFSA for review and further action. Finally, an economic assessment was made for a potential integration of a CMS into Azerbaijan’s new EPR system; * KAZ: The national baseline assessment of empty pesticide containers and Agricultural Plastic Waste (APW) was presented to the Government and other stakeholders at a National Workshop on 28 November 2023. Discussions are ongoing how to best connect and build upon some already existing regional collection systems and how the government best stimulates a national system. Also, driving establishment of a national CMS in the frame of new EPR legislation is discussed. For this, a Road Map for the inclusion of empty pesticide containers under the EPR framework has been developed. The Road Map identifies the need for a regulatory impact analysis as a subsequent step to support the inclusion of pesticide containers in the EPR list. In parallel, a ToT on triple rinsing and container collection was held 27/28 May 2024. The ToT was followed by five additional trainings on triple rinsing and container collection in July 2024 across Kazakhstan. In addition, laboratory testing as requested by MOE of triple-rinsed containers was conducted to determine residual pesticide levels in order to provide evidence of the effectiveness of triple-rinsing (result: 16–642-fold reduction). * KGZ: A CMS pilot project was launched in Sokoluk district in 2025 by pesticide sales companies to quantify the volume of containers generated in the district annually, investigate potential disposal options within the country, and define options for collection schemes and delivery points. Initial results were discussed during a visit by the IC on CMS in April 2025. At that occasion, also 70 farmers were trained on triple rinsing of empty pesticide containers. A workshop was held on October 2025 to present the pilot results and discuss replication on a national level based on a draft CMS model developed on the pilot results. Recommendations to implement a CMS has been submitted to the Government for further action. * TJK: Emphasis is on developing legislation imposing an obligation to return/collect empty containers. CEP established a Working Group for the development of a CMS covering pesticide containers and agricultural plastic waste. The Working Group includes representatives from eight key ministries and agencies. A tender for the development of pesticides legislation, including a bylaw on CMS, has been published on UNGM. However, no bidder with relevant experience could be identified and the tender had to be canceled. Other ways of support were discussed with CEP, but it had to be concluded that not enough time remained until project closure to still implement work. *TUR: 50 collection containers for empty pesticide packaging were provided for the Silifke region. The inauguration meeting was held on 2 June 2023, a flyer (1 000 copies) explaining the risks related to improper disposal of empty pesticide packaging and how to use the collection containers was developed and distributed to farmers. Feedback from local extension service and farmers at end of season was very positive. In total, 1 300 kg of empty pesticide packaging was collected between 2023-2025 and disposed by co-processing in a cement kiln. This collection pilot also provided data on collection rates serving as input to a CMS working group developing a road map for the management of containers from collection to disposal. MoAF is launching a new system, “The Plant Protection Products Tracking System (BKUTS)”, which is built upon the already available QR code system. With this system, farmers will no longer be able to purchase pesticides without a prescription. The pilot phase of this system began in early 2025 and is expected to be launched for national operation within 2026. Once this new system is properly implemented, a nation-wide CMS will be put into effect through this system. | H9: 0.7 | I9: Satisfactory (S)
C10: c) % of populations engaging in high risk behaviours that expose them to sources of obsolete pesticides | D10: Communication strategies in KGZ have identified exposure routes from stockpile sites in communities through children’s behaviours and illegal excavation of products. Similar and other exposure routes have not been formally documented or quantified in any country | E10: Year 1: KAP survey to describe behaviours and set baseline % of respondents Year 2-3: Communication activities designed and implemented in 3 countries | F10: Year 4: KAP survey indicates declines of 30-50 % in high risk behaviours compared to 1st KAP | G10: Output 1.6: Risk communication * KAZ: The pesticide risk communication network “ToxicNet” was initially established in Kazakhstan in 2023 as a national initiative and subsequently expanded into a regional platform. At the national level, the network engaged 91 members (45 individuals and 46 organisations from government agencies, NGOs, academia and industry). During this phase, 18 bi-weekly newsletters were disseminated, five partner organisations implemented awareness campaigns, and information on obsolete pesticide risks was disseminated through a hotline, social media channels and outreach to 49 editorial offices. Two national trainings were conducted (November 2023 and April 2024), resulting in a total of 73 trained network members (female participation: 73 %), complemented by a national webinar with 50 participants enabling country-wide outreach. * Building on these achievements, ToxicNet was expanded in 2025 into a regional network covering Azerbaijan, Kazakhstan, Kyrgyzstan and Tajikistan. National coordinators were appointed in each country and a Network Charter was approved. By the end of 2025, the network comprised 151 members from government bodies, NGOs, research institutions, universities and independent experts. A regional communication strategy was developed and implemented, supported by an updated website (toxicnet.asia), active outreach via Instagram, Facebook and TikTok reaching over 5’000 people monthly, and the production of multilingual awareness materials (brochures and videos). Information materials in six languages were developed with the participation of over 120 representatives of competent authorities and practitioners. The network is a sustainable result of the project and will continue to operate after the project's completion as a regional mechanism for knowledge‑sharing and capacity development in the safe management of chemicals. * Capacity development and stakeholder engagement were further strengthened through four youth-focused interactive events across the region (female participation ranging from 42 % to 69 %), two regional roundtables (with additional roundtables planned), and a regional online training engaging over 100 specialists. The network continues to operate as a sustainable regional platform for knowledge exchange, awareness raising and cooperation on POPs and pesticide risk management. * TJK: Four awareness raising seminars on risks by obsolete pesticides were organised 8-11 November 2022. All four seminars together attracted about 140 participants from as various stakeholder groups as central, regional and local administrations and services, farmers, women’s organisations, NGOs, Aarhus centre, etc. A leaflet and a poster were specifically developed for the four seminars. The overall number of printed leaflets (A4) and posters (100*70cm) is 1 000 Tajik and 100 English copies, each. In addition, 200 A3 size posters (Tajik only) were printed. The materials can be accessed at: https://www.fao.org/documents/card/en/c/cc2765en (leaflets) https://www.fao.org/documents/card/en/c/CC2777EN (posters) * These seminars were repeated 10-24 November 2023 in three regions of Tajikistan and in Dushanbe. In total, more than 200 persons participated in the eight seminars including 80 women. * In parallel to the mini-landfill remediation work at Village #1 in 2025 (see 1.4 above), various information meetings were held with local communities to inform on the work and on pesticide hazards. * KAZ, KGZ, TJK: As part of the second phase of the pesticide exposure assessment in autumn 2024 (see output 2.2 and 2.3 below), posters (100 copies) and leaflets (1’000 copies) were prepared on safety measures and pesticide exposure hazards in each country and distributed during awareness raising meetings. | H10: 0.8 | I10: Satisfactory (S)
B11: Outcome 2: Regulatory and institutional framework for pesticide management strengthened in five countries | C11: a) National legislations comply with international standards in AZE, KGZ, and TJK | D11: Legal assessments conducted for AZE, KGZ and TJK have identified specific gaps in the existing laws, and recommend development of secondary legislatio | E11: Year 2: Draft revised and harmonized pesticide legislation in AZE, KGZ and TJK | F11: Year 3: Drafts consulted and approved by stakeholders for presentation to government for adoption | G11: Output 2.1: Legal assessments * Assessments of the legal frameworks on pesticide life-cycle management were undertaken in Azerbaijan, Kazakhstan, Kyrgyzstan, and Tajikistan. Synthesis report showing regional commonalities and shortcomings was developed. * AZE: The Azerbaijan legal assessment report was updated in spring 2023 to include recent legislative updates. Further support was provided by developing a NAP for Azerbaijan’s implementation of the Stockholm Convention, also with a view to new POPs to be added, and by supporting the economic justification for an EPR law, which is key for empty pesticide container management; * KGZ: The Kyrgyz legal assessment report was presented on 20 April 2023 in a workshop in Bishkek. With the support of the Department of Chemicalization, Plant Protection, and Quarantine of the Ministry of Agriculture of the Kyrgyz Republic, a draft road map for pesticide life-cycle management was developed. The road map includes an overview of all existing gaps and issues identified throughout the pesticide life-cycle in Kyrgyzstan. For each gap and issue, the road map proposes short-, medium-, and long-term solutions. An update of this prior legal assessment was then undertaken in March – May 2025. Further, national and international consultants were working on draft regulation on pesticides registration and management to support the introduction of the electronic pesticide registration system (see also output 2.2+2.3 below). * KAZ: The Kazakhstan legal assessment was updated to include relevant legislation changes which occurred in June 2023. Legal work was initiated on drafting legal documents in relation to the safe disposal of pesticides. It identified the need to strengthen requirements for registration, labelling, data, as well as for safe rinsing, puncturing and collection of empty containers. A round table “Legislation of the Republic of Kazakhstan on Pesticide Management: Current Status and Recommendations for Improvement” was held in Astana on 24 October 2024 (women – 64 %, men – 36 %). Also, work was undertaken to develop laboratory standards for pesticides analysis (see also 1.3 above) as well as various missing pieces of legislation needed for improved waste management. Inclusion of a CMS into the EPR system was developed, including a considerations of roles and responsibilities, financing, and collection pathways as well as a road map for introduction. Based on the results of the FAO assessment of the pesticide legal framework, several amendments to the registration rules were drafted on labeling, safety information and empty container management. E.g. a mandatory provision of including a safety data sheet (SDS) for each registered pesticide was established, and on pesticide labels a requirement for triple rinsing of containers and brief instructions on the handling of rinse water and used containers is to be included. These changes were included in legislation updates, which entered into force on 13 April 2026. * KAZ: Several pieces of legislation were drafted for the further consideration by the government. First, a draft national standard on co‑processing of hazardous waste in cement kilns was developed. This will allow the use of Alternative Fuels and Raw Materials in cement kilns, including obsolete pesticides. Upon request by the MoE, a further two legislation drafts were developed to address several unregulated areas related to hazardous and legacy waste. One regulation draft addresses “Operation of Landfills and Temporary Waste Storage Sites in Rural Settlements”, while the other deals with “ Historical Pollution Management”. (see also activity 1.2 above) * AZE: The National Profile needed for the ratification of the Rotterdam Convention was developed in 2Q/2023 and submitted to MENR for further use. MENR requested further project support in preparation of economic and financial justification for ratification of the Convention, which was provided. Azerbaijan ratified the Rotterdam Convention on 25 November 2025. * TJK: National Profile needed for the ratification of the Rotterdam Convention was developed in 3Q/2023. Based on this work and prior work by other donors, Tajikistan ratified the Rotterdam Convention on 1 October 2024. * Regional: A regional meeting was co-organized with the Rotterdam Secretariat. The meeting which was held 4-6 July 2023 in Baku aimed at accelerating ratification of the Rotterdam Convention by several countries of the EECCA region, including Azerbaijan and Tajikistan. | H11: 1 | I11: Satisfactory (S)
C12: b) Data requirements for pesticide registration are more comprehensive | D12: Registration of pesticides is possible in all countries without the full data requirements set out in the Code of Conduct and FAO/WHO specifications | E12: Year 1: Training provided and manuals and guidance translated and publishe | F12: Year 4: Labelling and packaging requirements; operator exposure data; pesticide specification data all required for dossiers | G12: Output 2.2: Registration procedures + Output 2.3: Field data on PPE use and spraying operations * A regional report on the gender, socio-economic and health dimensions of pesticide use and management in Central Asia and Türkiye was developed. The report includes data on current spraying practices in various agricultural sectors and countries and shows that in general women have less access to information on safe spraying practices and on PPE selection and use. * KAZ, KGZ, TJK: An exposure assessment study based on interviews with farmers in all three countries was undertaken. The results were presented at national workshops in November 2023. In line with global levels, about 30-40 % of pesticide users suffer from exposure. The study also shows how farmers deal with empty pesticide containers in absence of a collection system. The study data allow to develop trainings and activities targeting the most affected groups. * The exposure assessment study was repeated in a more targeted manner in late 2024. A larger number of interviews were held in the cropping systems and geographical areas which had been found in the initial study as being the highest risk areas (e.g. 750+ farmers surveyed in six regions in Kazakhstan, in Tajikistan 250 farmers in three regions). This was combined with awareness raising meetings on pesticide hazards with vulnerable groups from the same areas (see output 1.6 above), which has in Kazakhstan led to a visible drop in poisoning incidences. The study confirmed the high levels of pesticide exposure incidence found in the phase 1 study and provided more information helpful for designing future interventions like for Kazakhstan introducing a CMS to address unresolved problem of empty pesticide containers or strengthening the poisoning reporting system. * KAZ, KGZ, TJK: During the first phase exposure assessment study (see prior bullet), governments asked for a targeted training for medical staff (doctors and nurses) on pesticide poisoning, its diagnosis and treatment. Three national trainings were held in the period between 25 November – 5 December 2024. The trainings were attended by 53 medical staff (35 female, 18 male) in KAZ, 56 (30 female, 26 male) in TJK, and 29 (22 female, 7 male) in KGZ. In meetings with the MoHs in the three countries, the establishment of national poisoning centres was discussed. Participants in all three countries emphasised that the training contents was up-to-date and practical, and asked for the training to be repeated in more detail and for a longer period of time. The final report with more country data and the training materials are currently in formatting for publication. * KAZ: A 2023 report with results from assessments of the use of PPE and spraying systems revealed that many farmers lack sufficient knowledge on proper use of spraying devices, and often necessary components are not readily available. There is a significant knowledge gap in calculating the correct spray volume in function of specific crop ages, accurately calibrating equipment, and using label recommendations for chemical amounts, spray intervals, re-application intervals, and pre-harvest intervals. Many farmers also do not understand the dangers of pesticides to their own and their families' health, nor the importance of using appropriate PPE. * A training was held on PPE use and correct pesticide spraying on 30 March 2023 and two reports describing PPE use, pesticide use and application training in KAZ were developed. Six trainings on IPM, sprayer calibration and triple rinsing of pesticide containers were held in the period 27 May – 18 July 2024 (154 farmers, of which 75 women) (see also 1.5 above). * Regional: A focus activity in 2H/2023 was creating understanding on the importance of comprehensive life-cycle management (LCM) of pesticides to reduce pesticide exposure and use levels and developing for the four CA countries LCM road maps with short-, mid- and long-term priorities and targets. During a regional LCM workshop in Baku on 18-19 September 2023, country representatives were introduced to the approaches as promoted by the FAO/WHO International Code of Conduct (CoC) on Pesticide Management. In country working groups, participants then could define gaps compared to the CoC and obstacles to overcome. A first draft of national LCM road maps was developed based on workshop input and presented for further comments in national workshops in TJK (24 November 2023) and KAZ (28 November 2023). In Tajikistan, this resulted in the endorsement of the LCM road map based on the workshop inputs. In Kazakhstan, the proposals from the LCM road map served as a basis for the development of regulatory documents aimed at strengthening life-cycle management as well as for further government-led actions and their integration into national strategic planning documents. * TJK: In 2021, a report on the State of the Pesticide Registration System in the Republic of Tajikistan was developed. The report was submitted to the Committee for Environmental Protection. * A regional video covering the various elements of pesticide lifecycle management including obsolete pesticide management, pesticide risks, regional issue and FAO’s interventions to address them was prepared and it accessible at https://www.youtube.com/watch?v=0glGHvG_a7I. A filming mission was arranged in 2Q/2025 to take footage and interviews for a project end video, a regional IPM video and three thematic short videos on soil contamination, obsolete pesticide management and CMS. The project end video was released on 15 December 2025 and can be found at https://youtu.be/TQvshG7AeGI?si=kJavrnIJcdlVqG73 and is also available on the project website. The other videos were finalised and published in 2Q/2026. * KGZ: The development of an electronic registration and sellers licensing system was finalised. The development process contributed to a better understanding in the MoA how to improve the registration system. The current paper-based registration list was imported into the electronic database (about 1’500 products) and completed with missing information. The exercise was also used to discuss with MoA staff the principles of registration and toxicity testing. The new electronic system was also welcomed by pesticide suppliers as it makes import application and product registration far more efficient. The new system started to operate in 2026. * TJK: Work was supported to lay the foundations for an electronic pesticide registration system. Through a LoA, a national model for the state registration of agrochemicals and pesticides has been developed and described, covering a digital agrochemicals register, expert assessment of registration dossier, market authorisation, registration of sellers and importers, traceability of packaging throughout its life cycle, and the preparation of a methodological framework for identifying and regulating potentially hazardous chemicals. The model covers the entire pesticide life cycle: from dossiers and certificates through to sale, use, identification and tracking through a QR-code of packaging, return, rinsing and recovery/disposal. * Registration lists of all five project countries were reviewed against the eight FAO/WHO criteria defining HHPs. In each country, active ingredients qualifying as HHPs are still in use. In a follow-on step, the initial draft of a HHP Risk Reduction Plan was developed for Tajikistan and alternatives to two Active Ingredients (alpha cypermethrin used for controlling aphids in cotton, thiacloprid used against chewing insects on apples) were identified for all project countries. In Kazakhstan the project focused on regulatory and evidence-based risk reduction by reviewing national pesticide registration practices and supporting national authorities through the provision of scientific and regulatory assessments, including translated EFSA and European Commission decisions on selected active ingredients, to inform policy dialogue and future national strategies on HHP risk reduction (imidacloprid, iprodione, oxamyl, propargite, triasulfuron and acetochlor). * AZE/TUR: A study tour was organised in January 2023 for an Azerbaijani delegation to study the Turkish pesticide registration system and attached QR-code system to track pesticide containers from import/production to the end user. This was followed up by a second visit in September 2023 to further discuss cooperation and activities to be undertaken. 2024 has seen a regular exchange between the two countries. In December 2024, two FAO ICs visited Azerbaijan to discuss with various ministries the current Azerbaijani registration system and define gaps and develop a roadmap for further developing the current system. This was followed by an online training improving skills in pesticide registration, traceability, dossier evaluation, and market control on 4-7 February 2025 (total 50 participants; 30 women and 20 men). Based on the trainings, a report with recommendations on further development of the Azerbaijani pesticide LCM system was developed and submitted to the Azerbaijani authorities. * TUR: Procurement of a post-sales inspection system for pesticide spraying equipment was held. The system was delivered to three pilot areas in 4Q/2025 and local trainings provided. The management software was translated into Turkish and adapted to include the spraying equipments used in Türkiye. Based on the experience with the pilot systems, MoAF foresees replication across all agricultural regions as part of its state programme. * TUR: To improve pesticide spraying practices and reduce the overall volume of pesticides used, a training was held with six topical modules: Selection of Appropriate Spraying Machines and Tools; Good Practices Before and After Spraying; Usage of Agricultural Tools and Machines; Maintenance and Calibration of Spraying Machines and Tools; Risks and Related Safety Measures; and Selection, Use and Disposal of PPE. Following an initial ToT on 22-23 September 2025, the training has been completed by experts from in 30 provinces and will be extended in 2026 to all 81 provinces as part of the state programme. Based on participant feedback, it was decided to extend the training from 2 to 3 days to allow more time for practical training with machinery in the field. * Twelve handbooks and guidelines related to agricultural practices relying on less amounts and less dangerous pesticides were prepared; with some developed originally by the project and some translated into Turkish, Russian, and/or Azerbaijani (for accessing the materials, visit the project website https://www.fao.org/in-action/pesticides-central-asia/resources/publications/en). | H12: 1 | I12: Satisfactory (S)
