Workbook
Name Countries: Countries!$A$2:$A$250
Name DevCells: '2. Progress towards outcomes'!#REF!
Name DevCells: #REF!
Name DevRatings: '2. Progress towards outcomes'!#REF!
Name DevRatings: #REF!
Name DevScore: #REF!
Name DevScore: _Calc!$D$20
Name ImpCells: '3. Implementation Progress'!$D$71:$M$73
Name ImpRatings: '3. Implementation Progress'!$D$71:$M$73
Name ImpScore: #REF!
Name ImpScore: _Calc!$D$21
Name NumRating: #REF!
Name NumRating: _Calc!$B$2:$B$9
Name TxtRating: #REF!
Name TxtRating: _Calc!$A$2:$A$9
Name Weights: #REF!
Name Weights: _Calc!$E$14:$I$14
Name Weights2: #REF!
Name Weights2: _Calc!$E$17:$H$17

Sheet Table of Contents
B6: FAO-GEF Project Implementation Report
B7: 2025 – Revised Template
B8: Period covered: 1 July 2024 to 30 June 2025
B9: Table of Contents
B10: =HYPERLINK("#'1. Basic project data'!N10","1. BASIC PROJECT DATA") -> 1. BASIC PROJECT DATA
B11: =HYPERLINK("#'2. Progress towards outcomes'!N11","2. PROGRESS TOWARDS ACHIEVING PROJECT OBJECTIVE(S) (DEVELOPMENT OBJECTIVE)") -> 2. PROGRESS TOWARDS ACHIEVING PROJECT OBJECTIVE(S) (DEVELOPMENT OBJECTIVE)
B12: =HYPERLINK("#'3. Implementation Progress'!N12","3. IMPLEMENTATION PROGRESS (IP)") -> 3. IMPLEMENTATION PROGRESS (IP)
B13: =HYPERLINK("#'4. Summary on progress'!N13","4. SUMMARY ON PROGRESS AND CHALLENGES") -> 4. SUMMARY ON PROGRESS AND CHALLENGES
B14: =HYPERLINK("#'5. ESS Risk'!N14","5.ENVIRONMENTAL AND SOCIAL SAFEGUARDS (ESS):RISKS FROM THE PROJECT") -> 5.ENVIRONMENTAL AND SOCIAL SAFEGUARDS (ESS):RISKS FROM THE PROJECT
B15: =HYPERLINK("#'6. Risks to the project'!N15","6. RISKS TO THE PROJECT") -> 6. RISKS TO THE PROJECT
B16: =HYPERLINK("#'7. Follow-up on Mid-term review'!N16","7. FOLLOW-UP ON MID-TERM REVIEW OR SUPERVISION MISSION") -> 7. FOLLOW-UP ON MID-TERM REVIEW OR SUPERVISION MISSION
B17: =HYPERLINK("#'8. Minor project amendments'!N17","8. MINOR PROJECT AMENDMENTS") -> 8. MINOR PROJECT AMENDMENTS
B18: =HYPERLINK("#'9. Stakeholders' Engagement'!N18","9. STAKEHOLDERS' ENGAGEMENT") -> 9. STAKEHOLDERS' ENGAGEMENT
B19: =HYPERLINK("#'10. Gender Mainstreaming'!N19","10. GENDER MAINSTREAMING") -> 10. GENDER MAINSTREAMING
B20: =HYPERLINK("#'11. Knowledge Management'!N20","11. KNOWLEDGE MANAGEMENT ACTIVITIES") -> 11. KNOWLEDGE MANAGEMENT ACTIVITIES
B21: =HYPERLINK("#'12. Indigenous & Local Involve.'!N21","12. INDIGENOUS PEOPLES AND LOCAL COMMUNITIES INVOLVEMENT") -> 12. INDIGENOUS PEOPLES AND LOCAL COMMUNITIES INVOLVEMENT
B22: =HYPERLINK("#'13. Co-Financing Table'!N22","13. CO-FINANCING TABLE") -> 13. CO-FINANCING TABLE
B23: =HYPERLINK("#'14. GEO Location'!N23","14. GEO LOCATION INFORMATION") -> 14. GEO LOCATION INFORMATION
B24: =HYPERLINK("#' GEF-5 LDCF Indicators'!N27"," GEF-5 LDCF Indicators") -> GEF-5 LDCF Indicators
B25: =HYPERLINK("#'GEF6&7 LDCF Core Indicators'!N28"," GEF 6&7 LDCF Core Indicators") -> GEF 6&7 LDCF Core Indicators
B26: =HYPERLINK("#'Annex'!N26","Annex. Monitoring Area-based GEF Core Indicator Commitments and Progress with FERM") -> Annex. Monitoring Area-based GEF Core Indicator Commitments and Progress with FERM
B29: IMPORTANT DISCLAIMER:
B30: The final version of this PIR will be submitted to the GEF Secretariat.
B31: The report will then be publicly available on the GEF website (click here).
B32: Sensitive information should be submitted in Annex to be uploaded separately.
B33: In such cases, please contact faogef-pir-support@fao.org for guidance.

Sheet 1. Basic project data
B2: 1. Basic Project Data
B3: General Information
B4: Region: | E4: Eastern Europe and Central Asia
B5: Country(ies): | E5: Azerbaijan, Kazakhstan, Kyrgyzstan, Tajikistan, Türkiye
B6: Project Title: | E6: Lifecycle Management of Pesticides and Disposal of POPs Pesticides in Central Asian countries and Türkiye
B7: FAO Project Symbol: | E7: GCP/SEC/011/GFF
B8: GEF ID: | E8: 5000
B9: Type of Trust Fund(s): | E9: GFF
B10: GEF Focal Area(s): | E10: Chemicals (Persistent Organic Pollutants – POPS)
B11: Project Executing Partners: | E11: a. Azerbaijan: Ministries of Agriculture, Environment and Health, Food Safety Agency (new, not in ProDoc); b.Kazakhstan: Ministries of Agriculture, Environment and Health; c. Kyrgyzstan: Ministry of Water Resources, Agriculture and Processing Industry; Ministry of Natural Resources, Ecology and Technical Supervision (new, not in ProDoc. Changes are due to fundamental government reorganisation in spring 2021); d. Tajikistan: Committee of Environmental Protection under the Government of the Republic of Tajikistan in collaboration with the Ministries of Agriculture and Health; e. Türkiye: Ministry of Agriculture and Forestry.
B12: Initial project duration (years): | E12: 4 years
B13: Project Dates
B14: GEF CEO Endorsement Date: | E14: 42657
B15: Actual Agency Approval Date | E15: 42654
B16: Project Implementation Start Date/EOD: | E16: 43388
B17: First Disbursement Date | E17: 43507
B18: Planned Project End Date/NTE1: | E18: 44848
B19: Revised project implementation End date (if approved)2: | E19: 30 April 2026 (note: extension approved by last PSCM on 10 July 2025) not yet submitted in FPMIS
B20: Actual Completion Date:
B21: Expected Financial Closure Date:
B22: Funding
B23: GEF Grant Amount (USD): | E23: 8136986
B24: Total GEF grant delivery (as of June 30, 2025 (USD): | E24: 7118630.7
B25: Total Co-financing amount (USD)3: | E25: 38300000
B26: Total estimated co-financing materialized as of June 30, 20254: | E26: 1.3369051e+08
B27: M & E Milestones
B28: Date of Last Project Steering Committee (PSC) Meeting: | E28: 45848
B29: Expected Mid-term Review date5: | E29: N/A
B30: Actual Mid-term review date (if already completed): | E30: 44657
B31: Expected Terminal Evaluation Date6: | E31: 45715
B32: Overall ratings
B33: Overall rating of progress towards achieving objectives/outcomes (cumulative): | E33: =_xlfn.XLOOKUP(DevScore, NumRating, TxtRating, "Not Rated") -> Satisfactory (S)
B34: Overall implementation progess rating: | E34: =_xlfn.XLOOKUP(ImpScore, NumRating, TxtRating, "Not Rated") -> Satisfactory (S)
B35: Overall risk rating: | E35: ='6. Risks to the Project'!C56 -> Moderate
B36: Status
B37: Implementation Status (1st PIR, 2nd PIR, etc. Final PIR): | E37: 6th PIR
B40: 1 Date that was originally foreseen at the project’s operationalization and indicated in FPMIS. 2 If NTE extension has been requested and approved by the FAO-GEF Coordination Unit. 3 This is the total amount of co-financing as included in the CEO Document/Project Document. 4 Please refer to the Section 13 of this report where updated co-financing estimates are requested and indicate the total co-financing amount materialized. 5 The Mid-Term Review (MTR) should take place after the 2nd PIR, around half-point between EOD and NTE. The MTR report in English should be submitted to the GEF Secretariat within 4 years of the CEO Endorsement date. 6 The Terminal Evaluation date should be discussed with OED 6 months before the project’s NTE date.
B45: Project Contacts
B46: Contact | E46: Name, Title, Division/Institution | I46: E-mail
B47: Project Coordinator (PC) | E47: Stephan Robinson, Senior Technical Advisor, FAO SEC | I47: stephan.robinson@fao.org
...

Sheet _Calc
A1: Rating text | B1: Score
A2: Highly Unsatisfactory (HU) | B2: 1
A3: Unsatisfactory (U) | B3: 2
A4: Moderately Unsatisfactory (MU) | B4: 3
A5: Moderately Satisfactory (MS) | B5: 4
A6: Satisfactory (S) | B6: 5
A7: Highly Satisfactory (HS) | B7: 6
A8: Unknown | B8: 0
A9: Not Rated | B9: 0
D12: for DevScore
D13: Person | E13: PM/Coord | F13: Budget Holder | G13: LTO | H13: GEF OFP | I13: GTO
D14: Weight % | E14: 20 | F14: 25 | G14: 25 | H14: 0 | I14: 30
D15: For ImpScore
D16: Person | E16: PM/Coord | F16: LTO | G16: GEF OFP | H16: GTO
D17: Weight % | E17: 25 | F17: 35 | G17: 0 | H17: 40
A19: Once you've filled in 2. Progress towards outcomes & 3. Implementation Progress
A20: Please double click and press enter on Cells D20 and D21 | D20: {=_xlfn.LET(_xlpm.hdrRow,MATCH("*Development*Objective*rating*",'2. Progress towards outcomes'!$B:$B,0),_xlpm.rRow,_xlpm.hdrRow+1,_xlpm.ratings,INDEX('2. Progress towards outcomes'!$C:$G,_xlpm.rRow,0),_xlpm.scores,_xlfn.XLOOKUP(_xlpm.ratings,TxtRating,NumRating,0),ROUND(SUMPRODUCT(_xlpm.scores,Weights)/SUM(Weights),0))} -> 5
D21: {=ROUND( SUMPRODUCT( _xlfn.XLOOKUP( CHOOSE({1,2,3,4}, '3. Implementation Progress'!D71, '3. Implementation Progress'!F71, '3. Implementation Progress'!H71, '3. Implementation Progress'!J71 ), TxtRating, NumRating, 0 ), Weights2 ) / SUM(Weights2), 0)} -> 5

Sheet Countries
A1: Select Country
A2: Afghanistan
A3: Åland Islands
A4: Albania
A5: Algeria
A6: American Samoa
A7: Andorra
A8: Angola
A9: Anguilla
A10: Antarctica
A11: Antigua and Barbuda
A12: Argentina
... A250: Zimbabwe

Sheet TypeofTrustFund
A1: Type of Trust Fund
A2: Capacity-building Initiative for Transparency (CBIT)
A3: Global Biodiversity Framework Fund (GBFF)
A4: Global Environment Facility Trust Fund (GFF)
A5: Least Developed Countries Fund (LDCF)
A6: Special Climate Change Fund (SCCF)
A7: Small Grants Program (SGP)

Sheet FocalArea
A1: Focal Area
A2: Multi Focal Area
A3: Biodiversity
A4: Chemicals and Waste
A5: Chemicals/PoPs
A6: Climate Change
A7: Climate Change Adaptation
A8: Climate Change Mitigation
A9: International Waters
A10: Land Degradation

Sheet 2. Progress towards outcomes
A1: 2. Progress towards Achieving Project Objective(s) (Development objective)
A3: (All inputs in this section should be cumulative from project start, not annual)
A5: Region:
A6: Project or Development Objective | B6: Outcomes | C6: Outcome indicators | D6: Baseline | E6: Mid-term Target | F6: End-of-project Target | G6: Cumulative progress level at 30 June 2025 | H6: % of cumulative progress | I6: Progress rating
B7: Outcome 1: 900 tonnes of POPs and obsolete pesticides are disposed of in an environmentally sound manner; and risks from obsolete stocks, contaminated sites and empty pesticide containers are further quantified and reduced | C7: a) Technical capacity available for environmentally sound disposal options for POPs and other hazardous wastes in the Central Asian region | D7: No environmentally sound disposal option existing due to inability to export wastes because of transit restrictions. Alternatives in the region need to be evaluated: CKT, SCWO, HTI to be built/upgraded. | E7: Year 1: Follow up investigation on the feasibility of POPs pesticides disposal in AZE, TJK and TUR completed Political advocacy on lifting of export ban organized Year 2: Disposal strategy (new technology in the region or export) agreed | F7: Year 3: Test destruction in new regional facility completed | G7: Output 1.1: National inventories • Azerbaijan: Inventory of 19 sites was done in 2019. All sites must be considered contaminated. At seven sites, total of 350 metric tonnes (MT) of OP identified, additional buried amount of 100 MT suspected at one site. In addition, 10’000+ MT of obsolete pesticides (mostly POPs) centralised at Jangi storage facility and at least 25’000 MT of contaminated soil needing treatment. Azerbaijan requested in April 2023 an additional inventory in its new areas, however, due to lack of demining of the potential sites the request has been cancelled; • Kazakhstan: Numbers from the 2022/2023 inventory have been reviewed and consolidated. The inventory visited in total 964 sites across 15 Oblasts. It identified 168 sites with obsolete pesticides, containing a total of 1 261 m³ of mixed pesticides without packaging, at least 146 728 m³ of contaminated soil, about 81 metric tonnes of solid and 404 litres of liquid obsolete pesticides as well as about 1 500 empty containers needing management. In addition, six burial sites across four Oblasts have been identified; the amount of wastes buried there will only be known after undertaking site-specific investigations. It must be assumed that the figures above are lower estimates. It is likely that more sites will be identified in future or that existing sites contain larger quantities of materials (e.g., buried pesticides) than estimated during the inventories. The inventory report also identified the highest risk sites, which should be prioritised for remediation. Finally, it provides recommendations for an effective national approach to manage in a safe manner Kazakhstan’s obsolete pesticide legacy; • Kyrgyzstan: A national inventory of 62 sites was done in 2021. At 26 sites, approximately 5’000 MT of OP found (90 % buried at three landfills, rest scattered at stores). Many of the former store sites are ownerless, in poor condition, posing a potential hazard to human health and the environment; • Tajikistan: Project inventoried obsolete pesticides in Sukhd Oblast and reconciled data from various prior inventories to generate a first national inventory. Data show that main challenge in Tajikistan is not obsolete pesticides in stores but the large volumes of contaminated soil around the 200 mini-landfills across the country. However, there is currently no understanding of the size of the challenge to remediate these 200 sites (contaminants, concentrations, total volume of contaminated materials). Hence, 20 Rapid Environmental Assessments (REAs) were undertaken in October-November 2023 to contribute to a national mini-landfill inventory. Samples taken were send to an analytical lab, based on which the site risk characterisations were done in February 2024; • Azerbaijan, Kazakhstan, Kyrgyzstan, Tajikistan: Training and technical support was provided for better information management of obsolete pesticides by using a Geographical Information System (GIS). The trainings conveyed fundamental methods for data management, digitalisation and spatial analysis of national inventory data on obsolete pesticides using GIS tools and methods. In total, 86 country representatives participated in the trainings. A final assessment and recommendation on transformation to a digital management of obsolete pesticide was prepared. Output 1.2: Disposal strategy • A project regional disposal strategy was developed in 2021 based on investigation of available disposal and export options in the region. KGZ + TJK: both countries will not investigate disposal options but want waste to be contained (communication with related GEF/UNEP project). TUR: Has well developed national disposal capacity including for POPs waste (but does not accept imported waste); • Options for export for disposal were investigated with negative result for all countries. Last turndown received in 2023 in communication between Kyrgyzstan and China; • Azerbaijan: The Holcim Garadagh cement kiln was benchmarked in 2021 for its ability to co-process POPs wastes in compliance with relevant Basel Convention Technical Guidelines. Discussion was held with GEF on 10 June 2022 whether and how to move forward with testing and permitting co-processing. GEF directed to explore further the option of co-processing in close collaboration with GEF STAP and with all steps to be documented for GEF. Following a meeting with Holcim Azerbaijan and Geocycle (the alternative fuels arm of Holcim) in Baku in September 2022 to discuss the benchmark results and the further way forward, a scientific-technical assessment of the probability of successful destruction of POPs pesticides in compliance with the Basel Convention Technical Guidelines at the Holcim Garadagh kiln was undertaken in 2H/2022. Based on the positive recommendations of the two assessment reports, three Azerbaijani ministries requested a performance test at the Garadagh cement kiln to demonstrate compliance of POPs co-processing with the Basel Convention and national requirements. Following the request, a Task Force has been established including all relevant government institutions, project team and technical consultants to share information, advice and provide necessary support in developing and conducting the performance test. The test protocol has been developed and presented at a first Task Force meeting on 14 June 2024. Based on feedback, the performance test protocol was finalised by August 2024. For the preparation of the performance test, three major activities were undertaken: 1) Additional chemical analysis of the waste to be co-processed during the performance test was undertaken. Aim was to establish the relation between chlorine and DDT contents in the drums, which is needed to compute the POPs DE/DRE of the performance test. Based on the lab results, the feed order of the drums ensuring a constant chlorine level in the kiln was defined. A total of 757 drums were palletised in the feed order and are now ready for the test. 2) A logistics company was selected which will load the pallets into shipping containers and transport them from their current location to the Garadagh kiln. 3) The performance test was tendered. Based on a competitive selection, currently contracting of the emission testing company is ongoing, the test will be held late September/early October 2025; • Azerbaijan: Following a request by MoA, an assessment of management capacity at the Jangi obsolete pesticides storage facility was done in July 2023. Based on identified gaps, a training to improve site management and discuss equipment and site upgrade needs was held in 11-15 December 2023. In July/August 2024, SOPs for handling the wastes at the Jangi storage facility were developed by an IC based on International Best Practices (. A NC was subsequently recruited to review and adapt these SOPs considering national Azerbaijani requirements and identify additional national capacity gaps for their proper implementation. 150 IBCs for storing liquid wastes were procured for Jangi. In addition, a list of technical and safety equipment needed at the facility was developed and is currently being tendered. The development of an electronic Waste Management Information System (WMIS) was tendered. Work on the WMIS started in January 2025, the system is to register delivered wastes, its storage location, safety information, and in future also mark disposal of the volumes. The system is largely developed and is currently in government final review. It should be delivered by end August 2025; • Azerbaijan: On 20 September 2023, a workshop was held in Baku on improving the management of obsolete pesticides and prevent their recurrence. The workshop, among other, has facilitated the establishment of an inter-ministerial commission addressing the management of obsolete pesticides and contaminated soils; . • Kazakhstan: Benchmarking of one cement kiln (JSC “Jambyl Cement”, Vicat company) for its ability to co-process POPs wastes in compliance with the relevant Basel Convention Technical Guidelines was done in December 2022. The results were presented to the government during a 19 April 2024 workshop in Almaty. While based on the initial assessment the plant is technically able to co-process POPs wastes, current legislation does only have provisions for incinerating, but not for co-processing hazardous wastes. As treatment of hazardous wastes is to happen in a legally regulated space, an initial draft for legislation on co-processing as an allowed technology for hazardous waste treatment was developed; • Kazakhstan: MoE requested safeguarding and follow-on disposal of about 7 MT of obsolete pesticides at a dilapidated store. Preparatory explorations of national capacity showed that while safeguarding with ensuing temporary storage is feasible, it is not clear whether the materials can be disposed of in line with international best practices. Discussions are held with the UNIDO project (GEF ID 5300) whether the small high-temperature incinerator under construction could be an option. The option of using the Turmalin incinerator is assessed too, but not all documents needed for assessing its technical capacity have been provided to date; • Kyrgyzstan: A round-table was held on 20 April 2023 in Bishkek to discuss the development of a national strategy for OP management. As an element of this strategy, a roadmap for the construction of two central stores for safeguarded obsolete pesticides in the North and the South of the Republic has been jointly developed with the main partners and approved by relevant Ministries. The road map includes: volumes of OP to be safeguarded; possible store locations with advantages and disadvantages; criteria for the selection of stores. A key obstacle for the overall safeguarding process is the missing designation of the government entity responsible for the management of obsolete pesticides, without which work cannot start. Despite repeated discussions with ministries and the presidential office, no decision on the responsible entity was obtained, which impacted plans for safeguarding obsolete pesticides and constructing central stores. In view of the remaining limited project time, it was decided to refrain from constructing a central store(s), as no decision on the siting could be obtained in 2024. However, nearly 100 MT of obsolete pesticides in the Osh region can still be safeguarded without a governmental decision (see next Output 1.3); • Webinars were held on POPs disposal options (24 June 2020, 21 participants) and empty pesticides container management systems (CMS) (14 October 2020, 170 participants). Output 1.3: Safeguarding and disposal of 900 metric tonnes (MT) • Azerbaijan: 210.342 MT of liquid POPs and other obsolete pesticides were safeguarded at the central Jangi storage facility. Materials are now repacked in 11,402 UN-approved drums in a locked store building and awaiting disposal at a national disposal facility in case the performance test is successful (as mentioned above, export for disposal is not possible). A video on Jangi and obsolete pesticides safeguarding was finalised in early 2024; • Kazakhstan: MoE requested safeguarding and follow-on disposal of about 7 MT of obsolete pesticides at a dilapidated store. A tender was published and is currently under evaluation. It foresees safeguarding only, or if an environmentally sound national disposal option can be identified, also disposal; • Kyrgyzstan: A key obstacle for the overall safeguarding process is the missing designation of the government entity responsible for the management of obsolete pesticides. Without a responsible body, the land transfer process needed for the construction of central stores as well as other approval processes cannot be initiated. Nevertheless, safeguarding of a stock of almost 100 MT of obsolete pesticides stored at a military base in the Osh region was initiated. An EIA for the safeguarding work was developed and approved by MoE. a training for the safeguarding team was held 25/26 June 2024. Safeguarding was undertaken in April 2025. Due to a wrong delivery of salvage drums, correct salvage drums need to be re-procured from a different provider. The remaining stock of nine drums with liquid pesticides will be repacked in September 2025; • Türkiye: A total of 14.173 MT of obsolete pesticides collected from 11 stores were safeguarded and disposed of in July 2024. Output 1.4: Contaminated sites • Azerbaijan: A contaminated site assessment including a drone map and the drilling of a series of sampling and monitoring wells was done at the Ujar former pesticide store. Based on the data, a Phase 2 Conceptual Site Model and a site management plan were developed by June 2024. In parallel, the project was contacted by the newly created inter-ministerial "Commission for coordinating the activities of state bodies (institutions) in the field of ensuring the safe operation of potentially dangerous objects" to provide methodological support and advice for the assessment and management of pesticide contaminated sites in Azerbaijan. A targeted training was held 3-6 August 2024 for the Commission members at the contaminated Yevlakh site. It included training on the new (final draft) guidelines for the management of POPs contaminated sites of the Stockholm Convention, particularly on the initial site assessment phase, interviews with local stakeholders, installation of boreholes and soil sampling. Further, a Manual on Contaminated Site Management was drafted summarising the main elements of the Stockholm Convention guidance; • Kazakhstan: Laboratory and greenhouse trials for bio- and phytoremediation of POPs and heavy metals contaminated soils had started in 2023. First results show encouraging levels of POPs decomposition. The best performing phyto-remediants and microorganisms were further tested in 2024 under field conditions. Results and recommendations will become available in 2025; • Kyrgyzstan: A field trial of bio-remediation of soil contaminated with 19 different POPs pesticides showed substantial acceleration of the decomposition process. Germination tests at the end showed that soil vitality was improved and soil toxicity reduced. In addition, laboratory trials with bacteria immobilising heavy-metals started. Results and recommendations will become available in 2025; • Regional: On 16 April 2024, an International Conference on “Bio- And Phyto-Remediation Technologies for Contaminated Agricultural Soil towards Green Agriculture” was held in Almaty, bringing together 61 experts (including 28 women) from different countries to discuss international best practices in management of contaminated soils and to provide a platform to present recent studies and field works in the region aiming at rehabilitation and restoration of pesticides contaminated areas. One outcome of the conference was the proposal to establish a Central Asia Working Group on Contaminated Soil as part of FAO’s Global Soil Partnership. On 17 April 2024, conference participants could then visit the bio-/phyto-remediation trial site. A leaflet on remediation technologies was prepared in English and Russian. https://openknowledge.fao.org/items/2bc92de0-2aef-4a08-847c-63d1c04423a8; • Kazakhstan: A training on management of POPs contaminated sites, particularly on the initial site assessment phase, interviews with local stakeholders, installation of boreholes and soil sampling was held 14-16 May 2025 at the Leninsk (Atameken) contaminated site. The training was attended by 13 female and 7 male participants. Based on a post-training questionnaire, participants expressed high satisfaction with the training content and organization, noting that the knowledge gained would be applicable in their current work. The training also generated 21 publications in various media; • Tajikistan: Vakhsh landfill was further upgraded to become a recipient site for excavated obsolete pesticides from mini-landfills being remediated. For this, a series of six soil cells were built which can store about 5 000 m3 of pesticide-contaminated soil resp. construction rubble from pesticide stores taken down. Based on a competitive selection, an organisation was contracted to remediate the DDT-containing mini-landfill at Village #1 (Khatlon Oblast). The mini-landfill was remediated by June 2025, while some closing work at Vakhsh landfill will continue through October 2025; • Tajikistan: In a separate activity, a drone map of the Bagara mini-landfill was made, which forms the base for any future remediation planning; Output 1.5: Container management system (CMS) • CMS and Agricultural Plastic Waste (APW) baselines were assessed in all five project countries and reconciled in a regional report; • Azerbaijan: A national CMS workshop was conducted in May 2024. The workshop aimed to familiarise participants with the history and best practices of CMS, present the results of the baseline assessment on CMS and Agricultural Plastic Waste (APW) in Azerbaijan, and explore pathways to establish effective management of empty pesticide containers and APW. Representatives from relevant ministries and local companies participated. The workshop identified that empty pesticide container collection falls within the scope of the new Extended Producer Responsibility (EPR) law. A ToT on triple rinsing of empty pesticide containers including practical exercises was held in March 2025. Also, several meetings with potential industrial solution providers as well as with responsible government entities to discuss models for a CMS managing company were held. Based on that input, a roadmap for introducing a CMS in Azerbaijan was developed and submitted to AFSA for review and further action. Finally, an economic assessment was made for a potential integration of a CMS into Azerbaijan’s new EPR system; • Kazakhstan: The national baseline assessment of empty pesticide containers and Agricultural Plastic Waste (APW) undertaken was presented to the Government and other stakeholders at a National Workshop on 28 November 2023. Discussions are ongoing how to best connect and build upon some already existing regional collection systems and how the government best stimulates a national system. Also, driving establishment of a national CMS in the frame of new EPR legislation is discussed. In parallel, a ToT on triple rinsing and container collection was held 27/28 May 2024, followed by five multiplication trainings on triple rinsing and container collection in July 2024 across Kazakhstan; • Kyrgyzstan: A CMS pilot project was launched in Sokoluk district in 2025 by pesticide sales companies to quantify the volume of containers generated in the district annually, investigate potential disposal options within the country, and define options for collection schemes and delivery points. Initial results were discussed during a visit by the IC on CMS in April 2025. A workshop is planned for 3Q/2025 to present the pilot results and discuss replication on a national level based on a draft CMS model developed based on the pilot results; • Tajikistan: A tender for the development of pesticides legislation including a bylaw on CMS was published. However, no national bidder with relevant experience could be identified and the work had to be cancelled; • Türkiye: 50 collection containers for empty pesticide packaging were provided for the Silifke region. The inauguration meeting was held on 2 June 2023, a flyer (1’000 copies) explaining the risks related to improper disposal of empty pesticide packaging and how to use the collection containers was developed and distributed to farmers. Feedback from local extension service and farmers at end of season was very positive. In total, 405.8 kg of empty pesticide packaging was collected in 2023 and disposed by co-processing in a cement kiln. Establishment of a working group to develop the management of containers from collection to disposal is underway and a roadmap for introducing the missing elements for a comprehensive CMS was drafted and is currently in review. | H7: 0.9 | I7: Satisfactory (S)
C8: b) 900 tonnes of POPs and other obsolete pesticides safeguarded and disposed of | D8: TUR: 1’239 tonnes of waste safeguarded | E8: Year 1: National inventories updated and validated in AZE, KAZ, and TJK Year 2: Risk reduction and disposal strategies for obsolete stocks adopted in AZE, KAZ and TJK and start of implementation | F8: Year 3: Inventoried stocks safeguarded in AZE, KGZ, and TJK (if disposal options in KGZ and TJK available). Start of disposal in AZE (KGZ and TJK) Year 4: Disposal of min. 900 MT completed in AZE (KGZ and TJK) | H8: 0.9 | I8: Satisfactory (S)
C11: c) % of populations engaging in high risk behaviours that expose them to sources of obsolete pesticides | D11: Communication strategies in KGZ have identified exposure routes from stockpile sites in communities through children’s behaviours and illegal excavation of products. Similar and other exposure routes have not been formally documented or quantified in any country | E11: Year 1: KAP survey to describe behaviours and set baseline % of respondents Year 2-3: Communication activities designed and implemented in 3 countries | F11: Year 4: KAP survey indicates declines of 30-50 % in high risk behaviours compared to 1st KAP | G11: Output 1.6: Risk communication • Kazakhstan: A national network on pesticide risk communication was established with 90 network members to date. Information related to obsolete pesticide risks is provided through different channels (telephone hotline, social media, mailing to 49 editorial offices). A training for government (15 %), NGOs (38 %), industry (15 %) and educational sector (32 %) was held on 22 November 2023 (female participants 73 %, male 27 %). A second training was held in Astana on 26 April 2024. It was attended by 39 trainees, thus bringing the total of trained network members to 73. The participants got acquainted with the current situation on POPs and pesticides management in Kazakhstan, requirements of the Kazakh legislation, methods of prevention and protection from POPs and pesticides, methods for awareness raising among stakeholders on the hazards associated with POPs and obsolete pesticides and mitigation of risks. On 12 April 2024, a webinar was held for Network members on ‘Persistent Organic Pollutants and Pesticides: health and environmental hazards and management measures’. The webinar was attended by 50 participants representing various stakeholders. The online format of the webinar allowed participants from different regions of the country to participate in discussions, share experiences and best practices, and discuss problematic issues in the field of chemical safety of POPs and obsolete pesticides. As a result of the event, recommendations for follow-up actions were formulated to improve the situation in the field of chemical safety when handling persistent organic pollutants and obsolete pesticides at all stages of their life cycle. The national network on pesticide risk communication “ToxicNet” continued to operate and provide information meetings and trainings in 2024/2025. At the same time, the operations of the network was expanded to other countries in the region, covering Azerbaijan, Kyrgyzstan and Tajikistan with designated national coordinators and an approved Network Charter, and with a total now of network 147 members from NGOs, academia, government bodies, and independent experts. A regional communication strategy was designed and launched. The network’s website (toxicnet.asia) was updated, and active outreach was carried out via Instagram, Facebook, and TikTok. Printed brochures and an awareness video were translated into five languages and distributed via digital and physical channels. Weekly newsletters on POPs and pesticide-related news were distributed to all members of the network during the period. Youth engagement was a key component. Four interactive events were organised: a video competition in Kyrgyzstan (women – 42 %, men – 58 %), an interactive seminar in Tajikistan, a student lecture in Azerbaijan, and the “GreenBrain” hackathon in Kazakhstan (women – 69 %, men – 31 %). Two roundtables were conducted in Kazakhstan and Kyrgyzstan, involving government agencies, NGOs, and academic institutions. Further roundtables in Tajikistan and Azerbaijan are planned for the next phase. Preparations were also initiated for an online training targeting at least 60 participants from the four countries. • Tajikistan: Four awareness raising seminars on risks by obsolete pesticides were organised 8-11 November 2022. All four seminars together attracted about 140 participants from as various stakeholder groups as central, regional and local administrations and services, farmers, women’s organisations, NGOs, Aarhus centre, etc. A leaflet and a poster were specifically developed for the four seminars. The overall number of printed leaflets (A4) and posters (100*70cm) is 1000 Tajik and 100 English copies, each. In addition, 200 A3 size posters (Tajik only) were printed. The materials can be accessed at: https://www.fao.org/documents/card/en/c/cc2765en (leaflets), and https://www.fao.org/documents/card/en/c/CC2777EN (posters). These seminars were repeated 10-24 November 2023 in three regions of Tajikistan and in Dushanbe. In parallel to the mini-landfill remediation work at Village #1 (see 1.4 above), various information meetings were held with local communities to inform on the work and on pesticide hazards. • Kazakhstan, Kyrgyzstan, Tajikistan: In autumn 2024, the second phase of the pesticide exposure assessment (see outputs 2.2 and 2.3 below) was implemented. Posters (100 copies) and leaflets (1 000 copies) were prepared on pesticide exposure hazards and safety measures for each country and distributed during awareness raising meetings. • Kazakhstan, Kyrgyzstan, Tajikistan: For the training on diagnosis and treatment of pesticide poisoning in late 2024, various training materials were developed for medical staff. | H11: 0.85 | I11: Satisfactory (S)
B12: Outcome 2: Regulatory and institutional framework for pesticide management strengthened in five countries | C12: a) National legislations comply with international standards in AZE, KGZ, and TJK | D12: Legal assessments conducted for AZE, KGZ and TJK have identified specific gaps in the existing laws, and recommend development of secondary legislatio | E12: Year 2: Draft revised and harmonized pesticide legislation in AZE, KGZ and TJK | F12: Year 3: Drafts consulted and approved by stakeholders for presentation to government for adoption | G12: Output 2.1: Legal assessments • Assessments of the legal frameworks on pesticide life-cycle management were undertaken in Azerbaijan, Kazakhstan, Kyrgyzstan, and Tajikistan. A synthesis report showing regional commonalities and shortcomings was developed. • The Azerbaijan legal assessment report was updated in spring 2023 to include recent legislative updates. Further support was provided by developing a NAP for Azerbaijan’s implementation of the Stockholm Convention, also with a view to new POPs to be added, and by supporting the economic justification for an EPR law, which is key for empty pesticide container management. The National Profile needed for the ratification of the Rotterdam Convention was developed in 2Q/2023 and submitted to MENR for further use. MENR has requested project support in preparation of economic and financial justification for ratification of the Convention, which was provided. • The Kyrgyz assessment report was presented on 20 April 2023 in a workshop in Bishkek. An update of this prior legal assessment was taking place in March – May 2025. Currently, national and international consultants are working on draft regulation on pesticides registration and management to support introduction of an electronic pesticide registration system (see also output 2.2+2.3 below). • The Kazakhstan legal assessment was updated to include relevant legislation changes which occurred in June 2023. Legal work was initiated on drafting legal documents in relation to the safe disposal of pesticides. A round table “Legislation of the Republic of Kazakhstan on Pesticide Management: Current Status and Recommendations for Improvement” was held in Astana on 24 October 2024 (women – 64 %, men – 36 %). Also, work is ongoing to develop laboratory standards for pesticides analysis. • The assessments showed that CMS legal regulations are widely absent in all countries. • Tajikistan: National Profile needed for the ratification of the Rotterdam Convention was developed in 3Q/2023. Based on this work and prior work by other donors, Tajikistan ratified the Rotterdam Convention on 1 October 2024. • Regional: A regional meeting was co-organized with the Rotterdam Secretariat. The meeting which was held 4-6 July 2023 in Baku is to accelerate ratification of the Rotterdam Convention by several countries of the EECCA region, including Azerbaijan and Tajikistan. | I12: Satisfactory (S)
C13: b) Data requirements for pesticide registration are more comprehensive | D13: Registration of pesticides is possible in all countries without the full data requirements set out in the Code of Conduct and FAO/WHO specifications | E13: Year 1: Training provided and manuals and guidance translated and publishe | F13: Year 4: Labelling and packaging requirements; operator exposure data; pesticide specification data all required for dossiers | G13: Output 2.2: Registration procedures + Output 2.3: Field data on PPE use and spraying operations • A regional report on the gender, socio-economic and health dimensions of pesticide use and management in Central Asia and Türkiye was developed. The report includes data on current spraying practices in various agricultural sectors and countries and shows that in general women have less access to information on safe spraying practices and on PPE selection and use. • In Kazakhstan, a 2023 report with results from assessments of the use of PPE and spraying systems revealed that many farmers lack sufficient knowledge on proper use of spraying devices, and often necessary components are not readily available. There is a significant knowledge gap in calculating the correct spray volume in function of specific crop ages, accurately calibrating equipment, and using label recommendations for chemical amounts, spray intervals, re-application intervals, and pre-harvest intervals. Many farmers also do not understand the dangers of pesticides to their own and their families' health, nor the importance of using appropriate personal protective equipment (PPE). • In another regional activity, a focus in 2H/2023 was creating understanding on the importance of comprehensive life-cycle management (LCM) of pesticides to reduce pesticide exposure and use levels and developing for the four CA countries LCM road maps with short-, mid- and long-term priorities and targets. During a regional LCM workshop in Baku on 18-19 September 2023, country representatives were introduced to the approaches as promoted by the FAO/WHO International Code of Conduct (CoC) on Pesticide Management. In country working groups, participants then could define gaps compared to the CoC and obstacles to overcome. First drafts of national LCM road maps were developed based on workshop inputs and presented for further comments in national workshops in TJK (24 November 2023) and KAZ (28 November 2023). - Kazakhstan, Kyrgyzstan, Tajikistan: An exposure assessment study based on interviews with farmers in all three countries was undertaken. The results were presented at three national workshops in November 2023. In line with global levels, about 30-40 % of pesticide users suffer from exposure. The study also shows how farmers deal with empty pesticide containers in absence of a collection system. The study data allow to develop trainings and activities targeting the most affected groups. The exposure assessment study was repeated more targeted on high risk areas in late 2024. A larger number of interviews were held in the cropping systems and geographical areas which had been found in the initial study as being the highest risk areas along with awareness raising meetings on pesticide hazards with vulnerable groups from the same areas (see output 1.6 above). The study confirmed the high levels of pesticide exposure incidence found in the phase 1 study and provided more information on which to base future interventions. • Kazakhstan, Kyrgyzstan, Tajikistan: During the first phase exposure assessment study, governments asked for a targeted training for medical staff (doctors and nurses) on pesticide poisoning, its diagnosis and treatment. Three national trainings were held in the period between 25 November – 5 December 2024. The trainings were attended by 53 medical staff (35 female, 18 male) in Kazakhstan, 56 (30 female, 26 male) in Tajikistan, and 29 (22 female, 7 male) in Kyrgyzstan. In meetings with the MoHs in the three countries, the establishment of national poisoning centres was discussed. Participants in all three countries emphasised that the training contents was up-to-date and practical, and asked for the training to be repeated in more detail and for a longer period of time. The training materials have been further updated and will become available as FAO publications. • Kyrgyzstan: The development of an electronic registration is coming to its end. The system is based initially on the current Locust PMS but has substantially evolved from that. Weekly development calls are held between the project team, the FAO CSI team and the recipient government entities. It is planned that the system will be installed in September 2025 at MoA together with trainings for the future operators. • Registration lists of all five project countries were reviewed against the eight FAO/WHO criteria defining Highly Hazardous Pesticides (HHP). In each country, active ingredients qualifying as HHPs are still in use. In a follow-on step, the initial draft of a HHP Risk Reduction Plan was developed for Tajikistan and alternatives to two Active Ingredients (alpha cypermethrin used for controlling aphids in cotton, thiacloprid used against chewing insects on apples) were identified for all project countries. • Azerbaijan/Türkiye: AZE/TUR: A study tour was organised in January 2023 for an Azerbaijani delegation to study the Turkish pesticide registration system and associated QR-code system to track pesticide containers from import/production to the end user. This was followed up by a second visit in September 2023 to further discuss cooperation and activities to be undertaken. 2024 has seen a regular exchange between the two countries. In December 2024, two FAO ICs visited Azerbaijan to discuss with various ministries the current Azerbaijani registration system and define gaps and develop a roadmap for further developing the current system. This was followed by an online training on pesticide registration, traceability, dossier evaluation, and market control on 4-7 February 2025 (total 50 participants; 30 women and 20 men). Based on the trainings, a report for recommendations on further development of the Azerbaijani pesticide LCM system was developed. • Kazakhstan: A training was held on PPE use and correct pesticide spraying on 30 March 2023. In addition, two reports providing an overview on current PPE use, pesticide use, and pesticide application trainings in Kazakhstan were developed. Another six trainings on IPM, sprayer calibration and triple rinsing of pesticide containers were held in the period 27 May – 18 July 2024 (154 farmers, of which 75 women) (see also 1.5 above). • Twelve handbooks and guidelines related to agricultural practices relying on less and less dangerous pesticides were prepared; with some developed originally by the project and some translated into Turkish, Russian, and/or Azerbaijani (for accessing the materials, visit the project website https://www.fao.org/in-action/pesticides-central-asia/resources/publications/en). • Türkiye: Procurement of a post-sales inspection system for pesticide spraying equipment was held. The system will be delivered to three pilot areas in 3Q/2025 and based on the experience with the pilot systems, MoAF foresees replication across all agricultural regions. • Regional: A regional video covering the various elements of pesticide lifecycle management including obsolete pesticide management, pesticide risks, regional issue and FAO’s interventions is under development (see 4.2 below). | H13: 0.85 | I13: Satisfactory (S)
