Workbook
Name Countries: Countries!$A$2:$A$250
Name DevCells: '2. Progress towards outcomes'!#REF!
Name DevCells: #REF!
Name DevRatings: '2. Progress towards outcomes'!#REF!
Name DevRatings: #REF!
Name DevScore: #REF!
Name DevScore: _Calc!$D$20
Name ImpCells: '3. Implementation Progress'!$D$101:$M$103
Name ImpRatings: '3. Implementation Progress'!$D$101:$M$103
Name ImpScore: #REF!
Name ImpScore: _Calc!$D$21
Name NumRating: #REF!
Name NumRating: _Calc!$B$2:$B$9
Name TxtRating: #REF!
Name TxtRating: _Calc!$A$2:$A$9
Name Weights: #REF!
Name Weights: _Calc!$E$14:$I$14
Name Weights2: #REF!
Name Weights2: _Calc!$E$17:$H$17

Sheet Table of Contents
B6: FAO-GEF Project Implementation Report
B7: 2026 – Revised Template
B8: Period covered: 1 July 2025 to 30 June 2026
B9: Table of Contents
B10: =HYPERLINK("#'1. Basic project data'!N10","1. BASIC PROJECT DATA") -> 1. BASIC PROJECT DATA
B11: =HYPERLINK("#'2. Progress towards outcomes'!N11","2. PROGRESS TOWARDS ACHIEVING PROJECT OBJECTIVE(S) (DEVELOPMENT OBJECTIVE)") -> 2. PROGRESS TOWARDS ACHIEVING PROJECT OBJECTIVE(S) (DEVELOPMENT OBJECTIVE) | N11: Progress towards Achieving Project Objective(s) (Development Objective)
B12: =HYPERLINK("#'3. Implementation Progress'!N12","3. IMPLEMENTATION PROGRESS (IP)") -> 3. IMPLEMENTATION PROGRESS (IP) | N12: Implementation Progress (IP)
B13: =HYPERLINK("#'4. Summary on progress'!N13","4. SUMMARY ON PROGRESS AND CHALLENGES") -> 4. SUMMARY ON PROGRESS AND CHALLENGES | N13: Summary on progress, challenges, and outcomes
B14: =HYPERLINK("#'5. ESS Risk'!N14","5.ENVIRONMENTAL AND SOCIAL SAFEGUARDS (ESS):RISKS FROM THE PROJECT") -> 5.ENVIRONMENTAL AND SOCIAL SAFEGUARDS (ESS):RISKS FROM THE PROJECT
B15: =HYPERLINK("#'6. Risks to the project'!N15","6. RISKS TO THE PROJECT") -> 6. RISKS TO THE PROJECT
B16: =HYPERLINK("#'7. Follow-up on Mid-term review'!N16","7. FOLLOW-UP ON MID-TERM REVIEW OR SUPERVISION MISSION") -> 7. FOLLOW-UP ON MID-TERM REVIEW OR SUPERVISION MISSION
B17: =HYPERLINK("#'8. Minor project amendments'!N17","8. MINOR PROJECT AMENDMENTS") -> 8. MINOR PROJECT AMENDMENTS
B18: =HYPERLINK("#'9. Stakeholders' Engagement'!N18","9. STAKEHOLDERS' ENGAGEMENT") -> 9. STAKEHOLDERS' ENGAGEMENT
B19: =HYPERLINK("#'10. Gender Mainstreaming'!N19","10. GENDER MAINSTREAMING") -> 10. GENDER MAINSTREAMING
B20: =HYPERLINK("#'11. Knowledge Management'!N20","11. KNOWLEDGE MANAGEMENT ACTIVITIES") -> 11. KNOWLEDGE MANAGEMENT ACTIVITIES
B21: =HYPERLINK("#'12. Indigenous & Local Involve.'!N21","12. INDIGENOUS PEOPLES AND LOCAL COMMUNITIES INVOLVEMENT") -> 12. INDIGENOUS PEOPLES AND LOCAL COMMUNITIES INVOLVEMENT
B22: =HYPERLINK("#'13. Co-Financing Table'!N22","13. CO-FINANCING TABLE") -> 13. CO-FINANCING TABLE
B23: =HYPERLINK("#'14. GEO Location'!N23","14. GEO LOCATION INFORMATION") -> 14. GEO LOCATION INFORMATION
B29: IMPORTANT DISCLAIMER:
B30: The final version of this PIR will be submitted to the GEF Secretariat.
B31: The report will then be publicly available on the GEF website (click here).
B32: Sensitive information should be submitted in Annex to be uploaded separately.
B33: In such cases, please contact faogef-pir-support@fao.org for guidance.

Sheet 1. Basic project data
B2: 1. Basic Project Data
B3: General Information
B4: Region: | E4: Latin America and the Caribbean (RLC)
B5: Country(ies): | E5: Ecuador
B6: Project Title: | E6: LDN Target-Setting and Restoration of Degraded Landscapes in Western Andes and Coastal areas
B7: FAO Project Symbol: | E7: GCP/ECU/093/GFF
B8: GEF ID: | E8: 10184
B9: Type of Trust Fund(s): | E9: GFF
B10: GEF Focal Area(s): | E10: Land Degradation
B11: Project Executing Partners: | E11: Ministry of Environment and Energy, Ministry of Agriculture, Livestock and Fisheries
B12: Initial project duration (years): | E12: Five (5) years
B13: Project Dates
B14: GEF CEO Endorsement Date: | E14: 44350
B15: Actual Agency Approval Date | E15: 44229
B16: Project Implementation Start Date/EOD: | E16: 44460
B17: First Disbursement Date | E17: 44561
B18: Planned Project End Date/NTE1: | E18: 45909
B19: Revised project implementation End date (if approved)2: | E19: 46752
B20: Actual Completion Date: | E20: n/a
B21: Expected Financial Closure Date: | E21: 47118
B22: Funding
B23: GEF Grant Amount (USD): | E23: 4416210
B24: Total GEF grant delivery (as of June 30, 2026 (USD): | E24: 4279150.9
B25: Total Co-financing amount (USD)3: | E25: ='13. Co-Financing Table'!K21 -> 28328787
B26: Total estimated co-financing materialized as of June 30, 2026: | E26: ='13. Co-Financing Table'!N21 -> 26910227
B27: M & E Milestones
B28: Date of Last Project Steering Committee (PSC) Meeting: | E28: 46118
B29: Expected Mid-term Review date5: | E29: n/a
B30: Actual Mid-term review date (if already completed): | E30: 45756
B31: Expected Terminal Evaluation Date6: | E31: 46265
B32: Overall ratings
B33: Overall rating of progress towards achieving objectives/outcomes (cumulative): | E33: =_xlfn.XLOOKUP(DevScore, NumRating, TxtRating, "Not Rated") -> Satisfactory (S)
B34: Overall implementation progess rating: | E34: =_xlfn.XLOOKUP(DevScore, NumRating, TxtRating, "Not Rated") -> Satisfactory (S)
B35: Overall risk rating: | E35: ='6. Risks to the Project'!C66 -> Moderate
B36: Status
B37: Implementation Status (1st PIR, 2nd PIR, etc. Final PIR): | E37: 4th PIR
B40: 1 Date that was originally foreseen at the project’s operationalization and indicated in FPMIS. 2 If NTE extension has been requested and approved by the FAO-GEF Coordination Unit. 3 This is the total amount of co-financing as included in the CEO Document/Project Document. 4 Please refer to the Section 13 of this report where updated co-financing estimates are requested and indicate the total co-financing amount materialized. 5 The Mid-Term Review (MTR) should take place after the 2nd PIR, around half-point between EOD and NTE. The MTR report in English should be submitted to the GEF Secretariat within 4 years of the CEO Endorsement date. 6 The Terminal Evaluation date should be discussed with OED 6 months before the project’s NTE date.
B45: Project Contacts
B46: Contact | E46: Name, Title, Division/Institution | I46: E-mail
B47: Project Coordinator (PC) | E47: Manuel Peralvo / CONDESAN | I47: manuel.peralvo@condesan.org
...

Sheet _Calc
A1: Rating text | B1: Score
A2: Highly Unsatisfactory (HU) | B2: 1
A3: Unsatisfactory (U) | B3: 2
A4: Moderately Unsatisfactory (MU) | B4: 3
A5: Moderately Satisfactory (MS) | B5: 4
A6: Satisfactory (S) | B6: 5
A7: Highly Satisfactory (HS) | B7: 6
A8: Unknown | B8: 0
A9: Not Rated | B9: 0
D12: for DevScore
D13: Person | E13: PM/Coord | F13: Budget Holder | G13: LTO | H13: GEF OFP | I13: GTO
D14: Weight % | E14: 20 | F14: 25 | G14: 25 | H14: 0 | I14: 30
D15: For ImpScore
D16: Person | E16: PM/Coord | F16: LTO | G16: GEF OFP | H16: GTO
D17: Weight % | E17: 25 | F17: 35 | G17: 0 | H17: 40
A19: Once you've filled in 2. Progress towards outcomes & 3. Implementation Progress
A20: Please double click and press enter on Cells D20 and D21 | D20: {=_xlfn.LET(_xlpm.hdrRow,MATCH("*Development*Objective*rating*",'2. Progress towards outcomes'!$C:$C,0),_xlpm.rRow,_xlpm.hdrRow+1,_xlpm.ratings,INDEX('2. Progress towards outcomes'!$D:$H,_xlpm.rRow,0),_xlpm.scores,_xlfn.XLOOKUP(_xlpm.ratings,TxtRating,NumRating,0),ROUND(SUMPRODUCT(_xlpm.scores,Weights)/SUM(Weights),0))} -> 5
D21: {=ROUND( SUMPRODUCT( _xlfn.XLOOKUP( CHOOSE({1,2,3,4}, '3. Implementation Progress'!D101, '3. Implementation Progress'!F101, '3. Implementation Progress'!J101, '3. Implementation Progress'!L101 ), TxtRating, NumRating, 0 ), Weights2 ) / SUM(Weights2), 0)} -> 5

Sheet Countries
A1: Select Country
A2: Afghanistan
A3: Åland Islands
A4: Albania
A5: Algeria
A6: American Samoa
A7: Andorra
A8: Angola
A9: Anguilla
A10: Antarctica
A11: Antigua and Barbuda
A12: Argentina
... A250: Zimbabwe

Sheet TypeofTrustFund
A1: Type of Trust Fund
A2: Capacity-building Initiative for Transparency (CBIT)
A3: Global Biodiversity Framework Fund (GBFF)
A4: Global Environment Facility Trust Fund (GFF)
A5: Least Developed Countries Fund (LDCF)
A6: Special Climate Change Fund (SCCF)
A7: Small Grants Program (SGP)

Sheet FocalArea
A1: Focal Area
A2: Multi Focal Area
A3: Biodiversity
A4: Chemicals and Waste
A5: Chemicals/PoPs
A6: Climate Change
A7: Climate Change Adaptation
A8: Climate Change Mitigation
A9: International Waters
A10: Land Degradation

Sheet 2. Progress towards outcomes
B1: 2. Progress towards Achieving Project Objective(s) (Development objective)
B3: (All inputs in this section should be cumulative from project start, not annual)
B6: Please indicate the project’s main progress towards achieving its objective(s) and the cumulative level of achievement of each outcome since the start of project implementation.
B7: Project or Development Objective | C7: Outcomes | D7: Outcome indicators | E7: Baseline | F7: Mid-term Target | G7: End-of-project Target | H7: Cumulative progress level at 30 June 2026 | I7: % of cumulative progress | J7: Progress rating
B8: Objective: Prevent, reduce and reverse land degradation processes (SDG 2, 13, 15) to promote the sustainable development of rural communities, ensuring the provision of key ecosystem services and food sovereignty, within the framework of national efforts to achieve the LDN in Ecuador (2.4.1; 13.2.1; 15.3.1) | C8: Outcome 1.1: Institutional actors make decisions with a LDN approach based on an established monitoring system that is regularly fed | D8: Project Indicator # 1: LDN information gathering and monitoring system working and producing LDN national indicator reports mainstreaming gender and interculturality variables. | E8: There are several national monitoring initiatives led by the MAAE and the MAG, this includes national progress for LUCC and COS. In addition, MAAE and MAG have environmental (SUIA), agricultural (SIPA) and forest information systems. Progress is needed in the development of national LDN indicators and targets that are reported to the Convention. | F8: Information system gathering and monitoring the LDN established, defining national LDN targets, protocols for monitoring indicators and institutional arrangements, sensitive to gender and multiculturalism, for long - term monitoring agreed among key actors (including MAAE and MAG). | G8: System survey information and monitoring of LDN running and generating national LDN indicators, reports, integrating variables related to gender and multiculturalism. | H8: In the final year of its implementation, the consolidation process of the National Observatory of Land Degradation (ONDT) continues, with two universities joining the research group: the University of Cuenca (UCUENCA) and the National Polytechnic School (EPN). These universities participate in methodological development, monitoring, and testing of practices within working groups and nodes, with a defined management model, a first version of the website, and a geoportal under development. The following actions were carried out in the period of this report: 1. Development of conceptual models (state and transition models) and identification of information gaps within the framework of building an ONDT research agenda. 2. Development of the ONDT's Organizational and Functional Manual (MOF). 3. Initiation of a new Montane Forests Node of the National Observatory of Tropical Forests (ONDT) under the leadership of faculty from the National Polytechnic School (EPN), the Central University of Ecuador (UCUENCA), and the Technical University of Loja (UTPL). 4. Implementation and launch of the Dry Forest Reforestation Trial under Irrigation within the Dry Coastal Node. 5. Implementation and launch of the Eroded Paramo Recovery Trial using Stone Walls and Crescent-Shaped Structures within the High Andean Node. 6. Development of protocols for monitoring degradation and recovery in high Andean peatlands and herbaceous and shrubland páramo. 7. Establishment of a baseline for in-situ monitoring of degradation and recovery at 13 paramo sites (39 transects) and 16 high Andean peatland sites (48 transects) in the high Andean landscape of Bolívar Province within the High Andean Node, applying the developed protocols. 8. The SDG 15.3.1 Good Practice Guidance Addendum (Teich et al., 2025) features several methodological enhancements co-developed by the LDN Project Ecuador and WOCAT as examples of national calibration approaches. | I8: 0.72 | J8: Satisfactory (S)
C9: Outcome 1.2: Key actors at national and sub-national levels apply knowledge and tools for the implementation of the LDN approach to measures planning, implementation and monitoring. | D9: Project Indicator # 5: Number of people with capacities strengthened in the LDN approach for the implementation of SLM/SFM practices and that apply knowledge and tools in the three intervention areas (disaggregated by sex, ethnicity and age). | E9: The LDN approach is new to most actors at the national and sub-national level. The application of knowledge and tools relevant to the LDN approach will require the development of capacities and tools that allow their use by technicians and landowners / users to plan, execute and monitor LDN measures. | F9: At least 30 Technical (national, subnational, researchers) with capacities strengthened in planning the LDN approach to the monitoring of the LDN. At least 10 community promoters with training to promote the LDN approach (40% are women; 30% belong to peoples and nationalities). At least 30 people with strengthened capacities to implement SLM practices (40% are women; 30% belong to peoples and nationalities). | G9: At least 100 technical (national, subnational, researchers) with knowledge and capabilities strengthened in the LDN approach planning, implementation of measures and the monitoring of the LDN. At least 30 community promoters with training to promote the LDN approach (40% are women; 30% belong to towns and nationalities). At least 90 people with strengthened capacities to implement SLM practices (40% are women; 30% belong to peoples and nationalities). | H9: In its final year of implementation, the project continues with various activities to improve understanding and capacity to design, implement, and monitor actions to combat land degradation. These include: - Continued capacity building for stakeholders of the National Land Degradation Observatory (ONDT) on the development of state and transition models, local-level monitoring of land degradation, and the adaptive development of sustainable land management (SLM) practices and trials. During this period, an increase of 28 people joined this process (24 men and 4 women), bringing the total to approximately 168 people (115 men, 53 women) since the project's inception. A total of 98 people attended ONDT-related training events (23 women and 75 men) in this last period. - This year, additional individuals were identified who have taken on a leading role in the implementation of Sustainable Land Management (SLM) practices related to the promotion of sustainable livestock farming in the Salinas parish of Bolívar province, Sierra Centro site, bringing the total to 31 people (19 men and 7 women) since the project's inception. - The capacity-building process for implementing SLM practices continues. The topics covered in the training sessions this past year included: application and benefits of biological pest control in maize crops, cacao cultivation in diverse agroforestry systems, sustainable citrus management, soil restoration in production systems, production and application of bio-inputs for the sustainable management of productive soil, and pruning of fruit and forest trees for the sustainable management of productive soil. This year, 415 people attended these training sessions across the project's three implementation sites (193 women and 222 men). Note: As part of the project systematization process, the effective number of people corresponding to the recorded attendances will be defined. | I9: 0.63 | J9: Satisfactory (S)
C10: Outcome 1.3: National and sub-national authorities include the LDN approach into national policies and planning processes, at different levels and with appropriate inter-agency coordination mechanisms. | D10: Project Indicator # 7: Effective inter-institutional and / or multilevel coordination mechanisms to achieve LDN | E10: Inter-institutional coordination mechanisms on this issue are weak and are not implemented on a regular basis. | F10: At least 1 intersectoral and / or multilevel coordination mechanism activated with LDN actors. | G10: At least 1 intersectoral and / or multilevel coordination mechanism activated with LDN actors. | H10: The intersectoral coordination mechanism, the Ad Hoc Working Group (GTAH), established to provide technical assistance for the development of the National Action Plan for Land Degradation Neutrality and Soil Resource Conservation (NDT&CRS), is currently active and resumed its activities in June 2026 with the new consultancy process assigned for its development. The next steps will involve reviewing the members who will be activated for this new process. | I10: 0.69 | J10: Satisfactory (S)
C11: Outcome 2.1: Landowners and users adopt sustainable land management practices at intervention sites to prevent and/or reduce land degradation and restore ecosystem services. | D11: GEF Indicator # 3.2: Area in hectares (ha) of forest areas restored to maintain ecosystem services in 3 intervention sites | E11: 0 | F11: 0 | G11: 2,000 ha | H11: During this period, activities continued that enabled the implementation of sustainable land management (SLM) practices through the following specific actions: 1) Restoration Actions: Coast - Natural Regeneration: Maintenance and periodic monitoring of the fencing implemented in the restoration area in San Marcos, Santa Elena Province (100 ha). - SLM Support Mechanisms: Support for the dry forest nursery in Santa Elena Province, which is currently in production and supports landscape restoration efforts in the province (600 ha). - SLM Support Mechanisms: The nurseries in Sinchal and Barcelona have been implemented and have begun production (Area under validation). Central Highlands - SLM Support Mechanisms: Installation of expansion infrastructure for plant production at the nursery in Chimborazo, Central Highlands (300 ha). - Moderately Assisted Regeneration: Maintenance of the restoration area in Jun Jun, Tungurahua, Central Highlands (25 ha). - Support mechanisms for MST: Technical assistance to the Decentralized Autonomous Government of the Municipality of Guaranda, Bolívar, in the implementation of restoration practices designed for the Landscape Restoration Program (215 ha). At the end of this period, a total of 1240 hectares of forest areas were recorded as being in restoration processes across the 3 intervention sites of the project. The validation of data for the hectares of surface area under restoration is an ongoing process that will be completed within the framework of the systematization of the project. Note: The variations recorded in the surface area estimates compared to the previous report reflect the adjustment required after processing information from the action: Implementation and strengthening of Integrated Fire Management Brigades (MIF) in the province of Imbabura, using geographic information systems and the land cover and land use map of the province, provided by local stakeholders. Final validation of the recorded reports will be available as the project systematization process progresses. | I11: 0.77 | J11: Satisfactory (S)
D12: GEF indicator # 3. 3: Area in hectares of paramo areas and shrub ecosystems restored to maintain ecosystem services in 3 intervention sites | E12: 0 | F12: 0 | G12: 2,000 ha | H12: The actions carried out this year for the regeneration of paramo areas and shrub ecosystems are: Central Highlands Natural Regeneration: Evaluation of the installed fencing and the commitments of the six communities in the province of Bolívar where the páramo area undergoing restoration has been demarcated: Pachancho, Natawa, Rincon de los Andes, Yakubiana, Yukak Ugsha and Verdepamba (1578 ha). At the end of this period, 1,578 hectares of paramo and shrub ecosystems were recorded as being in the process of restoration. The validation of data for the hectares of surface area under restoration is an ongoing process that will be completed within the framework of the systematization of the project. Note: The variations recorded in the surface area estimates compared to the previous report reflect the adjustment required after processing information from the action: Implementation and strengthening of Integrated Fire Management Brigades (MIF) in the province of Imbabura, using geographic information systems and the land cover and land use map of the province, provided by local stakeholders. Final validation of the recorded reports will be available as the project systematization process progresses.
D13: GEF indicator # 4. 3 : Area in hectares of landscapes under SLM in productive systems in 3 intervention sites | E13: 0 | F13: 0 | G13: 4,750 ha | H13: 2) Sustainable Land Management (SLM) Actions: During this period, ongoing processes continued, either in the implementation or monitoring stage: Coast: - Sustainable plantation management: Development of the second Field School (ECA) for the sustainable management of toquilla palm groves in the communities of Sinchal, Barcelona, ​​and Febres Cordero in the province of Santa Elena (137 ha). - Sustainable plantation management: The second phase of application of biological pest control and associated sustainable practices in corn crops in Santa Elena was completed (45 ha). - Agroecological practices: The implementation of three demonstration farms with an agroecological approach in Santa Elena, located within a monoculture-dominated area, was completed (Area under validation). Northern Highlands: - Agroforestry: Monitoring of agroforestry systems and other SLM practices established in Cotacachi (46 ha) and Urcuqui (288 ha), province of Imbabura, continues . - Protection, Control, and Surveillance: Monitoring is being conducted on the operation and proper use of equipment belonging to community brigades for integrated fire management in Imbabura (18,863 ha). - Agroecological Practices: Implementation of Sustainable Land Management (SLM) practices on 29 farms in the Mojanda Cambugan Area of ​​Conservation and Management (ACUS) (161.7 ha). Central Highlands: - Agroecological Practices: Monitoring continues on the maintenance of SLM practices on livestock farms in the Province of Bolivar (644 ha). At the end of this period, a total of 20,500 hectares were registered under SLM practices across the project's three intervention sites. The validation of data for the hectares of surface area under SLM is an ongoing process that will be completed within the framework of the systematization of the project.
D14: GEF indicator # 4. 4 : Area in hectares of high-value forests conserved in 3 intervention sites | E14: 0 | F14: 0 | G14: 20,000 ha | H14: 3) Conservation Actions: Northern Highlands: - Protection, control, and monitoring: The design of the environmental interpretation facilities needed to promote the conservation of the community area in Irugincho, Imbabura, has been completed (795 ha). - Implementation of actions for the conservation of individual areas and a community forest area in the Mojanda Cambugan Conservation Area (ACUS), Imbabura (554 ha). - Monitoring of the performance of the BRICOM MIF Brigades, Imbabura, continues (10.835 ha). At the end of this period, a total of 12,184 hectares remain under conservation actions by the project.
D15: GEF Indicator # 11: Number of direct beneficiaries disaggregated by sex and ethnicity as a co-benefit of the GEF investment | E15: 0 | F15: At least 1,250 people (500 women and 375 belonging to peoples and nationalities) have implemented SLM practices on the farm and their comprehensive impact has been evaluated. | G15: At least 3,750 people (1,500 women and 1,125 belonging to peoples and nationalities) have implemented SLM practices on the farm and their comprehensive impact has been evaluated. | H15: As a result of these initiatives, by the end of this period, acumulative total of 14,608 people have benefited from the implementation of SLM practices in the project (7,450 women and 7,158 men, based on the distribution of the latest population census). In the last year, additional work processes related to the implementation of nurseries in the Sinchal and Barcelona districts of Santa Elena were recorded, with the aim of promoting the adoption of sustainable agroforestry systems.
D16: GEF Indicator # 6: tCO2e sequestered or emissions avoided due to SLM practices and avoided deforestation | E16: 0 | F16: 0 | G16: 9’596,730 tCO2e q | H16: The volume of emissions sequestered and/or avoided will be estimated toward the final stage of the project, once the implementation of the sustainable land management (SLM) measures has been completed. For this purpose, the EX-ACT tool (Ex Ante Carbon Balance Calculation Tool) developed by the FAO will be used. The baseline data for estimating carbon sequestration will be the records of areas with vegetation cover under conservation, restoration, and productive areas that incorporate SLM practices, which are currently being recorded by the project.
C17: Outcome 3.1 Actors in selected value chains include the SLM approach to enhance resilience and generate socio-economic benefits based on incentives and improvements in market access mechanisms. | D17: GEF Indicator # 11: Number of direct beneficiaries disaggregated by sex and ethnicity as a co-benefit of the GEF investment | E17: 0 | F17: At the least 300 beneficiaries access SLM incentives and mechanisms that promote SLM in value chains. At least 360 people with strengthened capacities in LDN (disaggregated by sex and ethnicity). | G17: At the least 1000 beneficiaries / as access SLM incentives and mechanisms to strengthen the SLM in value chains. At least 480 people with strengthened capacities in LDN (disaggregated by sex and ethnicity). | H17: During the reporting period, the implementation of actions related to the application of incentives and the development of market access mechanisms continued. These actions will be detailed in the specific products of this report. The most relevant progress during this period was: Financial Incentives Some processes related to the application of incentives have been finalized, such as those for the savings funds of the Barcelona Center in Santa Elena and the CCMU in Imbabura, where their administrative, financial, and record-keeping management mechanisms have been developed and strengthened. Progress has been made in: 1) the development of a management model for applying an incentive for the implementation of SLM practices by livestock producers in Salinas de Guaranda – BolIvar, including the identification of qualification criteria, beneficiaries, and mechanisms for registration and delivery of the incentive; 2) the identification of clients and qualification criteria for access to the green product with the Santa Anita Cooperative, as well as its integration and validation with the in-kind fund mechanism of the CCMU in Imbabura. Non-Financial Incentives During this period, the development process for five Management Plans for the Matapalo-Santa Elena Commune was completed for tagua nut harvesters in the Matapalo Commune. These plans focused on the legalization/regularization of their land titles, as well as providing technical assistance for their approval by the Ministry of the Environment (MAE). The integration of the green product and the in-kind funding mechanism with the Santa Anita Cooperative and the CCMU continues, along with the pilot application of this mechanism. Market Access Mechanisms During this period, progress has been made in developing mechanisms that allow organizations to establish links with private companies and local organizations for the marketing of products with a sustainable land-use approach. The main mechanisms include: - Fairs: Planning the communication strategy for the Bolívar Agroecological Fair, and compiling registrations of participants in the Cotacachi Fair, "La Pacha Mama nos alimenta". - Direct Sales: Improvements in quality processes, record-keeping system, and integration of the MST approach from the Barcelona Center in Santa Elena; design of a point of sale for sustainable products in Salinas de Guaranda, Bolivar. - Supplier Development: Development of a pilot production project for aromatic herbs under MST criteria – CCMU – Imbabura; development of management models for a Service Center for agricultural production management in Salinas, Bolivar. - Partnerships: Partnerships between local organizations and private companies in the value chains of toquilla straw, tagua, milk/cheese, and aromatic herbs are maintained and strengthened. Thus, up to the end of the reporting period, the following results were recorded in relation to the indicator target proposed in this result: - An increase in the number of reported beneficiaries was recorded: 1,516 people benefited from the incentive and market access initiatives (677 women and 839 men). - 280 attendances at training events related to the adoption of incentives and market access mechanisms (approximately 103 women and 177 men). The final systematization process will determine the actual number of beneficiaries and participants in the various training activities based on recorded attendance. The gender perspective in this outcome is evident in the participatory work with women-led and women-in-command organizations. The nature of the processes to which the incentives are linked responds to the specific challenges faced by rural women in productive activities and their caregiving roles at home and within their communities. | I17: 0.77 | J17: Satisfactory (S)
D18: Project Indicator # 12: On-farm generated smallholder income improved through SLM / SFM practices and incentives | E18: To be defined in year 1. | F18: 0 | G18: At least 10% increase in the income generated in the farm of small owners who have incorporated the SLM. | H18: As part of the participatory evaluation process of MST practices implemented by the project, an economic feasibility analysis has been included. This analysis will propose a methodology to determine the impact of the practices, incentives, and market access mechanisms on the family incomes of the beneficiary groups. The evaluation will begin in the second half of 2026.
C19: Outcome 4.1: Knowledge management, M&E and disseminated lessons learned from the project. | D19: Project Indicator 15: Project results achieved and demonstrating sustainability | E19: N/A | F19: 10 0% of goals fulfilled medium term. | G19: 100% scope in achieving results. Proven sustainability. | H19: The NDT project is currently implementing actions at its three sites: Coast, Northern Highlands, and Central Highlands, in accordance with the plan proposed in the final year of execution. A new closing date of August 2027 has been set, based on the extension strategy presented by the project and approved in April 2026 by the Steering Committee. During this period, actions related to closure, systematization, and knowledge management will be undertaken. The first advances reported during this period are presented below: The development of the following products has begun: 1) Participatory evaluation of the impact of Sustainable Land Management (SLM) practices and their relationship to improving the income of beneficiaries in the value chains supported by the project, 2) Sustainable Livestock Guidelines for the Salinas parish, Bolívar, 3) Milestones 2025 Magazine of the NDT Project, 4) In progress, inputs at the territorial level such as the Sustainable Livestock Guidelines for the Salinas parish in Bolívar, the Executive Summary of the Sustainable Production Strategy for the province of Bolívar, and the Study of areas of hydrological importance in Bolívar. The development of the knowledge management and systematization strategy will evolve further towards the second half of 2026, when the planned actions in the different components of the project are in the final stage of implementation, based on the project's time extension strategy presented. | I19: 0.67 | J19: Satisfactory (S)
B21: Average Cumulative progress toward outcomes (%) | C21: Time elapsed since project start/EOD vs Planned Project End Date | D21: % of delivery
B22: =IFERROR(AVERAGE(I8:I19),"") -> 0.70833333 | C22: =IF(OR('1. Basic project data'!E16="",'1. Basic project data'!E18=""),"",(TODAY()-'1. Basic project data'!E16)/('1. Basic project data'!E18-'1. Basic project data'!E16)) -> 1.2456867 | D22: =IF('1. Basic project data'!E23=0,"",'1. Basic project data'!E24/'1. Basic project data'!E23) -> 0.96896454
B33: Development Objective (DO) Ratings, and Overall Assessment
B34: Please note that the overall DO ratings should be substantiated by evidence and progress reported above. The ratings and comments should reflect the overall progress of results since project start
C36: FY2026 Development Objective rating¹ | D36: Project Manager/ Coordinator | E36: Budget Holder | F36: Lead Technical Officer13 | G36: GEF Operational Focal Point | H36: GEF Technical Officer (GTO)
D37: Satisfactory (S) | E37: Satisfactory (S) | F37: Satisfactory (S) | G37: Satisfactory (S) | H37: Satisfactory (S)
C38: Comments/reasons¹² justifying the ratings for FY2026 and any changes (positive or negative) in the ratings since the previous reporting period | D38: The project has consolidated its operations, with important progress in national level processes (e.g. National Land Degradation Observatory, National LDN Action Plan) and in the implementation of SLM practices in the intervention sites. Collaborative arrangements with institutional allies such as decentralized autonomous governments (DAG) and individual and associated local producers have been strengthened. Capacity building activities have reached a diverse set of target groups, including researchers, local communities and technical teams in the Ministries and GADs. | E38: The project has demonstrated satisfactory progress in implementation, particularly regarding the Observatory as a key platform for information and knowledge management. In parallel, capacity-strengthening efforts have yielded positive results at the local level through the partnerships established. However, these achievements need to be better articulated and integrated into inter-institutional coordination mechanisms. Indicators related to the adoption of Land Degradation Neutrality (LDN) practices have shown progress consistent with the current stage of project implementation. Nevertheless, it is essential to prepare both quantitative and qualitative assessments to enable a more comprehensive analysis at project completion, as well as to evaluate the effectiveness of the incentives provided. The project has been granted an approved extension; therefore, it should optimize the use of the remaining time and resources to consolidate national and local capacities and, based on the LDN Action Plan, strengthen the sustainability of partnerships, capacities, information systems, and inter-institutional coordination and collaboration mechanisms. | F38: The progress reported and the results of the Project's Midterm Evaluation demonstrate significant advancements in implementing actions that promote land degradation neutrality. These actions have been aligned with national policy agendas and effectively coordinated with local stakeholders, taking into account the needs and priorities of the three intervention sites. The approval of an extension to the project's end date is expected to contribute to the sustainability of the results achieved and to the proper systematization and dissemination of lessons learned. Within this framework, most of the project's main objectives are expected to be met satisfactorily. | G38: The Operational Focal Point recognizes the significant progress achieved by the project.These achievements contribute to national priorities for sustainable land management and to the GEF objectives on land degradation and ecosystem restoration. Considering that the project is in its final implementation year and has an approved extension until August 2027, it is important to prioritize the completion and validation of outstanding indicators, particularly those related to restoration areas, carbon benefits, income generation, and project sustainability. The ongoing validation and systematization of results should also ensure that sufficient evidence is available to demonstrate the achievement of project targets. Furthermore, efforts should focus on institutionalizing the tools, capacities, coordination mechanisms, and sustainable land management practices developed by the project to ensure their continuity beyond the project closure. | H38: The project continues to be implemented in alignment with national and subnational priorities on Land Degradation Neutrality (LDN). In its fourth year of implementation, the project has made solid progress in delivering field-level activities while also advancing national governance processes. It enjoys strong support from local stakeholders, beneficiaries, and government authorities. Despite changes in national and institutional leadership, the project has continued to achieve its targets in a satisfactory manner. As it enters its final year of implementation, strengthened national institutional support and commitment will be essential to ensure the successful achievement of the project's objectives and the long-term sustainability of its results.
B43: Measures to address MS, MU, U and HU ratings on Section 2 above
B46: Outcome | D46: Action(s) to be taken | F46: By whom? | H46: By When?
B51: 7 Some indicators may not identify mid-term targets at the design stage (refer to approved results framework) therefore this column should only be filled when relevant. 8 Use GEF Secretariat required six-point scale system: Highly Satisfactory (HS), Satisfactory (S), Moderately Satisfactory (MS), Moderately Unsatisfactory (MU), Unsatisfactory (U), and Highly Unsatisfactory (HU).

Sheet 3. Implementation Progress
B1: 3. Implementation Progress (IP)
B3: (Please indicate progress achieved during this FY as per the Implementation Plan/Annual Workplan)
B5: Outcomes and outputs | D5: Indicators (as per the logical framework) | F5: Main achievements in the last 12 months (please DO NOT repeat results reported in previous year PIR) | L5: Describe any variance 9 in delivering outputs
B7: Outcome 1.1 Institutional actors make decisions with a LDN approach based on an established monitoring system that is regularly fed
B8: Output 1.1.1 LDN indicators baseline assessed at national and local level. | D8: Project Indicator # 2: Number of LDN base line indicators established | F8: During the last year of implementation, the following progress was made regarding this product: - At the national level: The SDG 15.3.1 Good Practice Guidance Addendum (Teich et al., 2025) features several methodological enhancements co-developed by the LDN Project Ecuador and WOCAT as examples of national calibration approaches. - At the subnational level: Establishment of the baseline for in-situ degradation monitoring at 7 new long-term monitoring sites (21 transects) of dry forest implemented in the Agua Blanca Community (Manabi Province), as well as at 13 paramo sites (39 transects) and 16 high-Andean peatland sites (48 transects) implemented in Bolivar Province. Thus, the following status of compliance with the proposed indicator is presented to date: - An additional national indicator has been developed: Potential water erosion, bringing the total to 4 national indicators, with a reporting mechanism that integrates demographic, gender, and intercultural variables. - Several subnational indicators developed for in situ monitoring of degradation of moorlands, high Andean peatlands and dry forest, and a subnational baseline established in the sites described above: Mandatory Indicators for monitoring protocol for paramos and exposed soil areas: * Complexity of vertical structure * Abundance of plant species indicative of degradation * Necromass (Leaf Litter) * Presence of the horizon Ah * Soil cover * Evidence of ruts and gullies * Sediment accumulation (Erosion record over time) * Evidence of other land use pressures Mandatory Indicators for monitoring protocol for high Andean peatlands * Complexity of vertical structure and growth form * Coverage of indicator species *Visual evidence of oxidation * Presence of surface water * Water table: monitoring water variation * Evidence of other land use pressures Additional indicators for the monitoring protocol for dry forests: * Juvenile trees (Tree regeneration)
B12: Output 1.1.2 Participatory assessment of SLM practices that prevent and reduce land degradation, restore ecosystems, reduce emissions and enhance the provision of ecosystem services. | D12: Project Indicator # 3: Methodologies to systematize and evaluate SLM practices aligned with LDN targets and land degradation trends at the national and sub-national level that are implemented with a gender and intercultural approach. | F12: The activities related to this product have been completed. Ten social and cultural rights (SLM) measures have been evaluated and systematized, including aspects of interculturality and gender. As part of this product, the technical/financial analysis of SLM practices in beneficiary income is still pending; this will be carried out jointly with the participatory evaluation of practices implemented by the project.
B16: Output 1.1.3 Monitoring of LDN indicators at national and sub-national levels, integrated with reporting mechanisms. | D16: Project Indicator # 4: Methodologies and institutional-operational arrangements to monitor long-term progress and fulfillment of LDN targets that facilitate the participation and representation of women and men in decision-making on SFM/SLM | F16: The progress presented in the last year of reporting regarding this product includes: - Development of conceptual models (state and transition models) and identification of information gaps within the framework of building a research agenda for the National Observatory of Land Degradation (ONDT). - Development of the ONDT's Organizational and Functional Manual (MOF). - Initiation of a new Montane Forests Node within the ONDT, led by faculty from EPN, UCUENCA, and UTPL. - Implementation and launch of the Dry Forest Reforestation Trial under Irrigation within the framework of the Dry Coastal Node. - Implementation and launch of the Trial for the Recovery of Eroded Paramo Using Stone Walls and Crescent-Shaped Structures within the framework of the High Andean Node. - Development of protocols for monitoring degradation and recovery in high Andean peatlands and herbaceous and shrubland paramo. At the end of the reporting period, the following progress regarding indicator compliance is presented: Indicator Monitoring Protocols: - Two protocols for monitoring páramo and high-Andean peatlands have been tested in the Bolivar Province. - One protocol for monitoring dry forest, supplemented by regeneration variables. National Observatory: - The National Land Degradation Observatory (ONDT) is active with the participation of researchers from two additional universities: the National Polytechnic School (EPN) and the University of Cuenca (UCUENCA), bringing the total number of universities linked to the ONDT to 11. Articulation Nodes: - A new Montane Forests node has been integrated, and an agreement has been formalized with the Santa Elena Peninsula State University (UPSE), along with a Letter of Commitment with the Eloy Alfaro Lay University of Manabi (ULEAM). Thus, four Observatory nodes are currently active.
B20: Outcome 1.2 Key actors at national and sub-national levels apply knowledge and tools for the implementation of the LDN approach to measures planning, implementation and monitoring.
B21: Output 1.2.1 Capacity strengthening tools for LDN targets planning, implementation and monitoring, with a gender and intercultural approach, and available, operational and implemented by key actors. | D21: Project Indicator # 6: Number and type of capacity building tools for planning, implementing and monitoring the LDN targets, SLM and SFM with a gender and intercultural approach, available, operational and applied by key stakeholders | F21: The progress reported in this latest reporting period regarding this product is as follows: - Progress in the conceptualization, validation, launch, and design of the Integrated Territorial Planning Course, a joint effort between CONGOPE, CONDESAN, and FLACSO. The consulting process responsible for this began in February 2026. - Between February and June 2026, working meetings were held with CONGOPE to provide feedback on the Work Plan and the Course's Thematic Content Structure. As of June 2026, the Work Plan, the Methodological Content, the identified case studies, and Module 1 were completed. A draft cooperation agreement was developed between CONDESAN and the Latin American Faculty of Social Sciences (FLACSO) for the development of the Integrated Territorial Planning Course. - The formation of the working group for the implementation of the soil learning laboratory is underway, in conjunction with the Technical University of the North. This laboratory is currently being implemented by Ekorural, and the aim is to create a space for training and knowledge exchange on Sustainable Land Management (SLM). - The Sustainable Land Management in the Andes Course was launched in conjunction with the Andean University Simon Bolívar, with the participation of local promoters from the three project intervention sites. The goal is to improve management capacities in each of their areas of action at the local and institutional levels. | L21: The validation process took longer than expected due to several changes in CONGOPE's leadership. However, in February 2026, the consulting work for the course's development and design was successfully launched.
B25: Outcome 1.3 National and sub-national authorities include the LDN approach into national policies and planning processes, at different levels and with appropriate inter-agency coordination mechanisms.
B26: Output 1.3.1 National policies and sub-national territorial planning instruments (new or existing) are part of the LDN approach and consider the specific priorities of women and peoples and nationalities. | D26: Project Indicator # 8: Number and type of policy instruments national and territorial planning tools that incorporate LDN and SLM and capacities, priorities and territorial conditions for women, men and indigenous populations | F26: This year marks the completion of the final local territorial planning instrument of the six supported by the NDT Project: the Management Model of the Environment and Production Roundtable of Chimborazo. Additionally, between March and June 2026, the management model of the Sustainable Agricultural Production Strategy of the Province of Bolivar was adjusted to include the structure of the recently created Conservation and Sustainable Use Area (ACUS). Furthermore, the possibility of incorporating the Strategy into a provincial ordinance is being discussed with the Prefecture of Bolivar. | L26: During this period, a change of authorities occurred in the Provincial Government of Chimborazo, which prevented the continuation of additional actions planned within the framework of the project, such as engagement in provincial governance.
B30: Output 1.3.2 National LDN Action Plan designed and operational including national LDN targets. | D30: Project Indicator # 9: National action plan for LDN with a gender perspective | F30: After the initial consultancy process for developing the National Action Plan for Land Degradation Neutrality and Soil Resource Conservation (NDT&CRS) was completed, complementary actions were taken to continue the process of building this instrument: - In the second half of 2025, a workshop was held with farmers from the Sierra Centro region to identify, from their perspective, the problems related to land degradation and possible local solutions. - To resume the process, a new call for consultancy proposals was issued for the formulation of the National Action Plan for NDT&CRS. Following the selection process, the new consultancy began in June 2026. Kick-off meetings were held with the Ministry of the Environment and Energy (MAE), the Ministry of Agriculture, Livestock and Fisheries (MAGP), and the Food and Agriculture Organization of the United Nations (FAO). The consultancy team presented the work methodology and is progressing with the development of the Plan's diagnostic assessment and the methodological framework for defining NDT targets. This new process aims to strengthen the diagnostic findings from the previous process and finalize the components of the NDT goals, strategies, and management model for the NDT Plan. | L30: Due to technical difficulties with the deliverables and delays in the work of the consulting firm contracted to develop the National NDT&CRS Action Plan, its contract was terminated prematurely. A new procurement process has been initiated to ensure the continuity of the project. Construction of the Plan is expected to be completed in the first quarter of 2027.
B34: Outcome 2.1 Landowners and users adopt sustainable land management practices at intervention sites to prevent and/or reduce land degradation and restore ecosystem services
B35: Output 2.1.1 Ongoing participatory plans for the LDN implementation (mainstreaming gender, landscape, and intercultural approaches) in the context of the LDN National Action Plan. | D35: Project Indicator # 10: Number of plans designed for the implementation of LDN level subnational, in coordination with governance processes and local consultation, and focusing s landscape, gender and intercultural | F35: The progress presented in the last year of reporting regarding this product is as follows: - Management Plan for the San Marcos and Dos Mangas Communes in Santa Elena: The development processes for the Management Plans continue. The zoning and an initial version of the proposal for both Plans were presented. Validation workshops for both plans will be held in second semester 2026. The workshops are held with the board and representatives from each commune to develop the management plans. - The development process for the Paramo Management Plan of the Commonwealth of the Southwestern Front in the province of Tungurahua was completed. - As an additional process, in June 2026, the development of Sustainable Livestock Guidelines for the parish of Salinas de Guaranda, Bolivar province, began, jointly with the Salinas Parish GAD, in order to provide technical support for the ordinance being developed to guide livestock practices in the parish. - In May 2026, the development of the Imbabura Landscape Restoration Plan began, representing a new Participatory Implementation Plan. Participatory workshops were held to gather input for the diagnostic and proposal phases, resulting in four cartographic models linked to different landscape restoration objectives in Imbabura. Across these land use planning tools, gender dimensions are included mainly in: 1) characterize implications and different impacts of land degradation for men and women, and 2) consider specific challenges that rural women face as a key parameter in the development of proposals for programs and projects. Intercultural dimensions are built into these planning tools, as they are embedded in the specific social and economic contexts of indigenous communities (San Marcos and Dos Mangas communities), and the challenges that paramo communities face in their livestock systems in Salinas, Bolivar. All these tools have been developed using participatory methods that seek to attain a balanced representation of men, women, and indigenous groups, as documented in each process. | L35: Due to significant delays in the consultancy process for developing the Management Plans for the San Marcos and Dos Mangas Communes, it has been decided to terminate the contract early. Possible alternatives are being evaluated, such as hiring a consultant to validate the information developed jointly with local stakeholders and finalize the process by presenting the plan management proposal. This process is expected to be completed by the end of the second half of 2026.
B39: Output 2.1.2 Gender and intercultural-sensitive SLM/SFM practices implemented in the project intervention areas (ecosystems and productive landscapes), which restore vegetative cover, soil organic carbon, water regime and increase productive systems sustainability. | D39: Project Indicator # 11: Number and type of SLM / SFM practices promoted, with a gender and intercultural approach in the three areas of intervention | F39: The implementation of sustainable land management (SLM) practices continues in the three intervention sites: Coast, Northern Highlands, and Central Highlands, in accordance with the proposed indicator. During this period, six practices have been incorporated, bringing the total to 19 practices implemented within the project framework. Some processes are nearing completion, while others are continuing in a second and third phase, as detailed below: Coast: - Sustainable management of toquilla straw: Development of the second Field School (ECA) on sustainable toquilla straw management with the communities of Barcelona, ​​Sinchal, and Febres Cordero. - Biological pest control, crop association, and organic fertilization in maize crops: These practices have been completed, resulting in a total of 80 beneficiary farms and approximately 100 hectares under SLM practices in Santa Elena. - Strengthening of nurseries: Implementation of nursery infrastructure in Sinchal and Barcelona, ​​delivery of nursery and forestry supplies, tools, among other things. - Establishment of agroforestry systems, enrichment of remaining native vegetation, and cover crops: These are being incorporated into agroecological farms in Santa Elena to diversify crops and protect the soil. Gender dimensions are key in the coast, as many of these processes are led by women, or have direct impacts on the economy and welfare of rural women. For example, biological pest control decreases the use of pesticides and impacts in the health of campesino men and women in Santa Elena. Improving management and overall quality of toquilla fiber improves condition of access to markets by the Barcelona Artisanal Center, which is led by a group of local women. Local tree nurseries for the renewal of citric production in Sinchal and Barcelona have a direct impact on the livelihoods of local smallholder agriculturalists. Northern Highlands: - Forest conservation agreements: Agreements are being negotiated with residents of the Mojanda Cambugán Conservation Area to protect forested areas. - Water harvesting, distribution, and rational water use: Improvements are being implemented in irrigation systems and rainwater harvesting on farms in Cotacachi, Imbabura. - Circular herb gardens: In conjunction with the implementation of Sustainable Land Use (SLM) practices on various farms in CCMU, Cotacachi, circular gardens have been established on 10 of the beneficiary farms. Implementation of SLM practices in the Northern Highlands has focused on women-led processes. Circular herb gardens are being implemented with a network of indigenous women interested in becoming part of the procurement of vegetative matter for businesses selling products in urban markets. Water harvesting and management seek to improve the productive conditions of these women-farms. Central Highlands: - Strengthening the nursery of the Decentralized Autonomous Government of the province of Chimborazo: Improvement of the nursery's infrastructure, delivery of nursery and forestry supplies, tools, among others. - Fencing of conservation and restoration areas of paramo ecosystems: Improvements and repairs have been made to the fences implemented in the highlands of Salinas, Bolivar province. - Water harvesting, distribution, and rational use of water: Practice implemented on livestock farms in Salinas. SLM practices in the highlands of Salinas impacts livelihoods of rural women, as it is expected that paramo conservation and restoration helps to maintain and recover water security. The following practices have completed their implementation process: - Assisted regeneration in the San Marcos Commune - Santa Elena province. - Aeration and reseeding of pastures, living fences in pastures, infiltration trenches, and minimum tillage in pastures in Salinas de Guaranda, Bolivar province. More than 20% of these farms are managed directly by rural women, and milk production is the basis for the local economy. - Integrated fire management in Imbabura, mitigating fire risks for smallholder farms. - Crop diversification in Cotacachi with CCMU, led by indigenous women, and establishment of agroforestry systems in Urcuqui, in farms that provide guarango seed to the women-led Vida Verde Association.
D43: Project Indicator # 13: Number and type of mechanisms of incentives and institutional arrangements that facilitate the adoption of SLM / SFM practices by small producers (men and women) in each area of intervention | F43: During this period, the following exchange activities related to the adoption of Sustainable Land Management (SLM) practices were recorded in the Coastal, Northern Highlands, and Central Highlands regions: - Exchange tour for owners of agroecological farms in the province of Santa Elena to three of their farms. - Tour of a sustainable livestock farm by beneficiaries of SLM practices from the Mojanda Cambugan Conservation and Sustainable Use Area (ACUS). - Field day to observe SLM practices (dry forest restoration and biological pest control) at the Santa Elena intervention site, with visitors from the Central Highlands and Northern Highlands regions.
B47: Outcome 3. 1 Actors in selected value chains include the SLM approach to enhance resilience and generate socio-economic benefits based on incentives and improvements in market access mechanisms
