Workbook
Name Countries: Countries!$A$2:$A$250
Name DevCells: '2. Progress towards outcomes'!#REF!
Name DevCells: #REF!
Name DevRatings: '2. Progress towards outcomes'!#REF!
Name DevRatings: #REF!
Name DevScore: #REF!
Name DevScore: _Calc!$D$20
Name ImpCells: '3. Implementation Progress'!$D$99:$M$101
Name ImpRatings: '3. Implementation Progress'!$D$99:$M$101
Name ImpScore: #REF!
Name ImpScore: _Calc!$D$21
Name NumRating: #REF!
Name NumRating: _Calc!$B$2:$B$9
Name TxtRating: #REF!
Name TxtRating: _Calc!$A$2:$A$9
Name Weights: #REF!
Name Weights: _Calc!$E$14:$I$14
Name Weights2: #REF!
Name Weights2: _Calc!$E$17:$H$17

Sheet Table of Contents
M1: Questions? Contact our support: faogef-pir-support@fao.org
M3: HOW TO USE THIS TEMPLATE:
M5: 1. In each of the tabs, instructions on how to complete and where to find information are provided on the right.
B6: FAO-GEF Project Implementation Report | M6: Read the instructions carefully before completing each section.
B7: 2026– Revised Template | M7: There is no need to delete the instructions before submitting the PIR to the GEF Coordination Unit.
B8: Period covered: 1 July 2025 to 30 June 2026
B9: Table of Contents | M9: 2. Certain tabs, such as "1. Basic Project Data", "2. Progress towards outcomes" and "13. Co-financing" have been pre-populated with SOME data from the PIR 2024.
B10: =HYPERLINK("#'1. Basic project data'!N10","1. BASIC PROJECT DATA") -> 1. BASIC PROJECT DATA | M10: Please CHECK THE ACCURACY of the pre-populated data and ensure it's updated. You can edit those fields.
B11: =HYPERLINK("#'2. Progress towards outcomes'!N11","2. PROGRESS TOWARDS ACHIEVING PROJECT OBJECTIVE(S) (DEVELOPMENT OBJECTIVE)") -> 2. PROGRESS TOWARDS ACHIEVING PROJECT OBJECTIVE(S) (DEVELOPMENT OBJECTIVE) | M11: Consult the PIR 2024 file to confirm the accuracy of the pre-populated data. | N11: Progress towards Achieving Project Objective(s) (Development Objective)
B12: =HYPERLINK("#'3. Implementation Progress'!N12","3. IMPLEMENTATION PROGRESS (IP)") -> 3. IMPLEMENTATION PROGRESS (IP) | N12: Implementation Progress (IP)
B13: =HYPERLINK("#'4. Summary on progress'!N13","4. SUMMARY ON PROGRESS AND CHALLENGES") -> 4. SUMMARY ON PROGRESS AND CHALLENGES | M13: For FIRST PIRs, it was not possible to pre-populate tabs. Follow the instructions to complete each section. | N13: Summary on progress, challenges, and outcomes
B14: =HYPERLINK("#'5. ESS Risk'!N14","5.ENVIRONMENTAL AND SOCIAL SAFEGUARDS (ESS):RISKS FROM THE PROJECT") -> 5.ENVIRONMENTAL AND SOCIAL SAFEGUARDS (ESS):RISKS FROM THE PROJECT | M14: 3. Certain fields are automated. It means that:
B15: =HYPERLINK("#'6. Risks to the project'!N15","6. RISKS TO THE PROJECT") -> 6. RISKS TO THE PROJECT | M15: they are going to pull information from other tabs once those are completed, OR
B16: =HYPERLINK("#'7. Follow-up on Mid-term review'!N16","7. FOLLOW-UP ON MID-TERM REVIEW OR SUPERVISION MISSION") -> 7. FOLLOW-UP ON MID-TERM REVIEW OR SUPERVISION MISSION | M16: they are going to automatically consolidate data (e.g. sum of percentages, calculation of ratings) once a table is completed
B17: =HYPERLINK("#'8. Minor project amendments'!N17","8. MINOR PROJECT AMENDMENTS") -> 8. MINOR PROJECT AMENDMENTS | M17: When fields or tables are automated, this is informed on the guidance.
B18: =HYPERLINK("#'9. Stakeholders' Engagement'!N18","9. STAKEHOLDERS' ENGAGEMENT") -> 9. STAKEHOLDERS' ENGAGEMENT
B19: =HYPERLINK("#'10. Gender Mainstreaming'!N19","10. GENDER MAINSTREAMING") -> 10. GENDER MAINSTREAMING | M19: 4. Certain information must be chose from a drop-down menu (e.g. YES or NO responses, type of stakeholder)
B20: =HYPERLINK("#'11. Knowledge Management'!N20","11. KNOWLEDGE MANAGEMENT ACTIVITIES") -> 11. KNOWLEDGE MANAGEMENT ACTIVITIES | M20: When you click on a cell with a drop-down menu, you will be able to see an arrow on the right side and access the menu.
B21: =HYPERLINK("#'12. Indigenous & Local Involve.'!N21","12. INDIGENOUS PEOPLES AND LOCAL COMMUNITIES INVOLVEMENT") -> 12. INDIGENOUS PEOPLES AND LOCAL COMMUNITIES INVOLVEMENT | M21: When more than one option can be selected from a drop-down menu, this is informed in the guidance
B22: =HYPERLINK("#'13. Co-Financing Table'!N22","13. CO-FINANCING TABLE") -> 13. CO-FINANCING TABLE
B23: =HYPERLINK("#'14. GEO Location'!N23","14. GEO LOCATION INFORMATION") -> 14. GEO LOCATION INFORMATION | M23: HOW TO ADD HYPERLINKS
B24: =HYPERLINK("#'Annex'!N26","Annex. Monitoring Area-based GEF Core Indicator Commitments and Progress with FERM") -> Annex. Monitoring Area-based GEF Core Indicator Commitments and Progress with FERM | M24: 3. Choose:
M25: Existing File or Web Page (type/paste URL or browse)
M26: Place in This Document (enter e.g. Sheet2!A10)
B27: IMPORTANT DISCLAIMER: | M27: E-mail Address or Create New Document
B28: The final version of this PIR will be submitted to the GEF Secretariat.
B29: The report will then be publicly available on the GEF website (click here). | M29: 4. Edit the Display text if desired → OK.
B30: Sensitive information should be submitted in Annex to be uploaded separately.
B31: In such cases, please contact faogef-pir-support@fao.org for guidance.
M32: To move to the next line inside delimitated fields, press Alt+Enter in your keyboard.

Sheet 1. Basic project data
L1: To move to the next line inside each delimitated field, press Alt+Enter in your keyboard.
B2: 1. Basic Project Data | L2: Guidance
B3: General Information | L3: Refer to FPMIS and the approved (CEO Endorsed) Project Document to find the information requested in this section.
B4: Region: | E4: Regional | L4: Choose REGION from the drop-down menu (only one option possible)
B5: Country(ies): | E5: Mediterranean Sea riparian countries (Albania, Algeria, Bosnia and Herzegovina, Lebanon, Libya, Montenegro, Morocco, Tunisia, Türkiye) | L5: Include one or more PROJECT COUNTRIES
B6: Project Title: | E6: Fisheries and Ecosystem Based Management for the Blue Economy of the Mediterranean - (FishEBM MED)
B7: FAO Project Symbol: | E7: GCP /INT/500/GFF
B8: GEF ID: | E8: 10560 | L8: Consult FPMIS to obtain the GEF ID
B9: Type of Trust Fund(s): | E9: GFF | L9: Inform the Type(s) of GEF Trust Fund(s) (CBIT, LDCF, SCCF, GBFF, GFF or SGP). One project may be funded by more than one GEF TF.
B10: GEF Focal Area(s): | E10: International Waters (IW): IW1 – “Strengthening Blue Economy opportunities: IW2 – “Improve management in the Areas Beyond National Jurisdiction (ABNJ)” Biodiversity: BD1 – “Mainstream biodiversity across sectors as well as landscapes and seascapes” BD2 – “Address direct drivers to protect habitats and species” | L10: Inform the project's GEF FOCAL AREA(S). For Multi-Focal Area projects, include "MFA" and the specific focal areas.
B11: Project Executing Partners: | E11: General Fisheries Commission for the Mediterranean (GFCM) and Mediterranean Action Plan (Barcelona Convention) | L11: Include all the PROJECT EXECUTING PARTNERS here.
B12: Initial project duration (years): | E12: 4 years | L12: Consult FPMIS for the initial project duration. Ensure the info is accurate.
B13: Project Dates | L13: Consult FPMIS and the Prodoc for the PROJECT DATES information
B14: GEF CEO Endorsement Date: | E14: 44784 | L14: INCLUDE ALL DATES IN THE FORMAT DD/MM/YYYY
B15: Actual Agency Approval Date | E15: 44757
B16: Project Implementation Start Date/EOD: | E16: 44927
B17: First Disbursement Date | E17: 45169
B18: Planned Project End Date/NTE1: | E18: 46387 | L18: Consult the CEO Endorsed Prodoc for the planned NTE
B19: Revised project implementation End date (if approved)2: | E19: 30/06/2027 | L19: Consult FPMIS to include the updated NTE
B20: Actual Completion Date:
B21: Expected Financial Closure Date: | E21: 46934
B22: Funding
B23: GEF Grant Amount (USD): | E23: 7273973 | L23: Consult FPMIS or the CEO Endorsed Prodoc for the GEF GRANT AMOUNT
B24: Total GEF grant delivery (as of June 30, 2026 (USD): | E24: FAO: $ 3,793,253.33 UNEP: $ 1,013,195 TOTAL: $ 4,806,448.62
B25: Total Co-financing amount (USD)3: | E25: ='13. Co-Financing Table'!K37 -> 72027654
B26: Total estimated co-financing materialized as of June 30, 20264: | E26: ='13. Co-Financing Table'!N37 -> 52013000 | L26: The TOTAL CO-FINANCING AMOUNT and the AMOUNT MATERIALIZED AT 30 JUNE will be automatically filled once the co-financing table (section 13) is completed
B27: M & E Milestones
B28: Date of Last Project Steering Committee (PSC) Meeting: | E28: 24/06/2026-25/06/2026 | L28: Inform the DATE OF LAST PROJECT STEERING COMMITTEE MEETING.
B29: Expected Mid-term Review date5: | L29: The other info in this section will be completed by the GEF Coordination Unit
B30: Actual Mid-term review date (if already completed): | E30: 46031
B31: Expected Terminal Evaluation Date6: | E31: 46386 | L31: Inform the EXPECTED TERMINAL EVALUATION DATE. It is expected to start 6 months before the NTE.
B32: Overall ratings
B33: Overall rating of progress towards achieving objectives/outcomes (cumulative): | E33: =_xlfn.XLOOKUP(DevScore,NumRating,TxtRating,"Not Rated") -> Satisfactory (S) | L33: The OVERALL RATINGS will be AUTOMATICALLY completed here, when the corresponding sections are completed.
B34: Overall implementation progess rating: | E34: =_xlfn.XLOOKUP(ImpScore,NumRating,TxtRating,"not rated") -> Satisfactory (S) | L34: (data is pulled from sections 2, 3 and 6 of this report)
B35: Overall risk rating: | E35: ='6. Risks to the Project'!C77 -> Low | L35: (If these ratings are not automatically completed after you complete the sections mentioned above, contact our helpline)
B36: Status
B37: Implementation Status (1st PIR, 2nd PIR, etc. Final PIR): | E37: 2nd PIR | L37: Select the option from the drop-down menu. The “Final PIR” should report on the implementation period that ended on or before 30 June 2025. Projects with NTE date beyond 30 June 2025 may have to prepare a PIR also next year.
B40: 1 Date that was originally foreseen at the project’s operationalization and indicated in FPMIS. 2 If NTE extension has been requested and approved by the FAO-GEF Coordination Unit. 3 This is the total amount of co-financing as included in the CEO Document/Project Document. 4 Please refer to the Section 13 of this report where updated co-financing estimates are requested and indicate the total co-financing amount materialized. 5 The Mid-Term Review (MTR) should take place after the 2nd PIR, around half-point between EOD and NTE. The MTR report in English should be submitted to the GEF Secretariat within 4 years of the CEO Endorsement date. 6 The Terminal Evaluation date should be discussed with OED 6 months before the project’s NTE date.
B45: Project Contacts
B46: Contact | E46: Name, Title, Division/Institution | I46: E-mail
...

Sheet _Calc
A1: Rating text | B1: Score
A2: Highly Unsatisfactory (HU) | B2: 1
A3: Unsatisfactory (U) | B3: 2
A4: Moderately Unsatisfactory (MU) | B4: 3
A5: Moderately Satisfactory (MS) | B5: 4
A6: Satisfactory (S) | B6: 5
A7: Highly Satisfactory (HS) | B7: 6
A8: Unknown | B8: 0
A9: Not Rated | B9: 0
D12: for DevScore
D13: Person | E13: PM/Coord | F13: Budget Holder | G13: LTO | H13: GEF OFP | I13: GTO
D14: Weight % | E14: 20 | F14: 25 | G14: 25 | H14: 0 | I14: 30
D15: For ImpScore
D16: Person | E16: PM/Coord | F16: LTO | G16: GEF OFP | H16: GTO
D17: Weight % | E17: 25 | F17: 35 | G17: 0 | H17: 40
A19: Once you've filled in 2. Progress towards outcomes & 3. Implementation Progress
A20: Please double click and press enter on Cells D20 and D21 | D20: {=_xlfn.LET(_xlpm.hdrRow,MATCH("*Development*Objective*rating*",'2. Progress towards outcomes'!$C:$C,0),_xlpm.rRow,_xlpm.hdrRow+1,_xlpm.ratings,INDEX('2. Progress towards outcomes'!$D:$H,_xlpm.rRow,0),_xlpm.scores,_xlfn.XLOOKUP(_xlpm.ratings,TxtRating,NumRating,0),ROUND(SUMPRODUCT(_xlpm.scores,Weights)/SUM(Weights),0))} -> 5
D21: {=ROUND( SUMPRODUCT( _xlfn.XLOOKUP( CHOOSE({1,2,3,4}, '3. Implementation Progress'!D99, '3. Implementation Progress'!F99, '3. Implementation Progress'!J99, '3. Implementation Progress'!L99 ), TxtRating, NumRating, 0 ), Weights2 ) / SUM(Weights2), 0)} -> 5

Sheet Countries
A1: Select Country
A2: Afghanistan
A3: Åland Islands
A4: Albania
A5: Algeria
A6: American Samoa
A7: Andorra
A8: Angola
A9: Anguilla
A10: Antarctica
A11: Antigua and Barbuda
A12: Argentina
... A250: Zimbabwe

Sheet TypeofTrustFund
A1: Type of Trust Fund
A2: Capacity-building Initiative for Transparency (CBIT)
A3: Global Biodiversity Framework Fund (GBFF)
A4: Global Environment Facility Trust Fund (GFF)
A5: Least Developed Countries Fund (LDCF)
A6: Special Climate Change Fund (SCCF)
A7: Small Grants Program (SGP)

Sheet FocalArea
A1: Focal Area
A2: Multi Focal Area
A3: Biodiversity
A4: Chemicals and Waste
A5: Chemicals/PoPs
A6: Climate Change
A7: Climate Change Adaptation
A8: Climate Change Mitigation
A9: International Waters
A10: Land Degradation

Sheet 2. Progress towards outcomes
B1: 2. Progress towards Achieving Project Objective(s) (Development objective)
B3: (All inputs in this section should be cumulative from project start, not annual)
B6: Please indicate the project’s main progress towards achieving its objective(s) and the cumulative level of achievement of each outcome since the start of project implementation.
B7: Project or Development Objective | C7: Outcomes | D7: Outcome indicators | E7: Baseline | F7: Mid-term Target | G7: End-of-project Target | H7: Cumulative progress level at 30 June 2026 | I7: % of cumulative progress | J7: Progress rating
B8: Project Objective: To reverse the overexploitation of select commercial living marine resources of Mediterranean countries in support of their blue economy development pathway. | C8: 1) Number of hectares of Marine Protected Areas (MPAs), fisheries restricted areas (FRAs) and/or other effective area-based conservation measures (OECMs) created or under improved management for conservation and sustainable use | E8: 1) 0 hectares of Marine Protected Areas (MPAs), fisheries restricted areas (FRAs) and/or other effective area-based conservation measures (OECMs) created or under improved management for conservation and sustainable use | F8: 1) 270,200 hectares of Marine Protected Areas (MPAs), fisheries restricted areas (FRAs) and/or other effective area-based conservation measures (OECMs) created or under improved management for conservation and sustainable use | G8: 1) 270,200 hectares of Marine Protected Areas (MPAs), fisheries restricted areas (FRAs) and/or other effective area-based conservation measures (OECMs) created or under improved management for conservation and sustainable use | H8: Target achieved. 270,000 hectares of Fisheries Restricted Area (FRA) (Otranto Channel FRA) created. | I8: =270000/270000 -> 1 | J8: Highly Satisfactory (HS)
C9: 2) Landings from fisheries under sustainable management | E9: 2) 27 000 tonnes of landings from fisheries under sustainable management | F9: 2) 100 000 tonnes of landings from fisheries under sustainable management or currently sustainable. | G9: 2) 180 000 landings from fisheries under sustainable management or currently sustainable. | H9: 128,386 tonnes of landings from relevant Mediterranean fisheries under sustainable management (i.e. covered by multiannual management plans or currently sustainable) | I9: =128386/180000 -> 0.71325556 | J9: Satisfactory (S)
C10: 3) Percentage of relevant* Mediterranean priority stocks whose stock status has improved over the course of the project (*Species found in the Geographical Subareas (GSAs) corresponding to the project beneficiary countries) | E10: 3) 0% of relevant Mediterranean priority stocks | F10: 3) 41% of relevant Mediterranean priority stocks whose stock status has improved over the course of the project. | G10: 3) At least 50% of relevant Mediterranean priority stocks whose stock status has improved over the course of the project. | H10: Target achieved. 50% of relevant Mediterranean priority stocks with improved stock status over the course of the project. | I10: =50/50 -> 1 | J10: Highly Satisfactory (HS)
C11: 4) Number of countries having improved data on fisheries-dependent employment, disaggregated by gender, along the value chain | E11: 4) 8 countries with fisheries-dependent employment data | F11: 4) 8 countries with gender disaggregated fisheries-dependent employment data | G11: 4) 8 countries with gender disaggregated fisheries-dependent employment data | H11: Target achieved. 8 countries with gender disaggregated fisheries-dependent employment data​ | I11: =8/8 -> 1 | J11: Satisfactory (S)
C12: Outcome 1 Fisheries managers and stakeholders use sound information generated on the status of key commercial fisheries to support improved management and selected value chain interventions, particularly for SSF, in view of maximizing production sustainability | D12: 1) Number of pieces of robust advice* containing enhanced information for fisheries management endorsed by the GFCM’s Scientific Advisory Committee on Fisheries (SAC) (*In the context of the GFCM’s Scientific Advisory Committee on Fisheries (SAC),‘advice’ refers to comprehensive, science-based recommendations, developed through rigorous analysis and review by national experts from GFCM countries. ‘Advice’ typically includes stock assessments [e.g. evaluations of the status of populations of marine resources, including biomass, fishing mortality, and trends over time], proposals for management measures [e.g. catch limits, effort controls, gear restrictions, spatial/temporal closures, etc.], socioeconomic considerations [e.g. insights on how proposed measures may affect fishing communities and economies], aspects related to the ecosystem, habitat and vulnerable species [e.g. identification and protection of vulnerable marine ecosystems and essential fish habitats as well as mitigation of impacts on vulnerable species groups] and/or suggestions for improving data quality and research. Advice is a critical point in the GFCM’s fisheries advisory process, representing the culmination of the scientific-technical work on a given topic, and is intended to guide political decision-making for the conservation and sustainable use of marine resources in the GFCM area of application, thus directly supporting the adoption of binding recommendations and non-binding resolutions.) | E12: 1) 0 pieces of robust advice containing enhanced information for fisheries management endorsed by the GFCM’s Scientific Advisory Committee on Fisheries (SAC) | F12: 1) 36 pieces of robust advice containing enhanced information for fisheries management endorsed by the GFCM’s Scientific Advisory Committee on Fisheries (SAC) | G12: 1) At least 50 pieces of robust advice containing enhanced information for fisheries management endorsed by the GFCM’s Scientific Advisory Committee on Fisheries (SAC) | H12: Target achieved. 58 pieces of robust advice containing enhanced information for fisheries management endorsed by the GFCM's Scientific Advisory Committee on Fisheries | I12: =58/50 -> 1.16 | J12: Satisfactory (S)
D13: 2) Number of countries with increased information from fisher-stakeholders feeding into management processes | E13: 2) 0 countries with increased information from fisher-stakeholders feeding into management processes | F13: 2) 7 countries with increased information from fisher-stakeholders feeding into management processes | G13: 2) At least 7 countries with increased information from fisher-stakeholders feeding into management processes | H13: 7 countries (Albania, Algeria, Lebanon, Montenegro, Morocco, Tunisia, Türkiye) with increased information from fisher-stakeholders feeding into management processes | I13: =7/7 -> 1 | J13: Satisfactory (S)
C14: Outcome 2 Fisheries management better accounts for the quantity and magnitude of IUU fishing in the Mediterranean Sea and incorporates control measures, including through the use of emerging technologies | D14: 1) Number of countries where enhanced normative (legislative and/or policy) frameworks to combat IUU fishing have been drafted, submitted for approval and then endorsed at national level | E14: 1) 0 countries where enhanced normative (legislative and/or policy) frameworks to combat IUU fishing have been drafted, submitted for approval and then endorsed at national level | F14: 1) 0 countries where enhanced normative (legislative and/or policy) frameworks to combat IUU fishing have been drafted, submitted for approval and then endorsed at national level | G14: 1) 2 countries where enhanced normative (legislative and/or policy) frameworks to combat IUU fishing have been drafted, submitted for approval and then endorsed at national level | H14: 1 country (Türkiye, with the adoption of a NPOA-IUU) where enhanced normative frameworks have been drafted, submitted for approval and then endorsed at national level. NPOA-IUU in Albania has also been drafted and is endorsment process is underway. | I14: =1/2 -> 0.5 | J14: Satisfactory (S)
D15: 2) Number of countries with improved Monitoring, Control and Surveillance (MCS) tools to combat IUU fishing adopted by national fisheries agencies | E15: 2) 0 countries with improved Monitoring, Control and Surveillance (MCS) tools to combat IUU fishing adopted by national fisheries agencies | F15: 2) 0 countries with improved Monitoring, Control and Surveillance (MCS) tools to combat IUU fishing adopted by national fisheries agencies | G15: 2) 2 countries with improved Monitoring, Control and Surveillance (MCS) tools to combat IUU fishing adopted by national fisheries agencies | H15: 0 countries with improved Monitoring, Control and Surveillance (MCS) tools to combat IUU fishing adopted by national fisheries agencies. Technical work is underway, with tools expected to be acquired by Q3 2026. | I15: =0/2 -> 0 | J15: Satisfactory (S)
C16: Outcome 3 Healthier marine ecosystems with more productive fisheries in place, through the synergistic application of ecosystem-based conservation/ management tools and improvements in fisheries tenure governance | D16: 1) Number of spatial management measures adopted through an EBFM process to protect vulnerable marine ecosystems | E16: 1) 0 spatial management measures adopted through an EBFM process to protect vulnerable marine ecosystems | F16: 1) 1 spatial management measure adopted through an EBFM process to protect vulnerable marine ecosystems | G16: 1) 1 spatial management measure adopted through an EBFM process to protect vulnerable marine ecosystems | H16: Target achieved. 1 spatial management measure adopted through an EBFM process to protect vulnerable marine ecosystems (Otranto Channel FRA adopted via an EBFM process, towards protecting bamboo coral [isidella elongata] forests) | I16: =1/1 -> 1 | J16: Highly Satisfactory (HS)
D17: 2) Number of novel approaches for ecosystem-based management (e.g. application of EBFM approach for management of sensitive habitats, eDNA metabarcoding, underwater noise considerations, marine litter, NIS management, selectivity innovations, etc.) endorsed by the GFCM’s Scientific Advisory Committee on Fisheries (SAC) and/or the UNEP-MAP’s Meeting of the Ecosystem Approach Correspondence Group on Monitoring (CORMON) Biodiversity and Fisheries or the SPA/BD Focal Points Meeting | E17: 2) 0 novel approaches for ecosystem-based management endorsed by the GFCM’s SAC and/or the UNEP-MAP’s CORMON or SPA/BD Focal Points meetings | F17: 2) At least 2 novel approaches for ecosystem-based management endorsed by the GFCM’s SAC and/or the UNEP-MAP’s CORMON or SPA/BD Focal Points meetings | G17: 2) At least 5 novel approaches for ecosystem-based management endorsed by the GFCM’s SAC and/or the UNEP-MAP’s CORMON or SPA/BD Focal Points meetings | H17: 3 novel approaches for ecosystem-based management endorsed by the GFCM's SAC (application of EBFM approach for management of sensistive habitats, eDNA metabarcoding regional protocol, consideration of underwater noise impacts) | I17: =3/5 -> 0.6 | J17: Satisfactory (S)
C18: Outcome 4 Blue economy at the regional and country level promoted through the identification of existing hurdles via a concerted approach among relevant stakeholders | D18: 1) Number of regional political/strategic processes considering strategic guidance documents on leveraging Blue Economy opportunities for the fisheries sector | E18: 1) 0 regional political/strategic processes considering strategic guidance documents on leveraging Blue Economy opportunities for the fisheries sector | F18: 1) 0 regional political/strategic processes considering strategic guidance documents on leveraging Blue Economy opportunities for the fisheries sector | G18: 1) 1 regional political/strategic processes considering strategic guidance documents on leveraging Blue Economy opportunities for the fisheries sector | H18: 0 regional political/strategic processes have considered strategic guidance documents on leveraging Blue Economy opportunities for the fisheries sector. Strategic guidance document is under development and is expected to be considered by GFCM statutory body in Q4 2026. | I18: =0/1 -> 0 | J18: Moderately Satisfactory (MS)
D19: 2) Number of countries where a NAP+ with investment plan was developed, including with at least one pilot activity initiated | E19: 2) 0 countries where a NAP+ with investment plan was developed, including with at least one pilot activity initiated | F19: 2) 0 countries where a NAP+ with investment plan was developed, including with at least one pilot activity initiated | G19: 2) At least 1 country where a NAP+ with investment plan was developed, including with at least one pilot activity initiated | H19: 0 countries where a NAP+ with investment plan was developed, including with at least one pilot activity initiated. Progress registered in 3 countries (Montenegro, Morocco, Tunisia), with results foreseen before project end. | I19: =0/1 -> 0 | J19: Moderately Satisfactory (MS)
C20: Outcome 5 Integrated pathways conducive of conservation and sustainable management promoted at the regional and global level | D20: 1) Number of subnational, national and regional institutions that are applying ecosystem-based fisheries management approaches in their work (e.g. official policies, strategies, workplans, fishing activities) due to project activities | E20: 1) 0 subnational, national and regional institutions that are applying ecosystem-based fisheries management approaches in their work (e.g. official policies, strategies, workplans, fishing activities) due to project activities | F20: 1) 6 subnational, national and regional institutions that are applying ecosystem-based fisheries management approaches in their work (e.g. official policies, strategies, workplans, fishing activities) due to project activities | G20: 1) At least 6 subnational, national and regional institutions that are applying ecosystem-based fisheries management approaches in their work (e.g. official policies, strategies, workplans, fishing activities) due to project activities | H20: 6 institutions applying ecosystem-based fisheries management approaches in their work (e.g. official policies, strategies, workplans, fishing activities) due to project activities (CNRS Lebanon; General Directorate of Fisheries and Aquaculture, Ministry of Agriculture and Forestry, Türkiye; INRH Morocco; INSTM Tunisia; Ministry of Agriculture and Rural Development, Albania, Ministry of Agriculture, Forestry and Water Management, Montenegro) | I20: =6/6 -> 1 | J20: Satisfactory (S)
D21: 2) Number of project communication and knowledge products that are produced, shared, or actively promoted by project stakeholders across national, regional and global platforms | E21: 2) 0 project communication and knowledge products that are produced, shared, or actively promoted by project stakeholders across national, regional and global platforms | F21: 2) 14 project communication and knowledge products that are produced, shared, or actively promoted by project stakeholders across national, regional and global platforms | G21: 2) 32 project communication and knowledge products that are produced, shared, or actively promoted by project stakeholders across national, regional and global platforms | H21: 21 project communication and knowledge products produced, shared or actively promoted by project stakeholders across national, regional and global platforms | I21: =21/32 -> 0.65625 | J21: Satisfactory (S)
C22: Monitoring and Evaluation An operational project M&E system implemented and project management coordination framework established | D22: 1) Number of project reports produced, in line with FAO and GEF requirements and the project M&E plan. | E22: 1) 0 project reports produced | F22: 1) 9 project reports produced | G22: 1) At least 13 project reports produced | H22: 10 project reports produced. | I22: =10/13 -> 0.76923077 | J22: Highly Satisfactory (HS)
D23: 2) Project management unit TORs defined, including organigramme and regular coordination mechanism | E23: 2) 0 Project management unit TORs defined | F23: 2) 0 Project management unit TORs defined | G23: 2) 1 Project management unit TORs defined | H23: Target achieved. 1 Project management unit TOR defined | I23: =1/1 -> 1 | J23: Satisfactory (S)
B25: Average Cumulative progress toward outcomes (%) | C25: Time elapsed since project start/EOD vs Planned Project End Date | D25: % of delivery
B26: =IFERROR(AVERAGE(I8:I23),"") -> 0.71242102 | C26: =IF(OR('1. Basic project data'!E16="",'1. Basic project data'!E18=""),"",(TODAY()-'1. Basic project data'!E16)/('1. Basic project data'!E18-'1. Basic project data'!E16)) -> 0.91712329 | D26: =IF('1. Basic project data'!E23=0,"",'1. Basic project data'!E24/'1. Basic project data'!E23) -> #VALUE!
B32: Development Objective (DO) Ratings, and Overall Assessment
B33: Please note that the overall DO ratings should be substantiated by evidence and progress reported above. The ratings and comments should reflect the overall progress of results since project start
C35: FY2026 Development Objective rating¹ | D35: Project Manager/ Coordinator | E35: Budget Holder | F35: Lead Technical Officer13 | G35: GEF Operational Focal Point | H35: GEF Technical Officer (GTO)
D36: Satisfactory (S) | E36: Satisfactory (S) | F36: Satisfactory (S) | G36: Satisfactory (S) | H36: Satisfactory (S)
C37: Comments/reasons¹² justifying the ratings for FY2026 and any changes (positive or negative) in the ratings since the previous reporting period | D37: The project gained considerable momentum during the reporting period, achieving substantial progress across its indicators. Even where indicator values have not yet changed, important advances have been made and are expected to translate into measurable results during the next reporting cycle. Notably, project activities made a significant contribution to the technical advice submitted to the annual session of the GFCM, supporting the adoption of decisions that are expected to drive progress against the project's core indicators and contribute to its overarching objective of reversing the overexploitation of selected commercial living marine resources. In response to the Mid-Term Review (MTR) recommendations, project management arrangements were also strengthened, fostering greater synergies between fisheries and environmental counterparts. It is important to note that, although the project is contributing positively to stock recovery and an increasing number of fisheries are being managed sustainably, the value of the core indicator “landings from fisheries under sustainable management” has declined. This should be interpreted in a positive light, reflecting the effectiveness of management measures, which require reduced catches in the short term to ensure the long-term sustainability of fishery resources. | E37: The project remains on track to meet its objectives, particularly with the adjustments based on MTR Recommendations. Project implementing agencies, executing agencies and partners must ensure that those components that have suffered delays are delivered on time. Project activities and results continue to strongly influence GFCM deliberations and decisions- showing that the project is already having an impact beyond it's direct actions. The expectation is that this continues, and that outcomes are achieved by project's end. | F37: The MTR for the project came at key time and the recommendations highlighted project weaknesses. This has allowed the Project Steering Committee to review the activities and outputs of the project, and approve cochanges to make the project more coherent and impactful. The PMU and executing agencies have taken swift steps to implement the MTR recommendations, strengthening project results, improving coordination and paving the road to more sustainable results. However, achieving the outcomes will ultimately depend on project countries and the agreements they are able to negotiate during GFCM and UNEP/MAP working groups and committees. | G37: Significant progress continues to be observed towards the achievement of the project’s development objectives. The strengthened management arrangements following the Mid-Term Review and the project’s contribution to science-based management advice and related GFCM decisions demonstrate clear progress towards the intended outcomes. Türkiye continues to demonstrate active involvement and consistent support. The overall direction of progress remains positive and consistent with the project objectives. | H37: The project has made solid cumulative progress towards its objective, with a number of significant results now visible at both regional and country levels. Several key targets have already been met, including the establishment of the Otranto Channel Fisheries Restricted Area, the improvement in the status of priority Mediterranean stocks, strengthened availability of gender-disaggregated socioeconomic information, and the generation and uptake of science-based advice for fisheries management. Particularly relevant is the increasingly systematic integration of project-supported approaches and information within GFCM and UNEP/MAP processes, which provides a credible pathway for sustaining results beyond the project itself. Progress is nevertheless uneven across the results framework. Outcomes 1 and 3 are comparatively advanced, while important results under Outcomes 2 and especially 4 remain to be completed. Further progress is required on the effective application of MCS tools and related normative frameworks, while the NAP+ processes, associated investment planning and their connection with wider Blue Economy policy processes have yet to generate the final results envisaged at project design. The Mid-Term Review was timely in identifying weaknesses in the original design and implementation arrangements, and the subsequent revision of the results framework, workplan and coordination mechanisms appears to have placed the project on a more realistic delivery path. With the extension to June 2027 now in place, the priority should be to convert the considerable technical and institutional groundwork already undertaken into the outstanding country-level and policy results. Overall, the cumulative performance supports a Satisfactory rating, while close attention will be needed during the final implementation period to ensure that the remaining outcomes are completed and effectively institutionalized.
B42: Measures to address MS, MU, U and HU ratings on Section 2 above
B45: Outcome | D45: Action(s) to be taken | F45: By whom? | H45: By When?
B46: Outcome 4 | D46: With respect to supporting regional political/strategic processes considering strategic guidance documents on leveraging Blue Economy opportunities for the fisheries sector, the strategic guidance document needs to be finalized and circulated to countries to support their discussions towards a new MedFish4Ever Declaration, to be adopted in 2027 (providing the priorities and cooperation framework for the next decade of action on Mediterranean fisheries and aquaculture). | F46: GFCM Secretariat, with the support of national focal points | H46: By the GFCM annual session (November 2026) and ahead of other relevant bilateral meetings.
B47: Outcome 4 | D47: With respect to developing a NAP+ with investment plan, including with at least one pilot activity initiated, implementation has been accelerated based on the recommendations of the Mid-Term Review and the work plan endorsed at the PSC. National coordination mechanisms have been established, national experts have been mobilized, pilot activities have been identified and prepared in the three beneficiary countries (Montenegro, Morocco and Tunisia) and partner organisations are being identified. The approved no-cost extension provides the necessary timeframe to finalize the NAP+ documents, including investment plans, and implement the pilot actions. | F47: SPA/RAC, in collaboration with the national fisheries and environment authorities, in coordination with FAO/GFCM and UNEP/MAP and with the support of national experts and implementing partners in the three beneficiary countries. | H47: By March 2027 (end of project activities).
B54: 7 Some indicators may not identify mid-term targets at the design stage (refer to approved results framework) therefore this column should only be filled when relevant. 8 Use GEF Secretariat required six-point scale system: Highly Satisfactory (HS), Satisfactory (S), Moderately Satisfactory (MS), Moderately Unsatisfactory (MU), Unsatisfactory (U), and Highly Unsatisfactory (HU).

Sheet 3. Implementation Progress
B1: 3. Implementation Progress (IP)
O2: To move to the next line inside each delimitated field, press Alt+Enter in your keyboard.
B3: (Please indicate progress achieved during this FY as per the Implementation Plan/Annual Workplan)
B5: Outcomes and outputs | D5: Indicators (as per the logical framework) | F5: Main achievements in the last 12 months (please DO NOT repeat results reported in previous year PIR) | L5: Describe any variance 9 in delivering outputs | O5: Guidance :
B7: Outcome 1. Fisheries managers and stakeholders use sound information generated on the status of key commercial fisheries to support improved management and selected value chain interventions, particularly for SSF, in view of maximizing production sustainability. | O7: The IMPLEMENTATION PROGRESS RATING should reflect the extent to which the implementation of the project’s components (outcomes) and activities (outputs) are in compliance with the approved implementation plan.
B8: Output 1.1 Regional data collection and analysis required to strengthen fisheries management increased, including collection of socioeconomic data | D8: Number of countries where data collection campaigns/surveys have been carried out to collect biological data and/or gender-disaggregated socioeconomic data | F8: Data collection campaigns/surveys have been carried out in 6 countries (Albania, Algeria, Lebanon, Montenegro, Tunisia, Türkiye). During the reporting period, a second exploratory demersal trawl survey was completed in Lebanon and a trawl gear selectivity trial was completed in Tunisia. | L8: Administrative arrangements are being finalized for the marine litter trial and selectivity trial in Morocco expected in second half of 2026. Delayed pelagic acoustic survey in Algeria (originally scheduled for summer 2024 and delayed due to equipment malfunction) is expected to be completed in summer 2026. | O8: For more details, consult the GEF Policy on Project Monitoring (click here)
O10: Include OUTCOMES and INDICATORS as per the project Results Framework. They may have been updated in a project revision.
O11: New Outcomes can only be included if they were updated in an approved project revision.
B12: Output 1.2 New approaches developed for the identification of fisheries management plans and measures, including for SSF | D12: Number of new approaches endorsed for the identification of management measures integrating socioeconomic aspects and stakeholder evaluation | F12: Indicator revised per MTR recommendations. 2 new approaches were endorsed for the identification of management measures integrating socioeconomic aspects and stakeholder evaluation. These include the two-pronged approach for SSF (consisting of better incorporating SSF information into ongoing assessments while also engaging stakeholders in a participatory ecosystem approach to fisheries management - endorsed in 2023), and the streamlined GFCM Management Strategy Evaluation (MSE) framework (comprising an adaptable approach for modelling potential management scenarios, including extensive stakeholder engagement, under diverse data-availabliity contexts - endorsed in 2025). | L12: Work continues to support capacity development for applying the MSE framework under data-limited scenarios
O13: Under each outcome, include the main OUTPUTS delivered during the Fiscal Year as per the project's Logframe.
O14: New outputs can only be included if they were updated in an approved project revision.
B16: Output 1.3 Value chain data collection, analysis and modelling improved and integrated in the fisheries management advisory process | D16: Number of fisheries value chains addressed via studies using gender-sensitive approaches that value the contribution of women along the value chain | F16: 2 fisheries value chains were addressed (through the development of market-based solutions for lionfish in southwest Türkiye, and a consumer preference study for round sardinella fisheries in Lebanon). A regionally harmonized value chain data collection methodology has been drafted and is currently being refined via a pilot application of the methodology in Tunisia (blue crab fisheries) and Lebanon (round sardinella fisheries) | L16: As per the MTR recommendations and PSC approval, the number of target value chain studies has been reduced (total of 3), with focus on developing and adopting a regionally harmonized value chain methodology
O17: Report the ACHIEVEMENTS IN THE LAST 12 MONTHS in the same unit of measures of the project indicators.
O18: Provide a coherent and short description of the main achievements (maximum one or two short sentences)
B20: Output 1.4 Increased participation of stakeholders (including private sector) in the fisheries management process to support effective fisheries management advice and implementation of management measures | D20: Number of stakeholder organizations – including women’s organizations – having engaged in fisheries management processes | F20: 34 organizations have engaged in fisheries management processes thus far. A detailed mapping of highly disparate and multifaceted fisher-stakeholder organizations is underway, aiming to support improved stakeholder integration into the GFCM fisheries advisory process. National stakeholder dossiers were prepared for each country and are currently under validation.
O21: Describe ANY VARIANCE or CHALLENGE in delivering outcomes or outputs.
O22: Variance refers to the difference between the expected and actual progress at the time of reporting.
B24: Output 1.5 Good practices identified for promoting socially sustainable fisheries, including through social protection coverage | D24: Number of background documents prepared identifying good practices for improving gender-responsive and meaningful social protection coverage among women and men small-scale fishers and fish workers within a select fishery | F24: 0 background documents prepared. Background work was carried out to develop a questionnaire, aiming to inform a SWOT analysis for socially sustainable blue crab fisheries, including access to social protection. Work is being conducted in coordination with the GFCM research programme on blue crabs and the FAO/Monterrey Bay Aquarium project on socially sustainable blue crab fisheries in Tunisia. | L24: Due to changes in national regulations for workshops with international participants in Tunisia, a planned December 2025 workshop was canceled. The project PSC agreed to transform the work to a desk study, with inputs from relevant national experts, to be presented and discussed at the final workshop of the GFCM's Blue Crab research programme.
B28: Outcome 2. Fisheries management better accounts for the quantity and magnitude of IUU fishing in the Mediterranean Sea and incorporates control measures, including through the use of emerging technologies.
B29: Output 2.1 National authorities trained on IUU fishing assessment methodologies | D29: Number of national representatives participating in IUU assessment trainings and demonstrating increased knowledge | F29: 12 national representatives participated in IUU assessment trainings, resulting in improved knowledge. Over the reporting period, important advances were made against the 3-phase roadmap for IUU assessment capacity development with a first training on the impact of IUU fishing in the Mediterranean and Black Sea held in January 2026 (Phase 1), a second training focusing on IUU risk assessment methodologies held in April 2026 (Phase 2), and a third phase initiated (not yet complete) in Albania and Türkiye for the application of the IUU risk assessment methodlogies (Phase 3). | L29: As per the MTR recommendations and PSC approval, the indicator has been revised to reflect the changed approach towards training on IUU assessment (as agreed in the previous reporting period)
B33: Output 2.2 Information on legal frameworks relating to IUU fishing and fisheries crimes collected, analyzed and disseminated, including through a regional repository | D33: Number of legislation-related documents within repository/database | F33: 201 legislation-related documents are included within the GFCM-LEX repository of national legislation. All GFCM-LEX profiles were completed durign the reporting period and continued IT support (experts and tools) was provided towards facilitating the launch of the GFCM-LEX platform (forthcoming).
B37: Output 2.3 Monitoring, Control and Surveillance technology tested and tailored to the capacity of countries | D37: Number of MCS solutions trialed at country level | F37: 8 MCS technology solutions were trialed at country level (Albania, Montenegro and Türkiye), with the VMS pilot studies concluded in all three countries. The VMS procurement action was finalized in Türkiye (with installation and airtime services initiated) and is underway in Montenegro (tender closed and contract being prepared) and Albania (tender currently open). A gear sensor pilot study was also finalized in Montenegro during the reporting period, with technical specifications under finalization and a tender for gear sensor procurement expected shortly.
B41: Output 2.4 Implementation of International Plan of Action to fight IUU and Regional Plan of Action to fight IUU facilitated through the development of National Plans of Action to fight IUU (NPOA-IUU), also supporting provisions to address unreported and unregulated fishing from bycatch, discards and abandoned fishing gear | D41: Number of national administration representatives engaged in NPOA-IUU trainings | F41: 15 national administration representatives were engaged in NPOA-IUU trainings (carried out in previous reporting periods). During the reporting period, support was provided to countries to facilitate normative work to address unreported and unregulated fishing, particularly through improving knowledge on in the incidental catch of vulnerable species (through monitoring and mitigation trials underway in Türkiye and Libya) and discards monitoring underway in Albania and starting in Morocco. Abandoned, lost and otherwise discarded fishing gear (ALDFG) was also addressed in Morocco through the publication of a graphic novel on the GFCM gear marking Recommendation as an awareness raising tool, through field work to retrieve ghost gear (in collaboration with local Moroccan community partners, including a women's association working on recycling the retrieved litter and awareness raising with school children). Technical assistance was also initiated in Tunisia on legislation for the marking of fishing gear.
B45: Outcome 3. Healthier marine ecosystems with more productive fisheries in place, through the synergistic application of ecosystem-based conservation/ management tools and improvements in fisheries tenure governance.
B46: Output 3.1 Protection of vulnerable marine ecosystems supported through the identification and application of area-based management tools for fisheries | D46: Number of trials and/or pilot studies conducted to identify area-based management tools and/or essential fish habitats | F46: 4 trials and pilot studies were conducted, including the adoption of the Otranto Channel Fisheries Restricted Area, sensitive benthic data collection in Albania and Montenegro, and the publication of a regional protocol for integrating environmental DNA-based approaches into fishries monitoring. During the reporting period, the e-DNA protocol was published and work also advanced towards the finalization of an inventory of national fisheries area-based management tools, populating the GFCM database on National Fisheries Restricted Areas (FRAs) (work is currently under validation with the countries).
B50: Output 3.2 Common areas of interest between environment and fisheries identified and guiding documents developed to support coherence and progress toward Good Environmental Status (GES) in the Mediterranean | D50: Number of guiding documents developed to support coordination and coherence between environment and fisheries administrations on areas of common interest | F50: 0 guiding documents developed. During the reporting period, work advanced and preparatory publications were released on the interlinkages between fisheries and environment data, towards the alignment of GFCM and UNEP-MAP reporting frameworks, with these publications presented by the CORMON meeting. This work feeds follow-up work to prepare the guiding document, foreseen in the next reporting period, in line with the revised workplan approved by the Project Steering Committee. | L50: The output was revised by the PSC to adopt a broader and more strategic approach. Implementation now focuses on strengthening coordination between fisheries and environmental administrations through enhanced alignment of GFCM and UNEP/MAP reporting frameworks, the identification of common areas of interest, regional dialogue and capacity building.
B54: Output 3.3 Measures identified to cope with the negative effects of non-indigenous species on biodiversity, as well as to support climate change adaptation and mitigation | D54: Number of measures developed and disseminated to mitigate the negative impacts of non-indigenous species and other potential stressors on biodiversity and marine ecosystems | F54: 9 measures developed and disseminated to mitigate the negative impacts of NIS. While the meaures were developed during the previous reporting period, work advanced during the current reporting period to promote dissemination of this information, while also advancing on the finalization and testing of the MAMIAS database. Work also advanced during this reporting period supporting climate change adaptation strategies, including the finalization of a guideline document (under publication) and the completion of a regional workshop on Nature Based Solutions and Climate Change Adaptation Strategies for Coastal and Marine Ecosystems (December 2025) | L54: Following MTR recommmendations and PSC approval, the climate change adaptation component of this output was revised to improve its coherence with the project's overall implementation strategy and maximize country-level impact. Rather than developing standalone climate change adaptation strategies or action plans, the project will support the identification of climate risk adaptation measures and priority actions in four beneficiary countries (Libya, Montenegro, Morocco and Tunisia), to be integrated into the NAP+. This revised approach ensures that climate adaptation considerations are embedded within national conservation and fisheries management planning processes and blue economy strategies while avoiding duplication with existing initiatives.
B58: Output 3.4 Innovative approaches developed and trialed to mitigate the negative interactions of fisheries with the marine environment | D58: Number of studies, technical trials and/or guidance documents produced to improve fisheries’ interactions with the marine environment | F58: 4 studies, trials, guidance documents have been completed, including gear selectivity trials, evaluation of the impact of underwater noise from bottom trawlers, pilot retrieval of ghost gear and guidance on reducing discharge of solid waste from fishing boats. During the reporting period, selectivity trials for trawl fisheries targeting European hake in the Strait of Sicily were carried out, contributing towards management discussions. Technical inputs were also provided to the field work to retrieve ghost gear in Morocco, including the technical monitoring of the ghost gear impacts (in support to output 1.4). Finally the document on guidelines on reducing solid waste from fishing vessels was published during the reporting period.
B62: Output 3.5 Strengthened regional capacities for fisheries tenure interventions | D62: Number of countries participating in regional workshop on fisheries tenure | F62: 6 countries participated. No further action was foreseen during the reporting period.
B66: Outcome 4. Blue economy at the regional and country level promoted through the identification of existing hurdles via a concerted approach among relevant stakeholders.
B67: Output 4.1 Strategic guidance prepared to support alignment of fisheries sector priorities and needs with emerging Blue Economy opportunities in the Mediterranean region | D67: Number of strategic guidance documents produced on integrating and promoting fisheries within a Blue Economy context | F67: 0 strategic documents produced. Work underway to gather inputs for this guidance document, as well as to build a database of key fisheries Blue Economy stakeholders, with the final document (and related tools) expected in the next reporting period.
B71: Output 4.2 NAP+ with investment plan developed and pilot activity initiated | D71: Number of countries advancing a NAP+ | F71: 4 countries have progressed in the development of NAP+ (Montenegro, Morocco, Libya and Tunisia), with preparatory work completed on investment plans and pilot activities and the first national workshops held. In parallel, national studies are being prepared in five countries (Albania, Algeria, Bosnia and Herzegovina, Libya and Montenegro) to assess Blue Economy opportunities and constraints from a biodiversity and fisheries perspective, providing the technical basis for NAP+ development where relevant. | L71: An accelerated roadmap was discussed and agreed at the 4th PSC in February 2026, with actions since them adjusted accordingly.
B75: Outcome 5. Integrated pathways conducive of conservation and sustainable management promoted at the regional and global level.
B76: Output 5.1 Coordination mechanisms created or strengthened to support NAP+ processes | D76: Number of countries where coordination mechanisms have been created or strengthened to support NAP+ | F76: 4 countries. Ad hoc coordination mechanisms related to NAP+ and involving public and private actors have started in Libya, Montenegro, Morocco and Tunisia. | L76: An accelerated roadmap was discussed and agreed at the 4th PSC in February 2026, with actions since them adjusted accordingly.
B80: Output 5.2 Learning and uptake of ecosystem-based fisheries management approaches promoted | D80: Number of participants supported by project trainings, workshops or other learning opportunities | F80: 467 participants (41% female/59% male). Of this total, 345 participants (41% female/59% male) have been supported during the reporting period, covering 13 events, workshops and trainings held in the context of the project.
B84: Output 5.3 Lessons learned and good practices disseminated to showcase project impact, including the benefits of the concerted GFCM-MAP approach | D84: Number of lessons learned, good practice and communications products published through FAO-GFCM, UNEP-MAP/SPA/RAC, IW:Learn and/or project beneficiaries’ platforms | F84: 52 communications products were published via the FAO-GFCM, UNEP-MAP, SPA-RAC, IW:Learn and/or project beneficiaries' platforms. Of these, 31 communications products were published during the reporting period, including stories on ghost gear retrieval in Morocco, NIS workshops, and tackling IUU fishing. | L84: A revamped KMC plan was agreed by the PSC in February 2026, resulting in an improved approach to project communications and a shift to more coherent project narratives and dedicated comms products.
B88: Output 5.4 Participation in relevant global GEF-related for a | D88: Number of IW:Learn global meetings attended | F88: 4 meetings (LME22, LME23,LME24 and IWC10). During the reporting period, the project participated in the 24th Annual Large Marine Ecosystems Consultative Meeting (LME24) organized by IW:Learn.
B93: Implementation Progress (IP) , and Overall Assessment
B95: Please note that the overall IP ratings should be substantiated by evidence and progress reported above. The ratings and comments shoud reflect the overall progress of results during the fiscal year (July 1 2025, to June 30, 2026) | P95: Completion of the IMPLEMENTATION PROGRESS rating table:
D96: Project Manager/ Coordinator | F96: Lead Technical Officer | H96: Budget Holder | J96: GEF Operational Focal Point (OFP) | L96: GEF Technical Officer (GTO)
...

Sheet 4. Summary_Progress & Challenge
B2: 4. Summary on progress and challenges | N2: To move to the next line inside the delimitated field, press Alt+Enter in your keyboard.
B3: Please provide a summary paragraph on project implementation progress consistent with the information reported in section 2 and 3 of the PIR (Max 400 words) (This section will be uploaded to the GEF portal) | N3: Guidance
