Workbook
Name Countries: Countries!$A$2:$A$250
Name DevCells: '2. Progress towards outcomes'!#REF!
Name DevCells: #REF!
Name DevRatings: '2. Progress towards outcomes'!#REF!
Name DevRatings: #REF!
Name DevScore: #REF!
Name DevScore: _Calc!$D$20
Name ImpCells: '3. Implementation Progress'!$D$99:$M$101
Name ImpRatings: '3. Implementation Progress'!$D$99:$M$101
Name ImpScore: #REF!
Name ImpScore: _Calc!$D$21
Name NumRating: #REF!
Name NumRating: _Calc!$B$2:$B$9
Name TxtRating: #REF!
Name TxtRating: _Calc!$A$2:$A$9
Name Weights: #REF!
Name Weights: _Calc!$E$14:$I$14
Name Weights2: #REF!
Name Weights2: _Calc!$E$17:$H$17

Sheet _Calc
A1: Rating text | B1: Score
A2: Highly Unsatisfactory (HU) | B2: 1
A3: Unsatisfactory (U) | B3: 2
A4: Moderately Unsatisfactory (MU) | B4: 3
A5: Moderately Satisfactory (MS) | B5: 4
A6: Satisfactory (S) | B6: 5
A7: Highly Satisfactory (HS) | B7: 6
A8: Unknown | B8: 0
A9: Not Rated | B9: 0
D12: for DevScore
D13: Person | E13: PM/Coord | F13: Budget Holder | G13: LTO | H13: GEF OFP | I13: GTO
D14: Weight % | E14: 20 | F14: 25 | G14: 25 | H14: 0 | I14: 30
D15: For ImpScore
D16: Person | E16: PM/Coord | F16: LTO | G16: GEF OFP | H16: GTO
D17: Weight % | E17: 25 | F17: 35 | G17: 0 | H17: 40
A19: Once you've filled in 2. Progress towards outcomes & 3. Implementation Progress
A20: Please double click and press enter on Cells D20 and D21 | D20: {=_xlfn.LET(_xlpm.hdrRow,MATCH("*Development*Objective*rating*",'2. Progress towards outcomes'!$C:$C,0),_xlpm.rRow,_xlpm.hdrRow+1,_xlpm.ratings,INDEX('2. Progress towards outcomes'!$D:$H,_xlpm.rRow,0),_xlpm.scores,_xlfn.XLOOKUP(_xlpm.ratings,TxtRating,NumRating,0),ROUND(SUMPRODUCT(_xlpm.scores,Weights)/SUM(Weights),0))} -> 4
D21: {=ROUND( SUMPRODUCT( _xlfn.XLOOKUP( CHOOSE({1,2,3,4}, '3. Implementation Progress'!D99, '3. Implementation Progress'!F99, '3. Implementation Progress'!J99, '3. Implementation Progress'!L99 ), TxtRating, NumRating, 0 ), Weights2 ) / SUM(Weights2), 0)} -> 4

Sheet Table of Contents
B6: FAO-GEF Project Implementation Report
B7: 2026 – Revised Template
B8: Period covered: 1 July 2025 to 30 June 2026
B9: Table of Contents
B10: =HYPERLINK("#'1. Basic project data'!N10","1. BASIC PROJECT DATA") -> 1. BASIC PROJECT DATA
B11: =HYPERLINK("#'2. Progress towards outcomes'!N11","2. PROGRESS TOWARDS ACHIEVING PROJECT OBJECTIVE(S) (DEVELOPMENT OBJECTIVE)") -> 2. PROGRESS TOWARDS ACHIEVING PROJECT OBJECTIVE(S) (DEVELOPMENT OBJECTIVE)
B12: =HYPERLINK("#'3. Implementation Progress'!N12","3. IMPLEMENTATION PROGRESS (IP)") -> 3. IMPLEMENTATION PROGRESS (IP)
B13: =HYPERLINK("#'4. Summary on progress'!N13","4. SUMMARY ON PROGRESS AND CHALLENGES") -> 4. SUMMARY ON PROGRESS AND CHALLENGES
B14: =HYPERLINK("#'5. ESS Risk'!N14","5.ENVIRONMENTAL AND SOCIAL SAFEGUARDS (ESS):RISKS FROM THE PROJECT") -> 5.ENVIRONMENTAL AND SOCIAL SAFEGUARDS (ESS):RISKS FROM THE PROJECT
B15: =HYPERLINK("#'6. Risks to the project'!N15","6. RISKS TO THE PROJECT") -> 6. RISKS TO THE PROJECT
B16: =HYPERLINK("#'7. Follow-up on Mid-term review'!N16","7. FOLLOW-UP ON MID-TERM REVIEW OR SUPERVISION MISSION") -> 7. FOLLOW-UP ON MID-TERM REVIEW OR SUPERVISION MISSION
B17: =HYPERLINK("#'8. Minor project amendments'!N17","8. MINOR PROJECT AMENDMENTS") -> 8. MINOR PROJECT AMENDMENTS
B18: =HYPERLINK("#'9. Stakeholders' Engagement'!N18","9. STAKEHOLDERS' ENGAGEMENT") -> 9. STAKEHOLDERS' ENGAGEMENT
B19: =HYPERLINK("#'10. Gender Mainstreaming'!N19","10. GENDER MAINSTREAMING") -> 10. GENDER MAINSTREAMING
B20: =HYPERLINK("#'11. Knowledge Management'!N20","11. KNOWLEDGE MANAGEMENT ACTIVITIES") -> 11. KNOWLEDGE MANAGEMENT ACTIVITIES
B21: =HYPERLINK("#'12. Indigenous & Local Involve.'!N21","12. INDIGENOUS PEOPLES AND LOCAL COMMUNITIES INVOLVEMENT") -> 12. INDIGENOUS PEOPLES AND LOCAL COMMUNITIES INVOLVEMENT
B22: =HYPERLINK("#'13. Co-Financing Table'!N22","13. CO-FINANCING TABLE") -> 13. CO-FINANCING TABLE
B23: =HYPERLINK("#'14. GEO Location'!N23","14. GEO LOCATION INFORMATION") -> 14. GEO LOCATION INFORMATION
B29: IMPORTANT DISCLAIMER:
B30: The final version of this PIR will be submitted to the GEF Secretariat.
B31: The report will then be publicly available on the GEF website (click here).
B32: Sensitive information should be submitted in Annex to be uploaded separately.
B33: In such cases, please contact faogef-pir-support@fao.org for guidance.

Sheet 1. Basic project data
B2: 1. Basic Project Data
B3: General Information
B4: Region: | E4: Latin America and the Caribbean (RLC)
B5: Country(ies): | E5: Republic of Trinidad and Tobago
B6: Project Title: | E6: BIOREACH: Biodiversity Conservation and Agroecological Land Restoration in Productive Landscapes of Trinidad and Tobago
B7: FAO Project Symbol: | E7: GCP /TRI/007/GFF
B8: GEF ID: | E8: 10188
B9: Type of Trust Fund(s): | E9: GFF
B10: GEF Focal Area(s): | E10: Multi-focal Area, Biodiversity, Land Degradation
B11: Project Executing Partners: | E11: The Environmental Management Authority (EMA) The National Agricultural Marketing and Development Corporation (NAMDEVCO)
B12: Initial project duration (years): | E12: Four (4) Years
B13: Project Dates
B14: GEF CEO Endorsement Date: | E14: 44406
B15: Actual Agency Approval Date | E15: 44425
B16: Project Implementation Start Date/EOD: | E16: 44593
B17: First Disbursement Date | E17: 45016
B18: Planned Project End Date/NTE1: | E18: 46053
B19: Revised project implementation End date (if approved)2: | E19: 46599
B20: Actual Completion Date:
B21: Expected Financial Closure Date: | E21: 46965
B22: Funding
B23: GEF Grant Amount (USD): | E23: 3752162
B24: Total GEF grant delivery (as of June 30, 2026 (USD): | E24: 3248038.1
B25: Total Co-financing amount (USD)3: | E25: ='13. Co-Financing Table'!K19 -> 18702630
B26: Total estimated co-financing materialized as of June 30, 2026: | E26: ='13. Co-Financing Table'!N19 -> 12836811
B27: M & E Milestones
B28: Date of Last Project Steering Committee (PSC) Meeting: | E28: 46195
B29: Expected Mid-term Review date5: | E29: n/a
B30: Actual Mid-term review date (if already completed): | E30: 45788
B31: Expected Terminal Evaluation Date6: | E31: 31/01/2027
B32: Overall ratings
B33: Overall rating of progress towards achieving objectives/outcomes (cumulative): | E33: =_xlfn.XLOOKUP(DevScore, NumRating, TxtRating, "Not Rated") -> Moderately Satisfactory (MS)
B34: Overall implementation progess rating: | E34: =_xlfn.XLOOKUP(ImpScore, NumRating, TxtRating, "Not Rated") -> Moderately Satisfactory (MS)
B35: Overall risk rating: | E35: ='6. Risks to the Project'!C58 -> Moderate
B36: Status
B37: Implementation Status (1st PIR, 2nd PIR, etc. Final PIR): | E37: 4th PIR
B40: 1 Date that was originally foreseen at the project’s operationalization and indicated in FPMIS. 2 If NTE extension has been requested and approved by the FAO-GEF Coordination Unit. 3 This is the total amount of co-financing as included in the CEO Document/Project Document. 4 Please refer to the Section 13 of this report where updated co-financing estimates are requested and indicate the total co-financing amount materialized. 5 The Mid-Term Review (MTR) should take place after the 2nd PIR, around half-point between EOD and NTE. The MTR report in English should be submitted to the GEF Secretariat within 4 years of the CEO Endorsement date. 6 The Terminal Evaluation date should be discussed with OED 6 months before the project’s NTE date.
B45: Project Contacts
B46: Contact | E46: Name, Title, Division/Institution | I46: E-mail
B47: Project Coordinator (PC) | E47: Asif Khan – Technical Advisor – Environmental Management Authority | I47: Asif.khan@planning.gov.tt
...

Sheet Countries
A1: Select Country
A2: Afghanistan
A3: Åland Islands
A4: Albania
A5: Algeria
A6: American Samoa
A7: Andorra
A8: Angola
A9: Anguilla
A10: Antarctica
A11: Antigua and Barbuda
A12: Argentina
... A250: Zimbabwe

Sheet TypeofTrustFund
A1: Type of Trust Fund
A2: Capacity-building Initiative for Transparency (CBIT)
A3: Global Biodiversity Framework Fund (GBFF)
A4: Global Environment Facility Trust Fund (GFF)
A5: Least Developed Countries Fund (LDCF)
A6: Special Climate Change Fund (SCCF)
A7: Small Grants Program (SGP)

Sheet FocalArea
A1: Focal Area
A2: Multi Focal Area
A3: Biodiversity
A4: Chemicals and Waste
A5: Chemicals/PoPs
A6: Climate Change
A7: Climate Change Adaptation
A8: Climate Change Mitigation
A9: International Waters
A10: Land Degradation

Sheet 2. Progress towards outcomes
B1: 2. Progress towards Achieving Project Objective(s) (Development objective)
B3: (All inputs in this section should be cumulative from project start, not annual)
B6: Please indicate the project’s main progress towards achieving its objective(s) and the cumulative level of achievement of each outcome since the start of project implementation.
B7: Project or Development Objective | C7: Outcomes | D7: Outcome indicators | E7: Baseline | F7: Mid-term Target | G7: End-of-project Target | H7: Cumulative progress level at 30 June 2026 | I7: % of cumulative progress | J7: Progress rating
B8: BIOREACH: Biodiversity Conservation and Agroecological Land Restoration in Productive Landscapes of Trinidad and Tobago Objective: To promote biodiversity conservation, restore degraded lands, and improve livelihoods of rural communities in targeted productive landscapes. | C8: Component 1: Biodiversity-Supportive Land Use Planning | I8: 0.4 | J8: Moderately Unsatisfactory (MU)
C9: Outcome 1.1: Biodiversity-sensitive land use planning and participatory land management mechanisms established in productive landscapes | D9: Number of participatory land use management mechanisms established Percentage of women members of land use management mechanisms | E9: Land Settlement Agency has done land use plans for the Valencia area in adjacent communities. National Quarries are doing quarry rehabilitation works on seven acres at Valencia, through a complementary GEF project. Oil exploration plans with requisite approvals planned in the area north of the Trinity Hills. Plymouth Adventure Estate Land Acquisition; driven by the community for improved and sustainable management of natural resources. Castara community environmental practices implemented by the community, driven by tourism. IWEco/Sustrust/IAMovement Project (Valencia) –A regional project which will employ/train 21 women and two men in the rehabilitation of decommissioned acreages of National Quarries lands with forest species and food crops. | F9: 2 land use management mechanisms established At least 20% of members of land use mechanisms are women | G9: 4 land use management mechanisms established At least 40% of members of land use mechanisms are women | H9: 0 land use management mechanisms established, 2 land use plans completed and 1 scoping report, stakeholders for committees were identified and engaged but not established 39% of members of land use planning (stakeholder and mapping) are women [133 persons, 52 women] Land-use Plans and community mapping exercises completed for two communities (Plum Mitan and Biche) and the Tobago Scoping Report submitted (Oct 2024) and approved by TSC (Nov 2024). Mid-Term Review findings: • The Mid-Term Review (report dated July 2025) identified low beneficiary buy-in as a key project constraint and recommended redirecting efforts toward interventions offering more tangible community benefits. • In response, the PSC and TSC (December 2025) directed the PMU to consult with stakeholders over a three-month period to identify alternative sites or community groups willing to engage in participatory land-use planning. • Consultations were held with: Commissioner of State Lands, Land Management Division (January 2026); Caribbean Natural Resources Institute (CANARI) (April 2026); and Planning Coordinator, Division of Strategic Planning, Tobago House of Assembly (April 2026). • Due to limited time and resources within the Division, implementation of the proposed Rapid Land-Use Planning approach in Tobago was not considered feasible. • Consultations with Forestry Division representatives on the Technical Sub-Committee also failed to identify suitable areas or willing groups for the development of additional land-use management plans. Underlying challenges: • Political and policy changes: The change in government administration in April 2025 and evolving policy priorities resulted in the postponement or reprioritization of several land-use planning and natural resource management initiatives. This slowed decision-making and limited opportunities to advance the formal adoption of community-led land-use planning outputs during the reporting period. • Many resource users lack secure land tenure or reliable access rights, reducing willingness to invest in land-use plans with uncertain implementation prospects. • Additional constraints include, weak and inconsistent land-use laws and policies; divergent priorities among State agencies; limited prospects for formal adoption and implementation of land-use plans; and weak enforcement of regulations governing resource use and management. Measures implemented to ensure effective use of project funds: The PSC approved the reallocation of Component 1 funds in April 2026 to activities expected to deliver more direct community benefits: • Maintenance and expansion of community-led reforestation initiatives implemented by the Environmental Management Authority (EMA); • Support for cocoa estate rehabilitation through NAMDEVCO; and • Targeted support for priority eco-tourism and agri-tourism initiatives in Tobago. Way forward: The project remains committed to engaging the new administration and relevant agencies to explore opportunities for the use, adoption, or integration of participatory land-use plans and associated governance mechanisms. An update on progress, including developments related to policy alignment, institutional uptake, and potential implementation pathways, will be provided in the Q4 2026. | I9: 0.4 | J9: Moderately Unsatisfactory (MU)
C10: Component 2: Forest and agricultural Landscape restoration and biodiversity protection through agroecology | I10: 0.67 | J10: Moderately Satisfactory (MS)
C11: Outcome 2.1: Land degradation decreased as degraded sites are restored and productive capacity of agricultural landscapes is enhanced | D11: Number of hectares of land restored Number of hectares under improved practices | E11: Carbon Zero Initiative ongoing at various locations (working primarily with schools) on importance of reforestation. IWEco/Sustrust/IAMovement Project: regional project focused on rehabilitating decommissioned acreages of National Quarries. Fondes Amandes Community Reforestation Project: mainly in the St. Ann’s Valley; focuses on forest fire prevention, environmental education, reforestation. National Gas Company reforestation programme: selected areas, initiated along the 56-foot pipeline running from Galeota to Pt. Fortin. National Reforestation and Watershed Rehabilitation Programme, Forestry Division: nationwide programme funded from URP budget with supplementary staff from URP labour force. Broad leaf species plantation at Courland by Forestry Division, Tobago: ongoing initiative over four acres Mason Hall reforestation: reforestation programme in Tobago Cocoa Growers Association: Rehabilitation of cocoa estates at Lure Estate in Goldsborough, Dove Cocoa Estate in Argyle Bayleaf Estate in Hope, Tobago. Project model can be used as a guidance to implement priority areas Corbin Local Wildlife Park: breeding of local wildlife and releasing them back into the wild (Private enterprise) | F11: 500 hectares 400 hectares | G11: 1500 hectares of degraded lands restored 1,000 ha of land under improved practices | H11: Note, the original ProDoc has a figure of 2000 Ha, but the core indicator table and subsequent disaggregated tables referenced 1,500 Ha; therefore the 1,500 is used as follows - 750 ha of degraded agricultural land restored, 650 Ha of forest and forest land restored and 100 Ha of Riparian Zone rehabilitated. 344.2 hectares of land restored (cumulative): - 15.92 ha fire-traced hillsides restored at St. Michael's Agroforestry site - 10 Ha of Agroforestry planted at the St. Michael's Agroforestry site - 4.1 ha rehabilitated at Catshill forest - 10 ha at Chatham Forest - 38 Ha at Courland Hillside - 16.18 Ha of the La Reunion Plant Propagation Station (Cocoa) Rehabilitated - 250 Ha of Forest restored/ planted nationally due to trainings and resources provided by project, undertaken by the Forestry Division - Maintenance and tending activities continued at all restoration sites in 2025/2026 Due to change in government administration (which occurred in April 2025) and evolving policy directions, the reforestation programme (National Reforestation Programme) was paused and under review; a new programme announced in March 2026 (Releaf TT) is envisioned and the Project intends to support its execution. It is expected that this will add to the targets, however given the large commitment that did not materialise through the National Reforestation Programme, attaining the original target will be difficult. Issues previously reported which have affected progress to the targets included high labour costs and an aging population of private agroforesters that are not interested in expansion. 55,465 + hectares under improved practices (cumulative): - Integrated wildfire management implemented across five forest reserves covering 34,893 Ha in the North-West Conservancy is being piloted. This area includes all lands not part of protected areas that are patrolled and managed. - Implementation of the Pawi Management Plan has taken place on approximately 20,000 Ha of lands in the Northern Range, this comprises of the community monitoring and conservation programme with the Brasso Seco, Grande Riviere, Matura, Santa Cruz and other communties not in protected areas. - 48.56 Ha of improved practices on land holdings of farmers that completed the 1st farmer field school at Felicity. - SAPW/RRD management: 170 traps deployed across 760 ha on 64 farms; 4,300+ weevils captured and disposed of on 307.63 Ha - UTT Community-based Wildfire Training Programme completed; 36 graduands received certificates of completion (October 10, 2025) - Open Block Management Training conducted in Trinidad (March 10-12, 2026); Urban Forestry and Tree Pruning training conducted in Tobago (March 5-6, 2026) - 6 technical manuals and pest management plans for sites completed (August 2025) - ToT/FFS Training Programme launched July 2025; graduated 30 farmers, 16 Technical Officers, 2 Lead Farmers (November 18, 2025) - 1,000 cocoa plants and 120 avocado seedlings distributed to 10 cocoa farmers; 1,000 breadfruit trees and 1,984 avocado plants propagated at La Reunion Station - Pest management plans finalized for Red Ring Disease/SAPW, cocoa diseases (Witches' Broom, Black Pod) and sweet potato | I11: 0.59 | J11: Moderately Satisfactory (MS)
C12: Outcome 2.2: Restoration of habitats and ecological corridors between protected areas | D12: Number of hectares of restored habitats | E12: National Reforestation and Watershed Rehabilitation Programme in Trinidad and Tobago Protectors of the Environment based in the Lopinot valley carried out replanting and education exercises- one off event but may be repeated GEF-IWEco- project with aim to work with National Quarries in Turure to rehabilitate quarries. Sites not yet finalised. Nature Seekers reforestation project in Matura Protected Area. The Trinidad and Tobago Field Naturalists’ Club (TTFNC) is planning to launch a herpetofauna conservation and education study and campaign across protected areas in Trinidad and Tobago Adopt a River Programme-a community-based approach to watershed management-has been working with communities along several rivers in both islands. Recovery plans for piping-guan and white-tailed sabrewing were developed in 2011 but not implemented. | F12: 50 hectares | G12: 100 hectares with restored habitat | H12: 55.07 hectares of restored habitats (cumulative): - 6.3 km (10.20 ha) of riparian forest along Jagruma River, Plum Mitan (Trinidad): 3,500 native plants installed; maintenance and tending activities ongoing in 2025/2026 - 5 km (8.47 ha) restored in Les Coteaux/Providence, Tobago: 235 mixed species planted; maintenance of Craighall River riparian sites ongoing (June–September 2025) - 36.40 Ha baseline surveyed and practices implemented towards ecotourism on a parcel degraded due to pasture, site now a working ecotourism site known as Corbin's Local Wildlife Park in Tobago Due to change in government administration (which occurred in April 2025) and evolving policy directions, the reforestation programme (National Reforestation Programme) was paused and under review; a new programme announced in March 2026 (Releaf TT) is envisioned and the Project intends to support its execution. It is expected that this will add to the targets, however given the large commitment that did not materialise through the National Reforestation Programme, attaining the original target will be difficult. While the EMA continues to maintain the sites, labour costs are high as the areas require frequent maintenance due to high growth rates of grasses and vines which outcompete the plants that were introduced. The realignment of funds from component 1 is to maintain the restored sites to the end of the project by supporting the work of the communities that are committed to seeing success of the activity. Biodiversity monitoring: - Phase 1 completed which trained 111 participants and generated 960 biodiversity observations. Phase 2 planning to begin in Sept 2026 with 500 students targeted. - Data handed over to Ministry of Planning which has an appropriate database. Species recovery plans: - Trinidad Piping Guan (Pawi): EMA PSIP-supported phase completed; data being analysed; draft report shared. Passive Acoustic Monitoring equipment deployed. Birds Caribbean Round Table proposal being developed (BirdsCaribbean invitation received March 2026) - White-tailed Sabrewing (Tobago): Monitoring ongoing under LOA with TRWRP; Phase 2 LOA to be executed; banding and monitoring activities continuing | I12: 0.75 | J12: Satisfactory (S)
C13: Component 3: Enabling Environment For Green, Biodiversity-Friendly Value Chain Development | I13: 0.25 | J13: Moderately Satisfactory (MS)
C14: Outcome 3.1: Emerging value chains produced sustainably to build resilience to climate change while conserving biodiversity, and supporting livelihoods | D14: Percentage of producers, disaggregated by sex, converting to sustainable practices Number of farmer field schools providing capacity training on sustainable development | E14: Cropper Foundation with IDB, is developing a voluntary certification programme for pesticide usage and microbial content, even use of child labour on the farms. Programme will be monitored by NAMDEVCO and testing will be conducted by CARIRI. Currently, Talparo Estate sustainably produces garlic, pepper, cinnamon and encourages the growth of wild tobacco and wild senna. Wild tobacco seeds are preferred food for birds in that area. Farmers in Moruga involved in production of Hill Rice, benne (Sesame Seed), and corn (Warao). The waste from rice promotes the production of additional offspring from agouti. Instead of one or two, they may be able to produce up to four. The farmers are working with The UWI, using CO2 to alter the colour of the meat to a pinker hue to better promote the meat for overseas markets. Tobago: Integrated farming systems have been established in Starwood, Speyside Flagstaff,Charlotteville, Bloody Bay | F14: At least 30 per cent of farmers engaged have converted to sustainable practices 4 farmer field schools are conducted 4 farmer field schools are conducted | G14: At least 60 per cent of farmers engaged have converted to sustainable practices 8 farmer field schools are conducted 8 farmer field schools are conducted | H14: 30 farmers, 16 Technical Officers and 2 Lead Farmers (32 males/ 16 females [33%]) graduated from the ToT/FFS Training Programme (November 18, 2025). Post FFS independent inferred that 93% of farmers adopting new practices. Training Programme launched July 8, 2025 at NESC Training Facility. Programme ended October 28, 2025 covering modules on agronomy, IPM, soil science, business planning, GAP and agroecological practices for sweet potato and cocoa. 2 Farmer Field School (Learning Plot, Couva and Training Plot, Felicity) established and used as venues for ToT training. FFS programs with farmer clusters commenced in Tobago and Caroni (Trinidad) in June, 2026. 7 more onstream to begin in Q3 2026. Agroecological curriculum 100% completed and in use. 6 technical manuals produced by FAO Agronomist and IPM Specialists. Value chains: Market mapping completed for cocoa, coconut, sweet potato, breadfruit, avocado and pineapple. Value-chain assessment final report approved. Soil analysis completed for training plots and cocoa-growing areas. | I14: 0.4 | J14: Moderately Satisfactory (MS)
C15: Outcome 3.2: Enabling environment for green, biodiversity-friendly value chain development | D15: Number of small producers, (disaggregated by sex) selling to new and larger markets Percentage of producers whose income has increased through sustainable production | E15: Existing markets: Las Hermanas Estate, Santa Cruz; Wa Samaki, Freeport; Toco Foundation | F15: 100 small producers; 50 per cent of which are women At least 10% of producers have experienced an increase in income; half of which are women | G15: At least 200 small producers; 50 per cent of which are women At least 20%; half of which are women | H15: 0 small producers selling to new and larger markets (cumulative). 0 small producers yet reported an increase in income. Due to the late implementation of the FFS, at the time of reporting there were no farmers yet accessing larger markets. 1 is in discussion and is likely to come on stream early in July. Marketing strategies for farmer clusters being developed based on completed and approved Value-Chain Assessment report, shared with the Ministry for alignment but not yet informed about priorities. With the change in administration, plans are being reviewed. Business planning module delivered by Value-Chain Specialist and Cropper Foundation representative to ToT/FFS participants. GAP training conducted through NAMDEVCO Quality Assurance Department. LOA with The Cropper Foundation completed. Community of Practice model established through Cropper Foundation LOA. Farmer clusters being engaged to execute FFS Training programs by graduates of ToT Programme in 2026, which will facilitate market linkages. Due to the late start by NAMDEVCO, which delayed the start of the Farmer Field Schools and, as a result, has limited the number of participants who have progressed from learning improved practices to actually applying them at a production level sufficient for larger market access. NAMDEVCO is now working to support producers in entering these markets. This progress is expected to accelerate as complementary activities move forward, including the marketing strategies currently being developed for farmer clusters based on the completed Value-Chain Assessment, the business planning module delivered to ToT/FFS participants, and GAP training conducted through NAMDEVCO’s Quality Assurance Department. Together, these activities are expected to build the capacity and market linkages needed for producers to reach the target by the end of the project. | I15: 0.2 | J15: Moderately Satisfactory (MS)
C16: Outcome 3.3: Green value chains policy informs national level agricultural development | D16: Number of roadmaps produced outlining green value chains policy | E16: No existing agricultural policy addresses agroecological considerations and gender dimensions | F16: 0 Roadmap produced outlining a green value chain policy | G16: 1 Roadmap produced outlining a green value chain policy | H16: 0 Roadmaps produced (cumulative). To be pursued in Q3-4 of 2026 through a partnership with the FAO. Foundational work completed: Value-chain assessment final report approved; initial discussions held with advisors to the Ministry of Agriculture and Forestry Division to incorporate FFS training into county-level Ministry programmes. With the change in administration, plans are being reviewed. FFS programme now being planned for rollout across all counties in Trinidad and in Tobago, with the intent that results will be upstreamed to inform agricultural policy. Plan is to support the request to the FAO to revise local agriculture policy through co project support | I16: 0.14 | J16: Moderately Unsatisfactory (MU)
C17: Component 4: Knowledge Management and Monitoring | I17: 0.88 | J17: Satisfactory (S)
C18: Outcome 4.1: Improved knowledge management on biodiversity and land degradation issues | D18: Number of knowledge materials produced for appropriate audiences (government ministries, CBOs, local communities) Number of public awareness campaigns on improved land use Number of curriculums produced for Lead Farmer Training Programme | E18: None for this project | F18: At least 4 knowledge materials produced for appropriate audiences At least 2 public awareness campaigns on improved land use 1 curriculum produced for Lead Farmer Training Programme | G18: At least 8 knowledge materials produced for appropriate audiences At least 4 public awareness campaigns on improved land use 1 curriculum produced for Lead Farmer Training Programme | H18: 8 knowledge materials produced (cumulative): Project information flyer/banner, Agroecology 101, standing banner, Angstrom Index, branded notebooks/jotter pads, wildfire brochures and posters, RRD/SAPW brochure (approved by TSC), Digital Native Medicinal Guide (launched May 26, 2025 at UWI Inn Conference Centre), 6 technical manuals/pest management plans by FAO specialists, multimedia videos on interventions by both partners. 3 public awareness campaigns completed (cumulative): Wildfire sensitization campaigns in Trinidad and Tobago; Citizen Science Programme (80 students, 12 teachers, 24 community members); ToT/FFS Training launch (July 2025). 1 curriculum for Lead Farmer Training Programme completed. Full time Communications/Knowledge Management Officer onboarded in June 2026 as a response to the MTR recommendation for a dedicated person | I18: 1 | J18: Satisfactory (S)
C19: Outcome 4.2: Ongoing monitoring feeds into adaptive project management | D19: Number of instances where monitoring promotes adaptive management (e.g., adjustment in budget, project priorities, changes in messaging to resonate with audiences) | E19: None for this project | G19: 4 instances where monitoring promotes adaptive management | H19: 3 instances of adaptive management documented and actioned (cumulative): 1. MTR completed (May 2025); Management Response prepared; 18-month extension approved (PSC Oct 29, 2025; project extended Feb 2026 – July 2027) 2. M&E exercise on 1st cohort of FFS participants performed and recommendations made to strengthen subsequent FFS. 3. Formation of the EMA/ Forestry Division working group as a response to the discontinuation of the national reforestation programme. Has resulted in all activities being initiated with technical support by the Forestry Division and direct payment of community labourers by the EMA Year 4 Work Programme and budget approved by TSC (December 17, 2025) and PSC (December 15 and April 28, 2026). | I19: 0.75 | J19: Satisfactory (S)
B21: Average Cumulative progress toward outcomes (%) | C21: Time elapsed since project start/EOD vs Planned Project End Date | D21: % of delivery
B22: =IFERROR(AVERAGE(I8:I19),"") -> 0.53583333 | C22: =IF(OR('1. Basic project data'!E16="",'1. Basic project data'!E18=""),"",(TODAY()-'1. Basic project data'!E16)/('1. Basic project data'!E18-'1. Basic project data'!E16)) -> 1.1452055 | D22: =IF('1. Basic project data'!E23=0,"",'1. Basic project data'!E24/'1. Basic project data'!E23) -> 0.86564443
B33: Development Objective (DO) Ratings, and Overall Assessment
B34: Please note that the overall DO ratings should be substantiated by evidence and progress reported above. The ratings and comments should reflect the overall progress of results since project start
C36: FY2026 Development Objective rating¹ | D36: Project Manager/ Coordinator | E36: Budget Holder | F36: Lead Technical Officer13 | G36: GEF Operational Focal Point | H36: GEF Technical Officer (GTO)
D37: Moderately Satisfactory (MS) | E37: Satisfactory (S) | F37: Moderately Satisfactory (MS) | G37: Not Rated | H37: Moderately Unsatisfactory (MU)
C38: Comments/reasons¹² justifying the ratings for FY2026 and any changes (positive or negative) in the ratings since the previous reporting period | D38: The project has made commendable and measurable progress across most components during FY2026, with several key milestones achieved: initiation and progress of the Trainer-of-Trainers/Farmer Field School Training Programme, the UTT Community-based Wildfire Training, expansion of the SAPW/RRD pest management programme to 760 ha across 64 farms, and the successful implementation of two species recovery plans. Letters of Agreement (LOAs) have proven to be an effective delivery mechanism, enabling strong partnerships with service providers including CANARI, UTT, the Cocoa Development Company, the Cocoa Research Centre, and the Cropper Foundation with each delivering quality outputs within agreed timeframes. Progress in biodiversity monitoring, knowledge management and adaptive management has been satisfactory or better. The 18-month project extension (to July 2027) provides a realistic pathway to achieving furthering the impact of the project and provided greater tangible benefits. The rating is moderated by the below-target delivery on restoration hectares, the structural challenges that led to the redirection of Component 1 activities, and the delayed rollout of farmer field schools that are now central priorities for the extended period. | E38: There has been an acceleration in progress which has resulted from close coordination of partners and decisiveness. | F38: There is sustained progress and this should be reflected in the achievement of target indicators. At this stage it is uncertain if certain or all indicators will be met. The PMU has diligently integrated the recommendations from the MTR into the planning and adaptive management of the project. | H38: The project has made substantial progress towards the outcomes in an environment where the policy direction of the new goverment is being rolled out. Actvities addressing root causes are addressing critical threats to biodiversity such as wildfires. However, activities addressing systemic issues such as land tenure and participatiory managment have not advanced because of the changes in policy. This change in policy of the government offers an opportunity to build in some of the results of the project into the programmes and projects of the new administration.
B43: Measures to address MS, MU, U and HU ratings on Section 2 above
B46: Outcome | D46: Action(s) to be taken | F46: By whom? | H46: By When?
B47: Outcome 1.1 | D47: Component 1 no longer to be pursued given recommendations from the MTR and from the TSC/ PSC and Service Provider. Will therefore end at 2 land use plans produced. Funds reallocated towards activities with tangible benefits such as rehabilitation of cocoa estates and community reforestation activities. To note, the revision of core indicators occured post MTR with discussions and approval from PSC and the FAO-TT. | F47: PMU / LTO / FAO-TT | H47: Q2–Q3 2026
B48: Outcome 2.1 | D48: Execute plans from the budget reallocation for 300,000-plant propagation; engage CBOs for restoration activities; finalize and distribute 6 technical manuals to NAMDEVCO field officers and MAF; commence FFS rollout with additional farmer clusters. While original restoration targets are no longer achievable and have been revised. The revised targets are based on present achievements and available resources. Furthermore, the strategy is to develop capacities of local stakeholders and meet or exceed the improved practices targets. Another strategy developed is to focus on the demonstrative practices through pilots. Results will be tracked on a monthly basis and quaterly independant exercises by the M&E Specialist. | F48: PMU / EMA / NAMDEVCO / FAO | H48: Q2–Q4 2026
B49: Outcome 3.1 | D49: Commence 7 additional FFS with farmer clusters in Trinidad and complete the 2 ongoing at Jerningham, Trinidad and Kendal, Tobago. The Project should have initiated and completed 11 FFS by the end of the Project, it is unlikely the 20 targeted will be attained but the strategy is to train officers and farmers from all counties and equip them with the resources to continue. The demonstrative approach is working well and will be leveraged, this will serve to improve practices of farmers and the knowledge base of Extension staff and meet or surpass the improved practices indicator. Additionally this approach increase the chance of post project sustainability. Results will be tracked on a monthly basis and quaterly independant exercises by the M&E Specialist. | F49: NAMDEVCO / PMU / FAO | H49: Q2 2026 onward
B50: Outcome 3.2 | D50: Develop marketing strategies and business plans with farmer clusters during FFS rollout. Formalize market linkages through NAMDEVCO farmers' markets. Agro-eco Tourism LOA launched and will lead to further development of sustainable partnerships and the approach to be used is to support communities/ persons with existing plans but those lacking in capacity. One partnership under development with the Asa Wright Nature Trust/ Hadco and other possible partners through cocoa activities to be identified.Results will be tracked on a monthly basis and quaterly independant exercises by the M&E Specialist. | F50: NAMDEVCO / PMU / Cropper Foundation | H50: Q2–Q4 2026
B51: Outcome 3.3 | D51: The FAO-TT has been approached to revise the national agricultural policy, this presents as the ideal opportunity to support the inclusion of agro-ecological principles into the policy environment. A plan is to be discussed to include considerations into the policy with evidence from the FFS. If this does not succeed, the Namdevco will host national stakeholder fora and produce knowledge management products on the success of the agro-ecological FFS and outfit the main stakeholders that will continue the trainings with the requisite tools. | F51: NAMDEVCO / PMU / FAO | H51: Q3–Q4 2026
B52: 7 Some indicators may not identify mid-term targets at the design stage (refer to approved results framework) therefore this column should only be filled when relevant. 8 Use GEF Secretariat required six-point scale system: Highly Satisfactory (HS), Satisfactory (S), Moderately Satisfactory (MS), Moderately Unsatisfactory (MU), Unsatisfactory (U), and Highly Unsatisfactory (HU).

Sheet 3. Implementation Progress
B1: 3. Implementation Progress (IP)
B3: (Please indicate progress achieved during this FY as per the Implementation Plan/Annual Workplan)
B5: Outcomes and outputs | D5: Indicators (as per the logical framework) | F5: Main achievements in the last 12 months (please DO NOT repeat results reported in previous year PIR) | L5: Describe any variance 9 in delivering outputs
B7: Outcome 1: Biodiversity-sensitive land use planning and participatory land management mechanisms established in productive landscapes
B8: Output.1.1.1: Land use plans identifying high value conservation areas, productive terrestrial landscapes in buffer zones, and climate change resilience measures, are developed and validated | D8: Land use plans with clear strategies for management of vulnerable resources/sites Validation by communities of land use plans Land use plans include gender considerations | F8: 2 land use plans produced and the Tobago scoping report. 0 mechanims established but stakeholders identified. Phase 1 LOA with CANARI was fully closed and finalized; final payment processed in July 2025. Mid-Term Review findings: • The Mid-Term Review (report dated July 2025) identified low beneficiary buy-in as a key project constraint and recommended redirecting efforts toward interventions offering more tangible community benefits. • In response, the PSC and TSC (December 2025) directed the PMU to consult with stakeholders over a three-month period to identify alternative sites or community groups willing to engage in participatory land-use planning. • Consultations were held with: Commissioner of State Lands, Land Management Division (January 2026); Caribbean Natural Resources Institute (CANARI) (April 2026); and Planning Coordinator, Division of Strategic Planning, Tobago House of Assembly (April 2026). • Due to limited time and resources within the Division, implementation of the proposed Rapid Land-Use Planning approach in Tobago was not considered feasible. • Consultations with Forestry Division representatives on the Technical Sub-Committee also failed to identify suitable areas or willing groups for the development of additional land-use management plans. Underlying challenges: • Political and policy changes: The change in government administration in April 2025 and evolving policy priorities resulted in the postponement or reprioritization of several land-use planning and natural resource management initiatives. This slowed decision-making and limited opportunities to advance the formal adoption of community-led land-use planning outputs during the reporting period. • Many resource users lack secure land tenure or reliable access rights, reducing willingness to invest in land-use plans with uncertain implementation prospects. • Additional constraints include, weak and inconsistent land-use laws and policies; divergent priorities among State agencies; limited prospects for formal adoption and implementation of land-use plans; and weak enforcement of regulations governing resource use and management. Measures implemented to ensure effective use of project funds: The PSC approved the reallocation of Component 1 funds in April 2026 to activities expected to deliver more direct community benefits: • Maintenance and expansion of community-led reforestation initiatives implemented by the Environmental Management Authority (EMA); • Support for cocoa estate rehabilitation through NAMDEVCO; and • Targeted support for priority eco-tourism and agri-tourism initiatives in Tobago. Way forward: The project remains committed to engaging the new administration and relevant agencies to explore opportunities for the use, adoption, or integration of participatory land-use plans and associated governance mechanisms. An update on progress, including developments related to policy alignment, institutional uptake, and potential implementation pathways, will be provided in the Q4 2026.be used to produce 300,000 cocoa seedlings, rehabilitate abandoned estates (45 Ha) and control pests, additonally a skilled labour force to be trained in cocoa rehabilitation. Funds also to be used to support community reforestation activities. | L8: Project may seek to reduce targets in Component 1 scope however, recommendations as per MTR and stakeholder consultations are being explored for adopting the use of the 2 land-use plans developed for the areas. End-of-project target of 4 mechanisms may not be met based on the outcomes of these consultations and proposals. The resources have been redirected to more tangible outcomes and the lessons learnt captured. However, there is a possiblity that these outputs may be developed through progarmmes or projects of the new administration before the end of the project.
B12: Output 1.1.2: Multi-stakeholder committees are established in four ecologically vulnerable areas | D12: Multi-stakeholder committees exist, with adequate representation from various interest groups | F12: Stakeholder identification and engagement occurred through land-use planning consultations in Plum Mitan and Biche. Issues exist with low buy-in and commitment from community members due to no perceived tangible benefits. As a result, the recommendation in the MTR was to realign to other activities with better tangible benefits and community integration. Dialogue continues with the new administration with a view to adoption or support of completed elements which can be linked to new priorities. | L12: Multi-stakeholder committee formalization not achieved but identification and mapping completed.
B16: Outcome 2.1: Land degradation decreased as degraded sites are restored and productive capacity of agricultural landscapes is enhanced
B17: Output 2.1.1: Diversified, integrated agroforestry production systems upscaled in 1,500 hectares of degraded lands | D17: 1400 Ha agroforestry on degraded lands | F17: Approx 26.18 hectares of agroforestry established and 148 Ha of practices improved in cocoa farms. Three agroforestry pilot sites were identified in Trinidad — St. Michael’s, Lopinot and Maracas — with the St. Michael’s site executed on approximately 10 hectares with avocado and coconut, a further 16.18 established at the La Reunion Plant Propagation facility, a major supplier of cocoa planting material. A further candidate site has been identified in Tobago, at the THTI/TT Fine Cocoa property in Blenheim, where a Letter of Agreement with CDCTTL is being explored to carry out rehabilitation using Component 1 funds. On planting material, 1,000 cocoa plants and 120 avocado seedlings propagated at the La Reunion Propagation Station were distributed on 28 May 2025 to 10 farmers via CDCTTL/CRC for plantation rehabilitation, supporting a cluster system that now manages 25 acres across 5 farms; a further 1,000 breadfruit trees and 1,984 avocado plants propagated at La Reunion have since begun reaching farmers, with 650 avocado and 250 coconut plants distributed to 50 farmers in December 2025, and 100 of the breadfruit trees distributed to date (a further 500 are earmarked for farmers in the Farmer Field School Training Programme). On pest management, 170 South American Palm Weevil traps were distributed in January 2026, bringing cumulative coverage to 760 hectares across 64 farms and over 4,300 weevils captured; the trap-distribution exercise is also being used to identify coconut farmers for support, alongside cocoa farmers identified through the CDCTTL/CRC collaboration. Restoration activities are being directed using production methods already developed by MALF, CDCTTL, CRC and CARDI, together with the project Agronomist’s site-specific Guidelines for Integrated Crop Management of Sweet Potatoes and Agroforestry Systems. The most significant intervention heading into FY2027 is a PSC-approved budget reallocation to propagate 300,000 new cocoa plants at La Reunion under CDCTTL oversight from July 2026 — expected to reach 100 farmers across Trinidad and Tobago and cover an estimated 300 hectares — alongsiderehabilitation of 40 hectares of abandoned cocoa estates; in parallel, options are being explored to extend support to CDCTTL’s cluster rehabilitation work in the Rio Claro/Biche area, including project funding for labour, logistics and technical oversight. A new programme announced by the government in March 2026 (Releaf TT) is envisioned and the Project intends to support its execution. Furthermore, the commitment to support the cocoa and coconut sectors in particular will eventually lead to more agroforestry activities and restoration beyond the project. Note, the original ProDoc has a figure of 2000 Ha, but the core indicator table and subsequent disaggregated tables referenced 1,500 Ha; therefore the 1,500 is used as follows - 750 ha of degraded agricultural land restored, 650 Ha of forest and forest land restored and 100 Ha of Riparian Zone rehabilitated. | L17: The 750 hectare agroforestry target remains off-track, constrained by the change in government administration (which occurred in April 2025) and evolving policy directions, the reforestation programme (National Reforestation Programme) was paused and under review; It is expected that this will add to the targets, however given the large commitment that did not materialise through the National Reforestation Programme, attaining the original target will be difficult. In addition, as a result of high labour costs and a national shortage of planting material for cocoa and coconut, the project is actively working to address through dedicated propagation, pest control and supply efforts. Consultations with the Forestry Division also point to a decline in the number of farmers actively engaged in agroforestry, partly attributable to land tenure issues; the revised strategy therefore prioritises targeted support — inputs, training, and rehabilitation of existing coconut and cocoa estates.
B21: Output 2.1.2: Agroecological and climate-smart best practices disseminated through farmer field schools, model farms and capacities of extension services are improved | D21: Number of farmer field schools (20) Number of trainings for extension services (2) | F21: 2 Farmer Field Schools completed, 2 ongoing and a further 7 proposed. 1 extension services training completed and 1 ongoing. The ToT/Farmer Field School Training Programme launched on 8 July 2025; the first cohort concluded on 28 October 2025 and graduated on 18 November 2025, certifying 48 participants in agroecology and FFS methodology — 30 farmers, 16 Technical Officers drawn from MAF and NAMDEVCO, and 2 Lead Farmers. The curriculum, covering ICM, IPM, Soil Science, GAP, Business Planning and Agroecological Practices for sweet potato and cocoa, has been standardised for reuse in the Tobago rollout. The FAO Agronomist and IPM Specialist each conducted two site visits and produced six technical manuals, and the Learning Plot (Couva) and Training Plot (Felicity) were established as model farms. Tobago FFS training commenced on 10 June 2026, alongside a second Trinidad FFS at Jerningham Junction; a further 7 additional schools are planned through to July 2027. The trainings were well received and the approach of integrating trainer trainings with farmers server to enhance both the knowledge base and trust amongst stakeholders. | L21: Against target of 20, 2 Lead Farmers, 16 trainers-of-trainers and 30 farmers have been trained and certified, with 2 FFS completed, 2 established in June (including Tobago) and 7 more in preparation; delivery is running behind the original schedule target. This is attributed to the much later start by the OP and the time taken to engage the line Ministry. Additionally, the curriculum created at the PPG phase was deemed not detailed enough. Significant time was then spent developing a detailed curriculum with a better representation of stakeholders and experts. Also, significant engagement with the Ministry of Agriculture was required in order to engage the extension staff. This also resulted in fewer physical extension training programmes (2) but a better representation. The measure employed was to amalgamate extension staff from all agencies and counties rather than having satellite trainings that would take much more time. This worked well, and the output was that representatives then developed plans for their own field schools within their county that would target specific clusters of farmers. Time was also lost due to change in administration and the subsequent review of all partnerships; however the FFS was well recieved and gains high level support at the MAF. It is unlikely that all 20 will be completed at the end of the Project, however the strategy to support each Ministry county and equip them with training and other resources as well as the high level buy-in gives a likely outcome of its continuation beyond the end of the project. 1 Training of Extension services completed in Trinidad and 1 initiated in Tobago in June 2026
B25: Output 2.1.3: Degraded forests restored and an integrated wildfire management system developed | D25: Integrated wildfire management system developed | F25: • Integrated wildfire management system completed and implemented by the Forestry Division, Trinidad. • Approximately 318.02 Ha restored (awaiting verification) • UTT Community-based Wildfire Training Programme completed; graduation ceremony at ECIAF Campus, October 10, 2025; 36 community members certifie (18 males/ 18 females). • Field demonstration of wildfire techniques conducted with Forestry Division at St. Michael's Reserve. • Open Block Management Training conducted in Trinidad (March 10–12, 2026) by FAO expert. • Urban Forestry and Tree Pruning training in Tobago (March 5–6, 2026). • PS MALF formally confirmed all FAO Consultant recommendations will be implemented by FD. | L25: Integrated Wildfire Management System fully developed and implemented. Ongoing works - maintenance and capacity development continuing in 2026. Reforestation targets may not be met primarily due to the change in government administration (which occurred in April 2025) and evolving policy directions. The reforestation programme (National Reforestation Programme) which was expected to provide casual labour as co-financing support for replanting activities, was paused and is under review. As a consequence, the EMA with guidance from the Forestry Division have been employing experienced persons to perform the restoration activities. While the cost are comparably high at an estimated 5,000-7,000 USD per hectare, the terrain is difficult and continuous maintenance of the plots due to rapid regrowth of vegetation, the success and low mortality rates are promising. A new programme announced in March 2026 (Releaf TT) is envisioned and the Project intends to support its execution. It is expected that this will add to the targets, however given the large commitment that did not materialise through the National Reforestation Programme, attaining the original target will be difficult.
B29: Output 2.1.4: Pest management plan established for three sites | D29: Pest management plan for three sites | F29: All three targeted pest management plans are now complete; Six technical manuals and pest management plans have been produced , covering sweet potato, cocoa diseases and coconut pests (South American Palm Weevil and Red Ring Disease), together with accompanying RRD/SAPW brochures. The SAPW programme now covers 170 traps across 760 hectares on 64 farms, with over 4,300 weevils captured to date. A cocoa disease survey and training were delivered in Tobago, with Frosty Pod, Witches’ Broom and Black Pod management demonstrated by the MALF Research Division, while ongoing support continues to Marper Farms for coconut seedbank activities and to the rehabilitation of 40 acres of the La Reunion cocoa farm, including control of witches’ broom. Additional plans developed as they were deemed as necessary for addressing concerns within the areas/ crop types. These were done within budget by the FAO consultants and the CDCTTL/ CRC LOA's. | L29: Dissemination of plans to be done by Comms Officer in Q3-4, 2026.
B33: Outcome 2.2: Restoration of habitats and ecological corridors between protected areas
B34: Output 2.2.1.: Biodiversity data is collected in corridors between PAs | D34: New biodiversity-related data | F34: • Biodiversity data handed over to the Environmental Policy and Planning Division of the Ministry of Planning, Economic Affairs and Development • Phase 1 LOA (UWI biodiversity surveys) completed; Phase 2 LOA planned for post-intervention survey • Baseline surveys completed at Nariva (Trinidad) and Mason Hall (Tobago) corridors, data handed over to the MPEAD - Biodiversity database • 36.40 Ha of land at Corbins Local Wildlife baseline survey used to inform on the restoration of the degraded pasture, site used as an ecotourism attraction • Citizen science: Phase I which trained 111 participants and generated 960 biodiversity observations. • Phase 2 Citizen science, targetting 500 students to begin at end of Q3, 2026 • All monitoring equipment procured and deployed. • Data being used to enhance public education campaigns at the sites amongst schools and other targeted stakholders from the public sector | L34: Output well advanced and on track. Post-intervention survey planned for final project year.
B38: Output 2.2.2. Riparian forest established with native species in riverbanks between PAs (15 kilometers) Target 100 hectares of degraded forested lands | D38: Number of hectares forested (100) | F38: • Plum Mitan, Trinidad: Tending and maintenance activities are continuing, expansion is to be considered in Q3. Low mortality (<5%) and high growth rates at site. Filming by Luvo Studios October 8, 2025; draft video submitted to EMA January 2026. • Les Coteaux/Craighall River, Tobago: Tending and maintenance commenced June 30 – July 10, 2025. Continued through late 2025. DNRF to advise on additional plants for riverbank extension. • Cumulative: 6.3 km (10.20 ha) Trinidad + 5 km (8.47 ha) Tobago = 18.67 ha established. | L38: Losses at Plum Mitan due to MOWT excavation and community interference. Ministries notified; signage being installed. Target of 100 ha remains challenging due to a change in government administration (which occurred in April 2025) and evolving policy directions, the reforestation programme (National Reforestation Programme) was paused and under review. The project continues to seek collaboration with the Ministry for the newly reformulated programme (RELEAF) which is yet to be launched in Q3/Q4 2026. Enrichment planting and maintenance on the project site remains ongoing and is being facilitated by the EMA.
B42: Output 2.2.3. Recovery plans for significant species (e.g., piping-guan, white-tailed sabrewing hummingbird) in productive landscapes are implemented | D42: Number of recovery plans (2) | F42: Trinidad Piping Guan (Pawi): EMA PSIP-supported monitoring phase completed; data being analysed; draft report shared. Passive Acoustic Monitoring deployed. Phase 2 to upscale commuity based intervention proposed for Q3, 2026 White-tailed Sabrewing (Tobago): Phase 1 monitoring under LOA with TRWRP completed and Phase 2 LOA began in May, 2026. Bird banding and monitoring continuing with additional plans to restore degraded habitats | L42: Both recovery plans being implemented. High impact; post-project sustainability being embedded in EMA, THA and academic partnerships.
B46: Outcome 3.1: Emerging value chains produced sustainably to build resilience to climate change while conserving biodiversity, and supporting livelihoods
