Workbook
Name Countries: Countries!$A$2:$A$250
Name DevCells: '2. Progress towards outcomes'!#REF!
Name DevCells: #REF!
Name DevRatings: '2. Progress towards outcomes'!#REF!
Name DevRatings: #REF!
Name DevScore: #REF!
Name DevScore: _Calc!$D$20
Name ImpCells: '3. Implementation Progress'!$D$96:$M$98
Name ImpRatings: '3. Implementation Progress'!$D$96:$M$98
Name ImpScore: #REF!
Name ImpScore: _Calc!$D$21
Name NumRating: #REF!
Name NumRating: _Calc!$B$2:$B$9
Name TxtRating: #REF!
Name TxtRating: _Calc!$A$2:$A$9
Name Weights: #REF!
Name Weights: _Calc!$E$14:$I$14
Name Weights2: #REF!
Name Weights2: _Calc!$E$17:$H$17

Sheet _Calc
A1: Rating text | B1: Score
A2: Highly Unsatisfactory (HU) | B2: 1
A3: Unsatisfactory (U) | B3: 2
A4: Moderately Unsatisfactory (MU) | B4: 3
A5: Moderately Satisfactory (MS) | B5: 4
A6: Satisfactory (S) | B6: 5
A7: Highly Satisfactory (HS) | B7: 6
A8: Unknown | B8: 0
A9: Not Rated | B9: 0
D12: for DevScore
D13: Person | E13: PM/Coord | F13: Budget Holder | G13: LTO | H13: GEF OFP | I13: GTO
D14: Weight % | E14: 20 | F14: 25 | G14: 25 | H14: 0 | I14: 30
D15: For ImpScore
D16: Person | E16: PM/Coord | F16: LTO | G16: GEF OFP | H16: GTO
D17: Weight % | E17: 25 | F17: 35 | G17: 0 | H17: 40
A19: Once you've filled in 2. Progress towards outcomes & 3. Implementation Progress
A20: Please double click and press enter on Cells D20 and D21 | D20: {=_xlfn.LET(_xlpm.hdrRow,MATCH("*Development*Objective*rating*",'2. Progress towards outcomes'!$C:$C,0),_xlpm.rRow,_xlpm.hdrRow+1,_xlpm.ratings,INDEX('2. Progress towards outcomes'!$D:$H,_xlpm.rRow,0),_xlpm.scores,_xlfn.XLOOKUP(_xlpm.ratings,TxtRating,NumRating,0),ROUND(SUMPRODUCT(_xlpm.scores,Weights)/SUM(Weights),0))} -> 2
D21: {=ROUND( SUMPRODUCT( _xlfn.XLOOKUP( CHOOSE({1,2,3,4}, '3. Implementation Progress'!D96, '3. Implementation Progress'!F96, '3. Implementation Progress'!H96, '3. Implementation Progress'!J96 ), TxtRating, NumRating, 0 ), Weights2 ) / SUM(Weights2), 0)} -> 4

Sheet Table of Contents
B6: FAO-GEF Project Implementation Report
B7: 2025 – Revised Template
B8: Period covered: 1 July 2024 to 30 June 2025
B9: Table of Contents
B10: =HYPERLINK("#'1. Basic project data'!N10","1. BASIC PROJECT DATA") -> 1. BASIC PROJECT DATA
B11: =HYPERLINK("#'2. Progress towards outcomes'!N11","2. PROGRESS TOWARDS ACHIEVING PROJECT OBJECTIVE(S) (DEVELOPMENT OBJECTIVE)") -> 2. PROGRESS TOWARDS ACHIEVING PROJECT OBJECTIVE(S) (DEVELOPMENT OBJECTIVE)
B12: =HYPERLINK("#'3. Implementation Progress'!N12","3. IMPLEMENTATION PROGRESS (IP)") -> 3. IMPLEMENTATION PROGRESS (IP)
B13: =HYPERLINK("#'4. Summary on progress'!N13","4. SUMMARY ON PROGRESS AND CHALLENGES") -> 4. SUMMARY ON PROGRESS AND CHALLENGES
B14: =HYPERLINK("#'5. ESS Risk'!N14","5.ENVIRONMENTAL AND SOCIAL SAFEGUARDS (ESS):RISKS FROM THE PROJECT") -> 5.ENVIRONMENTAL AND SOCIAL SAFEGUARDS (ESS):RISKS FROM THE PROJECT
B15: =HYPERLINK("#'6. Risks to the project'!N15","6. RISKS TO THE PROJECT") -> 6. RISKS TO THE PROJECT
B16: =HYPERLINK("#'7. Follow-up on Mid-term review'!N16","7. FOLLOW-UP ON MID-TERM REVIEW OR SUPERVISION MISSION") -> 7. FOLLOW-UP ON MID-TERM REVIEW OR SUPERVISION MISSION
B17: =HYPERLINK("#'8. Minor project amendments'!N17","8. MINOR PROJECT AMENDMENTS") -> 8. MINOR PROJECT AMENDMENTS
B18: =HYPERLINK("#'9. Stakeholders' Engagement'!N18","9. STAKEHOLDERS' ENGAGEMENT") -> 9. STAKEHOLDERS' ENGAGEMENT
B19: =HYPERLINK("#'10. Gender Mainstreaming'!N19","10. GENDER MAINSTREAMING") -> 10. GENDER MAINSTREAMING
B20: =HYPERLINK("#'11. Knowledge Management'!N20","11. KNOWLEDGE MANAGEMENT ACTIVITIES") -> 11. KNOWLEDGE MANAGEMENT ACTIVITIES
B21: =HYPERLINK("#'12. Indigenous & Local Involve.'!N21","12. INDIGENOUS PEOPLES AND LOCAL COMMUNITIES INVOLVEMENT") -> 12. INDIGENOUS PEOPLES AND LOCAL COMMUNITIES INVOLVEMENT
B22: =HYPERLINK("#'13. Co-Financing Table'!N22","13. CO-FINANCING TABLE") -> 13. CO-FINANCING TABLE
B23: =HYPERLINK("#'14. GEO Location'!N23","14. GEO LOCATION INFORMATION") -> 14. GEO LOCATION INFORMATION
B26: =HYPERLINK("#'Annex'!N26","Annex. Monitoring Area-based GEF Core Indicator Commitments and Progress with FERM") -> Annex. Monitoring Area-based GEF Core Indicator Commitments and Progress with FERM
B29: IMPORTANT DISCLAIMER:
B30: The final version of this PIR will be submitted to the GEF Secretariat.
B31: The report will then be publicly available on the GEF website (click here).
B32: Sensitive information should be submitted in Annex to be uploaded separately.
B33: In such cases, please contact faogef-pir-support@fao.org for guidance.

Sheet 1. Basic project data
B2: 1. Basic Project Data
B3: General Information
B4: Region: | E4: Latin America and the Caribbean (RLC)
B5: Country(ies): | E5: Republic of Trinidad and Tobago
B6: Project Title: | E6: BIOREACH: Biodiversity Conservation and Agroecological Land Restoration in Productive Landscapes of Trinidad and Tobago
B7: FAO Project Symbol: | E7: GCP /TRI/007/GFF
B8: GEF ID: | E8: 10188
B9: Type of Trust Fund(s): | E9: GFF
B10: GEF Focal Area(s): | E10: Multi-focal Area, Biodiversity, Land Degradation
B11: Project Executing Partners: | E11: The Environmental Management Authority (EMA) The National Agricultural Marketing and Development Corporation (NAMDEVCO)
B12: Initial project duration (years): | E12: Four (4) Years
B13: Project Dates
B14: GEF CEO Endorsement Date: | E14: 44406
B15: Actual Agency Approval Date | E15: 44425
B16: Project Implementation Start Date/EOD: | E16: 44593
B17: First Disbursement Date | E17: 45016
B18: Planned Project End Date/NTE1: | E18: 46053
B19: Revised project implementation End date (if approved)2: | E19: -
B20: Actual Completion Date: | E20: n/a
B21: Expected Financial Closure Date: | E21: 46418
B22: Funding
B23: GEF Grant Amount (USD): | E23: 3752162
B24: Total GEF grant delivery (as of June 30, 2025 (USD): | E24: 2208745.7
B25: Total Co-financing amount (USD)3: | E25: ='13. Co-Financing Table'!K19 -> 18702630
B26: Total estimated co-financing materialized as of June 30, 2025: | E26: ='13. Co-Financing Table'!N19 -> 8923981.4
B27: M & E Milestones
B28: Date of Last Project Steering Committee (PSC) Meeting: | E28: 45742
B29: Expected Mid-term Review date5: | E29: n/a
B30: Actual Mid-term review date (if already completed): | E30: 45788
B31: Expected Terminal Evaluation Date6: | E31: 45869
B32: Overall ratings
B33: Overall rating of progress towards achieving objectives/outcomes (cumulative): | E33: =_xlfn.XLOOKUP(ImpScore, NumRating, TxtRating, "Not Rated") -> Moderately Satisfactory (MS)
B34: Overall implementation progess rating: | E34: =_xlfn.XLOOKUP(ImpScore, NumRating, TxtRating, "Not Rated") -> Moderately Satisfactory (MS)
B35: Overall risk rating: | E35: ='6. Risks to the Project'!C43 -> Moderate
B36: Status
B37: Implementation Status (1st PIR, 2nd PIR, etc. Final PIR): | E37: 3rd PIR
B40: 1 Date that was originally foreseen at the project’s operationalization and indicated in FPMIS. 2 If NTE extension has been requested and approved by the FAO-GEF Coordination Unit. 3 This is the total amount of co-financing as included in the CEO Document/Project Document. 4 Please refer to the Section 13 of this report where updated co-financing estimates are requested and indicate the total co-financing amount materialized. 5 The Mid-Term Review (MTR) should take place after the 2nd PIR, around half-point between EOD and NTE. The MTR report in English should be submitted to the GEF Secretariat within 4 years of the CEO Endorsement date. 6 The Terminal Evaluation date should be discussed with OED 6 months before the project’s NTE date.
B45: Project Contacts
B46: Contact | E46: Name, Title, Division/Institution | I46: E-mail
B47: Project Coordinator (PC) | E47: Asif Khan – Technical Advisor – Environmental Management Authority | I47: Asif.khan@planning.gov.tt
...

Sheet Countries
A1: Select Country
A2: Afghanistan
A3: Åland Islands
A4: Albania
A5: Algeria
A6: American Samoa
A7: Andorra
A8: Angola
A9: Anguilla
A10: Antarctica
A11: Antigua and Barbuda
A12: Argentina
... A250: Zimbabwe

Sheet TypeofTrustFund
A1: Type of Trust Fund
A2: Capacity-building Initiative for Transparency (CBIT)
A3: Global Biodiversity Framework Fund (GBFF)
A4: Global Environment Facility Trust Fund (GFF)
A5: Least Developed Countries Fund (LDCF)
A6: Special Climate Change Fund (SCCF)
A7: Small Grants Program (SGP)

Sheet FocalArea
A1: Focal Area
A2: Multi Focal Area
A3: Biodiversity
A4: Chemicals and Waste
A5: Chemicals/PoPs
A6: Climate Change
A7: Climate Change Adaptation
A8: Climate Change Mitigation
A9: International Waters
A10: Land Degradation

Sheet 2. Progress towards outcomes
B1: 2. Progress towards Achieving Project Objective(s) (Development objective)
B3: (All inputs in this section should be cumulative from project start, not annual)
B5: Please indicate the project’s main progress towards achieving its objective(s) and the cumulative level of achievement of each outcome since the start of project implementation.
B6: Project or Development Objective | C6: Outcomes | D6: Outcome indicators | E6: Baseline | F6: Mid-term Target | G6: End-of-project Target | H6: Cumulative progress level at 30 June 2025 | I6: % of cumulative progress | J6: Progress rating
B7: BIOREACH: Biodiversity Conservation and Agroecological Land Restoration in Productive Landscapes of Trinidad and Tobago Objective: To promote biodiversity conservation, restore degraded lands, and improve livelihoods of rural communities in targeted productive landscapes. | C7: Component 1: Biodiversity-Supportive Land Use Planning
C8: Outcome 1.1: Biodiversity-sensitive land use planning and participatory land management mechanisms established in productive landscapes | D8: Number of participatory land use management mechanisms established Percentage of women members of land use management mechanisms | E8: Land Settlement Agency has done land use plans for the Valencia area in adjacent communities. National Quarries are doing quarry rehabilitation works on seven acres at Valencia, through a complementary GEF project. Oil exploration plans with requisite approvals planned in the area north of the Trinity Hills. Plymouth Adventure Estate Land Acquisition; driven by the community for improved and sustainable management of natural resources. Castara community environmental practices implemented by the community, driven by tourism. IWEco/Sustrust/IAMovement Project (Valencia) –A regional project which will employ/train 21 women and two men in the rehabilitation of decommissioned acreages of National Quarries lands with forest species and food crops. | F8: 2 land use management mechanisms established At least 20% of members of land use mechanisms are women | G8: 4 land use management mechanisms established At least 40% of members of land use mechanisms are women | H8: 0 land use management mechanisms established 39% of members of land use planning (stakeholder and mapping) are women [133 persons, 52 women] Land-use Plans and community mapping exercises completed for two communities (Plum Mitan and Biche) and the Tobago Scoping Report submitted (Oct 2024) and approved by TSC (Nov 2024). Consultations held with Government decision makers to seek to align on participatory land-use plans. Socio-economic assessments and communication strategies completed for Plum Mitan and Biche and approved July 2024 by Steering Committee. Phase 2 workplan under development that will achieve the 2nd Output and also to consider a rapid land use planning activity for a 4th site. To begin by August 2025 | I8: 0.4 | J8: Moderately Satisfactory (MS)
C9: Component 2: Forest and agricultural Landscape restoration and biodiversity protection through agroecology
C10: Outcome 2.1: Land degradation decreased as degraded sites are restored and productive capacity of agricultural landscapes is enhanced | D10: Number of hectares of land restored Number of hectares under improved practices | E10: Carbon Zero Initiative ongoing at various locations (working primarily with schools) on importance of reforestation. IWEco/Sustrust/IAMovement Project: regional project focused on rehabilitating decommissioned acreages of National Quarries. Fondes Amandes Community Reforestation Project: mainly in the St. Ann’s Valley; focuses on forest fire prevention, environmental education, reforestation. National Gas Company reforestation programme: selected areas, initiated along the 56-foot pipeline running from Galeota to Pt. Fortin. National Reforestation and Watershed Rehabilitation Programme, Forestry Division: nationwide programme funded from URP budget with supplementary staff from URP labour force. Broad leaf species plantation at Courland by Forestry Division, Tobago: ongoing initiative over four acres Mason Hall reforestation: reforestation programme in Tobago Cocoa Growers Association: Rehabilitation of cocoa estates at Lure Estate in Goldsborough, Dove Cocoa Estate in Argyle Bayleaf Estate in Hope, Tobago. Project model can be used as a guidance to implement priority areas Corbin Local Wildlife Park: breeding of local wildlife and releasing them back into the wild (Private enterprise) | F10: 500 hectares 400 hectares | G10: 1,400 hectares of degraded lands restored 1,000 ha of land under improved practices | H10: 60.5 hectares of land restored - 4.89 ha fire-traced in St. Michael’s Reserve restored, a further 11.01 protected by fires tracing; 30.5 protected nationally; 4.1 ha rehabilitated in the Catshill reserve and 10 ha at the Chatham Forest reserve; 2,640 hectares under improved practices through the implementation of integrated wildfire management techniques at the following reserves – Tacarigua – 868 ha, Maracas – 943 ha, Caura – 102 and Plum Mitan/ Nariva – 466 ha, Black Rock, Courland Reserve (Tobago) - 38 ha; 223 ha of degraded coconut farms protected through training and installation of hormone traps for the South american palm weevil (42 farms, 87 traps deployed). Pest management plan completed and approved for reducing the Red Ring Disease (RRD) in Coconut Palms via management of the South American Palm Weevil (SPM) Rynchophorous palmarum. Two others drafted for the management of the Witches’s Broom (Monilliophthora perniciosa) and Black Pod (Phytophthora palmivora) in Cocoa. 1,000 cocoa plants distributed to farmers (La Reunion Station), with 1,000 breadfruit trees and 800 grafted avocado plants propagated for agroforestry. 3 agroforestry pilot sites identified (St. Michael’s, Lopinot, Maracas). 115 personnel trained in wildfire management (Forestry Division, CBOs, Fire Services). Integrated Wildfire Management developed and implemented 20+ farmers trained in SAPW/RRD management; Cocoa Disease Survey conducted in Tobago (Frosty Pod, Witches’ Broom management). | I10: 0.31 | J10: Moderately Satisfactory (MS)
C11: Outcome 2.2: Restoration of habitats and ecological corridors between protected areas | D11: Number of hectares of restored habitats | E11: National Reforestation and Watershed Rehabilitation Programme in Trinidad and Tobago Protectors of the Environment based in the Lopinot valley carried out replanting and education exercises- one off event but may be repeated GEF-IWEco- project with aim to work with National Quarries in Turure to rehabilitate quarries. Sites not yet finalised. Nature Seekers reforestation project in Matura Protected Area. The Trinidad and Tobago Field Naturalists’ Club (TTFNC) is planning to launch a herpetofauna conservation and education study and campaign across protected areas in Trinidad and Tobago Adopt a River Programme-a community-based approach to watershed management-has been working with communities along several rivers in both islands. Recovery plans for piping-guan and white-tailed sabrewing were developed in 2011 but not implemented. | F11: 50 hectares | G11: 100 hectares with restored habitat | H11: 33.5 hectares of restored habitats 6.3 km (25 Ha) of riparian forest established along Jagruma River (Plum Mitan, Trinidad) with 3,500 native plants installed. 5 km (8.5) restored in Tobago (Les Coteaux/Providence) with 235 mixed species planted. Baseline surveys completed in Nariva (Trinidad) and Mason Hall (Tobago) corridors. Citizen science initiative: Trained 80 students, 12 teachers, and 24 community members in biodiversity monitoring. In Trinidad, participants generated 442 observations representing 260 species. In Tobago, school participants generated 518 observations representing 176 species, while community members made 264 observations representing 124 species. Equipment procured for long-term monitoring. Species Recovery Plans (Output 2.2.3) White-tailed Sabrewing (Tobago): Bird banding workshop held (October 2024; 21 participants trained). Ongoing monitoring under LOA with TRWRP. Trinidad Piping Guan: Stakeholder workshop conducted (January 2025); acoustic recorders deployed for monitoring to determine range and population size. Collaboration with EMA’s PSIP for conservation synergy. | I11: 0.61 | J11: Satisfactory (S)
C12: Component 3: Enabling Environment For Green, Biodiversity-Friendly Value Chain Development
C13: Outcome 3.1: Emerging value chains produced sustainably to build resilience to climate change while conserving biodiversity, and supporting livelihoods | D13: Percentage of producers, disaggregated by sex, converting to sustainable practices Number of farmer field schools providing capacity training on sustainable development | E13: Cropper Foundation with IDB, is developing a voluntary certification programme for pesticide usage and microbial content, even use of child labour on the farms. Programme will be monitored by NAMDEVCO and testing will be conducted by CARIRI. Currently, Talparo Estate sustainably produces garlic, pepper, cinnamon and encourages the growth of wild tobacco and wild senna. Wild tobacco seeds are preferred food for birds in that area. Farmers in Moruga involved in production of Hill Rice, benne (Sesame Seed), and corn (Warao). The waste from rice promotes the production of additional offspring from agouti. Instead of one or two, they may be able to produce up to four. The farmers are working with The UWI, using CO2 to alter the colour of the meat to a pinker hue to better promote the meat for overseas markets. Tobago: Integrated farming systems have been established in Starwood, Speyside Flagstaff,Charlotteville, Bloody Bay | F13: At least 30 per cent of farmers engaged have converted to sustainable practices 4 farmer field schools are conducted 4 farmer field schools are conducted | G13: At least 60 per cent of farmers engaged have converted to sustainable practices 8 farmer field schools are conducted 8 farmer field schools are conducted | H13: 0 farmers engaged have converted to sustainable practices 20 lead farmers selected to begin training in July 2025 0 farmer field schools are conducted 1 field site selected and is being prepared for the start of the training in July. 3 other sites identified as other sites for field schools. Soil baseline analysis initiated for these selected farms (completed for Cocoa Growing Areas). Value Chain Development: Cocoa, coconut, sweet potato, and pineapple prioritized for green value chains. Market mapping completed for key commodities (coconut, sweet potato, breadfruit, avocado, pineapple). Cocoa value chain being developed through LOAs; 1st phase completed and second phase to begin in July. 1,000 cocoa plants distributed to farmers (La Reunion Station, May 2025). Agronomist, IPM Specialist and Value Chain Specialist hired and developing plans/ modules. First mission completed in June 2025 Completed feasibility studies for 3 biodiversity-friendly value chains Developed marketing strategies for FFSTP curriculum (launching June 2025) Initiated GAP certification training for farmers through NAMDEVCO Established Community of Practice model through Cropper Foundation LOA Finalized partnership framework approved by TSC (Feb 2025) Farmer Field Schools Curriculum Finalized: 100% completed, with modules on IPM, agronomy, and business planning to begin in July. | I13: 0.16 | J13: Moderately Unsatisfactory (MU)
C14: Outcome 3.2: Enabling environment for green, biodiversity-friendly value chain development | D14: Number of small producers, (disaggregated by sex) selling to new and larger markets Percentage of producers whose income has increased through sustainable production | E14: Existing markets: Las Hermanas Estate, Santa Cruz; Wa Samaki, Freeport; Toco Foundation | F14: 100 small producers; 50 per cent of which are women At least 10% of producers have experienced an increase in income; half of which are women | G14: At least 200 small producers; 50 per cent of which are women At least 20%; half of which are women | H14: 0 small producers selling to new and large markets Completed feasibility studies for 3 biodiversity-friendly value chains Developed marketing strategies for FFSTP curriculum (launching July 2025) Initiated GAP certification training for farmers through NAMDEVCO Established Community of Practice model through Cropper Foundation LOA Finalized partnership framework approved by TSC (Feb 2025) | I14: 0.14 | J14: Moderately Unsatisfactory (MU)
C15: Outcome 3.3: Green value chains policy informs national level agricultural development | D15: Number of roadmaps produced outlining green value chains policy | E15: No existing agricultural policy addresses agroecological considerations and gender dimensions | F15: 0 Roadmap produced outlining a green value chain policy | G15: 1 Roadmap produced outlining a green value chain policy | H15: 0 Roadmap produced outlining a green value chain policy To be pursued in 4th year of the Project; possible service provider identified and discussions with key stakeholder ongoing. | I15: 0.1 | J15: Satisfactory (S)
C16: Component 4: Knowledge Management and Monitoring
C17: Outcome 4.1: Improved knowledge management on biodiversity and land degradation issues | D17: Number of knowledge materials produced for appropriate audiences (government ministries, CBOs, local communities) Number of public awareness campaigns on improved land use Number of curriculums produced for Lead Farmer Training Programme | E17: None for this project | F17: At least 4 knowledge materials produced for appropriate audiences At least 2 public awareness campaigns on improved land use 1 curriculum produced for Lead Farmer Training Programme | G17: At least 8 knowledge materials produced for appropriate audiences At least 4 public awareness campaigns on improved land use 1 curriculum produced for Lead Farmer Training Programme | H17: 6 knowledge materials produced for appropriate audiences Project Information Flyer/banner Agroecology 101 Standing banner Angstrom Index Branded notebooks and jotter pads Wildfire brochures and posters Pest Management Plans for Red Ring Disease and cocoa diseases (drafts submitted for review). Technical report on the Restoration of fire burnt hillsides Citizen Science Training Manuals for schools/communities (UWI, June 2024). 2 public awareness campaigns on improved land use completed Public Awareness Campaigns (Target: 4) Completed: Wildfire sensitization: Brochures/posters distributed to schools/communities (Feb 2025) in Trinidad; Tobago programme is being designed. Citizen Science Program: Engaged 80 students, 12 teachers, and 24 community members in biodiversity monitoring (field trips conducted June 2024). 1 curriculum produced for Lead Farmer Training | I17: 0.63 | J17: Satisfactory (S)
C18: Outcome 4.2: Ongoing monitoring feeds into adaptive project management | D18: Number of instances where monitoring promotes adaptive management (e.g., adjustment in budget, project priorities, changes in messaging to resonate with audiences) | E18: None for this project | G18: 4 instances where monitoring promotes adaptive management | H18: 4 instances of Adaptive Management documented and actioned uccessfully implemented Gender and Youth Action Plan (GYAP) with: Revised results framework incorporating 12 gender-sensitive indicators Customized data collection tools for gender-disaggregated monitoring Virtual refresher training conducted for project staff (March 2025) Achieved 36% women participation across all project activities, surpassing baseline of 25% Communication Strategy completed and implemented; key stakeholders trained Deployed comprehensive M&E framework to all implementing partners Conducted 3 capacity-building sessions for stakeholders on data collection and reporting Executed monitoring visits to project sites in Trinidad (February 3) and Tobago (February 6) Operationalized risk and change management logs | I18: 0.57 | J18: Satisfactory (S)
B20: Average Cumulative progress toward outcomes (%) | C20: Time elapsed since project start/EOD vs Planned Project End Date | D20: % of delivery
B21: =IFERROR(AVERAGE(I7:I18),"") -> 0.365 | C21: =IF(OR('1. Basic project data'!E16="",'1. Basic project data'!E18=""),"",(TODAY()-'1. Basic project data'!E16)/('1. Basic project data'!E18-'1. Basic project data'!E16)) -> 0.90205479 | D21: =IF('1. Basic project data'!E23=0,"",'1. Basic project data'!E24/'1. Basic project data'!E23) -> 0.58865948
B27: Development Objective (DO) Ratings, and Overall Assessment
B28: Please note that the overall DO ratings should be substantiated by evidence and progress reported above. The ratings and comments should reflect the overall progress of results since project start
C30: FY2025 Development Objective rating¹ | D30: Project Manager/ Coordinator | E30: Budget Holder | F30: Lead Technical Officer13 | G30: GEF Operational Focal Point | H30: GEF Technical Officer (GTO)
D31: Moderately Satisfactory (MS) | E31: Not Rated | F31: Not Rated | G31: Not Rated | H31: Moderately Satisfactory (MS)
C32: Comments/reasons¹² justifying the ratings for FY2025 and any changes (positive or negative) in the ratings since the previous reporting period | D32: Even though progress is behind the projected level of implementation, the partners are still working towards the defined development objectives. There have no been any major departures from the project's framework and targets, but delivery of the targets themselves are below the mid term targets in many of the outcomes. With the completion of the MTR and recommendations expected soon, a comprehensive assessmnt and strategies for either achieving targets or seeking to revise said targets will be done, this is expected in the next quarter. Reasons for inability to meet some of the targets at present (E.g reforestation) are outlined in the PIR | H32: The project presents delays in implementation but there is still partner commitments to complete the program. Local communities are reluctant to participate in planning processes unless they see tangible benefits. Similarly, restoration programs have started but are below MTR targets. Farmer field schools, IPM activities, and restoration of ecological corridors are advancing satisfactorily and are expected to be completed according to plan. The value chain activities also present delays. The results of the MTR will inform the need and the conditions for a project extension
B35: Measures to address MS, MU, U and HU ratings on Section 2 above
B38: Outcome | D38: Action(s) to be taken | F38: By whom? | H38: By When?
B39: Outcome 1.1: Biodiversity-sensitive land use planning and participatory land management mechanisms established in productive landscapes | D39: Phase 2 LOA with Service Provider to be executed; Seek to integrate more tangible benefits to community stakeholders; Ensure proper land use planning principles are integrated; Seek to further discussions with national planning agency with regards to continuing or implementing aspects of the planning mechanisms | F39: PMU/ FAO/ Service Provider | H39: Q3 2025
B40: Outcome 2.1: Land degradation decreased as degraded sites are restored and productive capacity of agricultural landscapes is enhanced | D40: Support activities that are working well and identified as priorities by stakeholders e.g coconut rehabilitation. Examine feasibility of reforestation/ agroforestry targets in light of high labour costs and other challenges, explore alternative strategies with key stakeholders | F40: PMU/ LTO/ Executing Partners | H40: Q3 and Q4 2025
B41: Outcome 3.1: Emerging value chains produced sustainably to build resilience to climate change while conserving biodiversity, and supporting livelihoods | D41: Continue efforts to undertake the leaf farmer training and seek to develop stratagies to bring on more farmers; lauch Tobago lead farmer training; Ensure certification of the LFL as this is a big incentive of the training; seek to support sustainability of the programme by involving key Ministry's and the FAO; Allow LOA partners (CRC/ CDCTTL) to further efforts in the development of the cocoa green value chain | F41: Executing partner/ LTO/ PMU | H41: Q3 and Q4 2025
B42: Outcome 3.2: Enabling environment for green, biodiversity-friendly value chain development | D42: Further evaluate the partners ability to complete outcome | F42: LTO/ PMU/ Executing partner | H42: Q3 2025
B43: 7 Some indicators may not identify mid-term targets at the design stage (refer to approved results framework) therefore this column should only be filled when relevant. 8 Use GEF Secretariat required six-point scale system: Highly Satisfactory (HS), Satisfactory (S), Moderately Satisfactory (MS), Moderately Unsatisfactory (MU), Unsatisfactory (U), and Highly Unsatisfactory (HU).

Sheet 3. Implementation Progress
B1: 3. Implementation Progress (IP)
B3: (Please indicate progress achieved during this FY as per the Implementation Plan/Annual Workplan)
B5: Outcomes and outputs | D5: Indicators (as per the logical framework) | F5: Main achievements in the last 12 months (please DO NOT repeat results reported in previous year PIR) | L5: Describe any variance 9 in delivering outputs
B7: Outcome 1: Biodiversity-sensitive land use planning and participatory land management mechanisms established in productive landscapes
B8: Output.1.1.1: Land use plans identifying high value conservation areas, productive terrestrial landscapes in buffer zones, and climate change resilience measures, are developed and validated | D8: Land use plans with clear strategies for management of vulnerable resources/sites Validation by communities of land use plans Land use plans include gender considerations | F8: Significant strides have been made over the past 12 months in advancing the development and validation of critical land-use planning mechanisms through the completion of the land use plans and the mapping exercises, building on initial stakeholder engagements and foundational assessments previously completed. Key achievements within the July 2024 to June 2025 period include: Land-use Plans developed and validated for Plum Mitan and Biche: Validation workshops for draft land-use maps were successfully conducted in Biche and Plum Mitan in August 2024. The data from these workshops has been collated to inform the final land-use plans for these two sites. Revised Socio-economic assessments of the Plum Mitan and Biche communities and the Stakeholder Engagement and Communication Strategy for Component one Phase one were approved by the Technical Advisor on 30th July 2024, following earlier submissions. Progress in Tobago Land-use Planning: Stakeholder consultations continued in Tobago, including a meetings in August 2024 and ongoing interviews conducted by the Tobago Technical Advisor and CANARI Technical Officer. The Belmont Estate site and the entire Hillsborough watershed was selected as the focal area for land-use planning in Tobago, based on stakeholder recommendations. The Tobago Scoping Report was submitted to the PMU on 31st October 2024 and approved by the TSC on 8th November 2024. | L8: Delays by the LOA service provider resulted in the FAO granting a no cost extension to 31st October 2024. A key challenge is attempting to make the initiatives tangible. Communities are reluctant to participate if they do not see real benefits beyond meetings to discuss the plans. As such, Canari is exploring options towards integrating community forestry, recreation/ tourism activities and also linking them to other project activities taking place within the areas. Additionally, a 3rd site for Trinidad has not yet been initiated as there were secuirty concerns with site (Valencia) proposed in the ProDoc; feasibility of a 3rd site is currently being assessed as the 2nd phase is due to begin by August 2025. These challenges and overall later start to the Project will not make it possible to achieve the desired targets by the NTE, therefore an extension is to be requested following completion of the MTR.
B12: Output 1.1.2: Multi-stakeholder committees are established in four ecologically vulnerable areas | D12: Multi-stakeholder committees exist, with adequate representation from various interest groups | F12: Execution of this output is largely proposed for the 2nd phase LOA. However, some activities have been accomplished in phase 1 such as identifying key stakeholders, convening stakeholders through participatory process and conducting community consultations to identify/respond to local level needs and mainstreaming the understanding of land use plan; identifying key players that will represent community needs. The 2nd phase LOA scheduled to begin in August 2025 will include the formulation of the multistakeholder committees and seeking commitment for the plans. | L12: Output is also delayed but the ground work has already been done in the 1st phase of the LOA. Tobago land use planning and a possible 3rd site in Trinidad will be done via a rapid and continuous approach. For Tobago, there is already Government support for the area proposed.
B15: Outcome 2.1: Land degradation decreased as degraded sites are restored and productive capacity of agricultural landscapes is enhanced
B16: Output 2.1.1: Diversified, integrated agroforestry production systems upscaled in 2,000 hectares of degraded lands | D16: 2,000 hectares of agroforestry on degraded lands | F16: Site Identification and Collaboration: Meetings with the Forestry Division in April 2025 led to the identification of three agro-forestry sites – St. Michael's, Lopinot, and Maracas – as potential sites for rehabilitation. Formal proposals from the Forestry Division are awaited to proceed. In Tobago, the Louis D'or estate and the THTI with TT fine Cocoa site at Blemheim were identified as potential areas, with a site visit conducted in April 2025. Consideration is being given to utilising reforestation workers in Tobago for execution. Planting Material Propagation and Distribution: 1000 cocoa plants propagated at La Reunion Propagation Station were successfully distributed to selected Cocoa Farmers on 28th May 2025. 1000 Yellow Breadfruit trees have been propagated at La Reunion Propagation Station and are ready for distribution to selected farmers, prioritising those in the Farmer Field School Training Programme. 1984 avocado seeds have been propagated for rootstock, and 800 scions were grafted at La Reunion Propagation Station. These are slated for distribution for agroforestry rehabilitation. Discussions are ongoing with Marper Farms to procure and propagate local coconut seednuts for distribution. Technical specifications are awaited for the installation of an irrigation system for an 18-month bearing Guyanese Variety coconut seedbank at Marper Farms. Farmer Engagement and Production Method Development: Cocoa farmers were identified through CDCTTL and CRC collaborations for plantation rehabilitation, this will be done via the 2nd phase of LOA’s with both institutions, and coconut farmers are being identified through South American Palm Weevil (SAPW) trap distribution activities. Farmers interested in expanding diverse agroforestry and plantation rehabilitation are being identified through the Lead Farmer Training Programme with 20 Lead Farmers confirmed. Production methods for cocoa and coconuts, already developed by MALF CDCTTL, CRC, and the Caribbean Agricultural Research and Development Institute (CARDI), will be used to direct the restorations. Site-specific optimal production methods are being developed by the Agronomist. | L16: National Supply of Planting Material: There are national issues concerning the consistent supply of planting material for cocoa and coconuts, requiring the project to actively seek and support programmes aimed at increasing availability. Agro-forestry farmers: There are fewer persons in agro-forestry as indicated by consultations with the Forestry Division, this is due in part of land tenure issues. The proposed direction is to pursue the rehabilitation of coconut and cocoa estates. Awaiting Formal Proposals and Collaboration: Progress on certain activities is contingent on receiving formal proposals, such as from the Forestry Division for agroforestry rehabilitation activities and from the Rural Development Company (RDC) regarding potential collaboration on their reforestation project. There were numerous shifts within the supporting Ministry’s of technical staff, this unfortunately resulted in further delays in the preparation and approval of proposals. Logistical Support for Seednut Collection: The procurement and propagation of local coconut seednuts are awaiting a proposal from the Agri-Services Technical Officer to support vehicle repairs necessary for seednut collection. Technical Specifications Outstanding: The installation of the irrigation system for the coconut seedbank at Marper Farms is awaiting technical specifications from the Division.
B20: Output 2.1.2: Agroecological and climate-smart best practices disseminated through farmer field schools, model farms and capacities of extension services are improved | D20: Number of farmer field schools Number of trainings for extension services | F20: This Output is contingent on the lead farmer/ farmer field school training programme which is on schedule to begin in July 2025. The Master Trainer, IPM Specialist and Agronomist have been onboarded. The Training Curriculum has been completed and approved training of the 1st cohort; this includes 20 farmers and 8 extension Officers from the Ministry. Plans are in place to engage and/or form farmer clusters in selected areas, with Lead Farmers expected to disseminate their acquired knowledge and curriculum to other farmers in their respective communities. Staff involved in the training are expected to host similar training sessions for farmers and colleagues in their districts, ensuring continuity and broader reach of the disseminated practices. A training centre and all training materials have also been procured. Farmer Agreements have been drafted by the Master Trainer and reviewed NAMDEVCO. Lead Farmers will be required to sign these agreements before training commences and before their holdings are utilised as model farms, formalising their participation. | L20: While the output is behind, the last period has brought significant accomplishments and the Project Management Unit is confident that the partner can accomplish the outputs, but an extension of time will be required in order to achive such. The initiative and overall collaborative efforts is new to the country and significant stakeholder engagement was required to reach this point.
B24: Output 2.1.3: Degraded forests restored and an integrated wildfire management system developed | D24: Integrated wildfire management system developed | F24: The past 12 months have seen substantial progress in both the restoration of degraded forest areas and the development and implantation of the integrated wildfire management system, including significant capacity building initiatives. Degraded Forest Restoration and Management: Building on earlier efforts, rehabilitation of frequently burned areas at the St. Michael’s reserve in Tacarigua continued. A 9.5 hectare block was prepared, and clearing and fire tracing activities were undertaken by community labourers. A further 4.5 hectares were restored and is actively being maintained, with the possibility to expand to an additional 5 hectares. A Technical Report on the intervention of fire burnt slopes has been finalised and submitted for review to the Forestry/EMA working group. The Open Block Management training was successfully carried out at Cedros Reserve during 19th-21st May 2025 by FAO Consultant Dr. Claus Eckelmann. This led to the restoration through enhanced management practices via the Future Crop Tree methodology of 10 hectares of forests formerly managed under the Open Block system. Dr. Eckelmann also conducted a site visit to Courland on 16th May 2025 to assess the pilot site for rehabilitation activities. Integrated Wildfire Management System Development: The preliminary model of the wildfire management system, developed by the GIS Unit of the Ministry of Agriculture, Land and Fisheries (MALF) and the Forestry Division with EMA support was completed with the inclusion of 5 years of data and the creation of the GIS based database and supporting applications to log new fires during the 2025 fire season. It was implemented through the training of officers from all six forestry conservancies in March/ April 2025. In Tobago, a Wildfire Management Working Group was successfully established, a key recommendation from the Wildfire Management Specialist. This group aims to improve coordination, prevention, control, and education regarding wildfires. Capacity Building and Community Engagement: Building on prior training, over 75 persons were trained in both classroom and field settings in January 2024, encompassing a full spectrum of integrated wildfire management strategies. This contributes to the total of 115 persons trained in capacity building for monitoring, preventing, detecting, and suppressing wildland fires. The cohort includes personnel from the Forestry Division (Trinidad and Tobago), National Reforestation and Watershed Rehabilitation Programme, Community-Based Organisations (CBOs), GIS professionals, Fire Services, and Disaster Management Agencies. This has influenced a further 2,417 Ha. under improved practice from its implementation of the integrated wildfire management techniques at the following reserves – Tacarigua – 868 ha, Maracas – 943 ha, Caura – 102 and Plum Mitan/ Nariva – 466 ha, Black Rock, Courland Reserve (Tobago) - 38 ha EMA procured posters and brochures for sensitisation sessions via outreach and public campaigns related to wildfires Community-based fire training to be undertaken via the EMA has selected the University of Trinidad and Tobago as the service provider in June 2025. Training is expected to begin in early July. | L24: The main challenge is the cost to rehabilitate the degraded forest. The Project during the PPG phase identified the National Reforestation Programme to conduct the replanting activities (providing casual labour) as part of the cofinancing support. However when the project was approved for implementation, the entity was moved to another state agency which did not provide the support. As a concequence, the EMA with guidance from the Forestry Division have been employing experienced persons to perform the restoration activities. While the cost are comparably high at an estimated 5,000 USD per hectare, the terrain is difficult and continuous maintenance of the plots due to rapid regrowth of vegetation, the success and low mortality rates are promising
B28: Output 2.1.4: Pest management plan established for three sites | D28: Pest management plan for three sites | F28: Over the past 12 months, significant advancements have been made in establishing and implementing pest management strategies, particularly for coconut and cocoa, across various sites. This period has seen a strong focus on trap distribution, farmer training, and the formalisation of pest management plans, along with efforts to address planting material sourcing. Through NAMDEVCO, the pest management plan for managing red ring disease as a result of the South American Palm Weevil has been completed and is being implemented. Furthermore, two other plans for managing Witches' Broom and Black Pod disease has been drafted and should be completed in Q3 of 2025. Pest Management Plan Development and Approval: The final draft Pest Management Plan for the South American Palm Weevil (SAPW) was approved by the Technical Steering Committee (TSC) and has been submitted to the newly onboarded IPM specialist for final review and drafting. A Cocoa Disease Pest Management Plan draft has also been submitted to the IPM Specialist for review and final drafting, encompassing strategies for Witches' Broom and Black Pod Diseases, building on existing methods developed by CDCTTL. An IPM Specialist was onboarded, and is actively developing IPM components for the Farmer Field School (FFS) curriculum, including plans for site-specific pest management based on scheduled on-site assessments in June 2025. South American Palm Weevil (SAPW) Management: The project continued the distribution of SAPW traps and pheromones through NAMDEVCO Field Officers and MALF county offices. To date, a total of 223.44 hectares across 42 farms have been covered in Trinidad, with 87 traps capturing 1928 weevils. In Tobago, an estimated over 2000 weevils have been captured and disposed of on farms. 100 more traps and pheromones are planned for construction and distribution in Q2 2025, adding to the 150 traps already completed. Fourteen farmers in Tobago and two extension officers from THA-FSNRESD received targeted training on managing the South American Palm Weevil in coconut plantations. Field studies for the South American Palm Weevil have been completed, contributing to the development of the pest management plan. Cocoa Disease Management and Training: The project is providing support to existing Witches’ Broom Disease and Black Pod Disease management strategies, which are already being executed by CDCTTL in cocoa growing areas. The MALF Research Division provided crucial support through a Cocoa Disease Survey and Training Initiative in Tobago from 19th-21st March 2025. This initiative included training on Frosty Pod Disease sample collection and preparation, as well as management strategies for Witches’ Broom and Black Pod Diseases for 20 THA Field Staff. Training and Collaboration: Training for South American Palm Weevil (SAPW)/Red Ring Disease (RRD) management was conducted earlier, with pheromones and materials for weevil trap construction procured and distributed. Collaborative activities (training, knowledge transfer, factsheets, technical documents) are being planned with relevant entities such as MALF Research Division, ETIS, THA, CARDI, IICA, CABI, and FAO to enhance scientific capacities. Training and capacity building for Lead Farmers and Trainer of Trainers are scheduled to be conducted during the Farmer Field School Training Programme (FFSTP). Establishment of better monitoring of inter-island movement of planting materials to avoid introducing pests is to be developed upon the IPM Specialist's visit in June 2025. | L28: Dependence on External Proposals and Specifications: Progress on some activities, particularly related to the propagation of local coconut seednuts and the installation of irrigation systems at Marper Farms, is contingent on receiving proposals from ASTO for vehicle repairs and technical specifications. Awaiting Costing for Imported Planting Material: The importation of Antigua Black Pineapple plantlets and coconut seednuts from Brazil is awaiting costing information from CARDI.
B32: Outcome 2.2: Restoration of habitats and ecological corridors between protected areas
B33: Output 2.2.1.: Biodiversity data is collected in corridors between PAs | D33: New biodiversity-related data | F33: This output has progressed well and has achieved the targets. All that will remain to to conduct a post intervention survey at the end of the final year to determine impact of the interventions. Biodiversity Baseline Surveys: The biodiversity surveillance baseline surveys, undertaken through a Letter of Agreement (LOA) with the Life Sciences Department under UWI – St. Augustine were completed in September 2024. Site selection for restoring riparian corridors was successfully completed in Plum Mitan, Trinidad (a corridor adjacent to the Nariva PPA) and in Mason Hall, Tobago (a restoration corridor in proximity to the Main Ridge Forest Reserve), providing clear geographical focus for data collection. Citizen Science Initiative: The citizen science initiatives were also completed in Q3 of 2024. This initiative was designed to involve local communities and educational institutions directly in data collection efforts. A total of 80 students and 12 teachers, along with 24 community members, are undergoing training in biodiversity monitoring and receiving general education on the value of biodiversity and ecosystem services. This indicates a significant investment in local capacity building. Three (3) virtual and in-person training sessions were conducted by UWI for both schools during May 2024, ensuring comprehensive instruction. Field trips to Sand Hill, Nariva (for Biche Secondary) and Corbin Local Wildlife Park (for Mason Hall Secondary) took place in June 2024, providing practical, hands-on experience for participants. In Trinidad, participants generated 442 observations representing 260 species. In Tobago, school participants generated 518 observations representing 176 species, while community members made 264 observations representing 124 species; this also inncluded a species not previously recorded for the island! The new biodiversity data that was generated was handed over for inclusion in the National Biological Information System (BIS-TT). The Project has successfully procured essential equipment, tools, and literature to support and aid in the effective execution of the citizen science initiative, ensuring participants have the necessary resources. | L33: There were no major challenges except with some early delays in beginning execution. However, this output was overwhelmingly well received by all stakeholders and holds opportunities for upscaling. Also considering that the project has only begun to plant trees in year 2 and 3, observable impacts might be limited in the 4th year. It is therefore worth considering to use the available resources towards the citizen science initiatives that are aligned with the project.
B37: Output 2.2.2. Riparian forest established with native species in riverbanks between PAs (15 kilometers) Target 100 hectares of degraded forested lands | D37: Number of hectares forested | F37: Riparian Forest Establishment (Tobago): Planting activities commenced in Tobago on 10th October 2024 and concluded on 20th December 2024. A total of 235 mixed species plants were installed along 5 km of riverbank from Les Coteaux into Providence, marking a tangible step in restoration efforts. The exercise in Tobago is planned to be scaled-up at sites with existing labour pools, in collaboration with the Tobago Reforestation and Watershed Rehabilitation Programme (TRWRP). Riparian Forest Establishment (Trinidad): Planting activities in Trinidad commenced on 16th December 2024 and were completed by 31st December 2024. An estimated 3500 plants were successfully installed along approximately 6.3 km of riverbank along the Jagruma River in Plum Mitan, representing a substantial restoration effort. Maintenance and Fire Patrol contracts were executed from 18th-22nd April 2025 in Plum Mitan, demonstrating proactive measures to protect the restored area. This continued as at June 27th 2025 and is proposed for the remainder of the year. A memo was sent to the Permanent Secretary (PS) of MALF on 28th March 2025, notifying them of the completed Phase 1 restoration works in Plum Mitan and requesting a meeting to discuss the sustainability of project activities to maximise their impact and longevity. | L37: Damage to Restored Areas: A significant setback occurred on 18th February 2025, when an excavator intruded into the south-eastern area of the restored site in Plum Mitan, resulting in the destruction of an estimated 170-180 trees and damage to the corridor. This incident necessitated site visits by EMA and Forestry Division representatives, and high-level intervention was requested from the Ministry of Works and Transport (MOWT) in March 2025. Joint site visits were scheduled, and the EMA's enforcement unit is investigating potential breaches to Environmentally Sensitive Area Rules. • Damage to Restored Areas: A significant setback occurred on 18th February 2025, when an excavator intruded into the south-eastern area of the restored site in Plum Mitan, resulting in the destruction of an estimated 170-180 trees and damage to the corridor. This incident necessitated site visits by EMA and Forestry Division representatives, and high-level intervention was requested from the Ministry of Works and Transport (MOWT) in March 2025. Joint site visits were scheduled, and the EMA's enforcement unit is investigating potential breaches to Environmentally Sensitive Area Rules. Cost are high, but the activity has been able to employ upwards of 60 different persons in the communities, which not only directly brings benefits, but increases the awareness and potential buy-in to the project.
B41: Output 2.2.3. Recovery plans for significant species (e.g., piping-guan, white-tailed sabrewing hummingbird) in productive landscapes are implemented | D41: Number of recovery plans | F41: This output is also well advanced with both recovery plans now being implemented. All equipment was also procured and deployed. This output has high impact and can potentially be upscaled. White-tailed Sabrewing Hummingbird (Tobago): A Letter of Agreement (LOA) with the Tobago Reforestation and Watershed Rehabilitation Programme (TRWRP) for a one-year monitoring and training programme was signed by TRWRP on 19th July 2024. A kick-off meeting between FAO and TRWRP was held on 23rd July 2024, outlining the contract overview. A bird banding workshop for the White-tailed Sabrewing took place at Main Ridge, Tobago, from 7th-11th October 2024, engaging a total of 21 participants. This workshop was supported by EMA, and necessary equipment and tools for the workshop were procured. Ongoing monitoring and reporting activities under the LOA between TRWRP and FAO continued until 31st May 2025, indicating a sustained effort in data collection and conservation. A letter seeking an extension till October 2025 was received and approved by the LTO. Trinidad Piping Guan (Pawi): The Approach for Implementation of the Species Recovery Plan for the Pawi was approved by the TSC via round robin on 2nd February 2024, establishing a clear operational guideline. Requisitions and procurement strategies for material and equipment to monitor the species and for training community members in community conservation were submitted to EMA Procurement in July 2024, with delivery of goods and material completed. A Pawi stakeholder workshop was conducted on 22nd and 23rd January 2025 at the Caroni Visitors’ Centre by Dr. Mark Hulme from the University of the West Indies (under EMA's Public Sector Investment Programme, PSIP). Installation of acoustic recorders commenced on 27th January 2025, a key activity for monitoring the species in its habitat. Community training took place in April 2025 and members are involved in the data collection. Next phase involves the public education and data analysis with recommendations. | L41: Coordination with Overlapping Programmes: The project actively acknowledged and is managing the overlap with EMA’s Public Sector Investment Programme (PSIP) funding for Pawi conservation. A decision was taken for both projects to support one another towards shared objectives, which requires ongoing coordination.
B45: Outcome 3.1: Emerging value chains produced sustainably to build resilience to climate change while conserving biodiversity, and supporting livelihoods
B46: Output 3.1.1: Agroecological practices are implemented along five priority green value chains (cocoa, coconut, avocado, pineapple, roots and tubers) and specialized commodities (e.g. Moruga Hill Rice) | D46: Types of agroecological practices implemented along five priority, sustainable, value chains | F46: The past 12 months have seen foundational work and significant progress in developing strategies, conducting assessments, and advancing training to implement agroecological practices across key green value chains, particularly for cocoa, coconuts, sweet potato, pineapple, and avocado. Key achievements within the July 2024 to June 2025 period include: Green Value Chain Analysis and Selection: Value Chain Specialist engaged. Market Mapping surveys have been successfully completed for selected commodities, including coconuts, sweet potato, breadfruit, avocado, and pineapple. Sweet potato, coconuts, and pineapple have been officially selected as the priority commodities for green value-chain development, focusing future efforts. Key stakeholders have been identified and engaged to assist in the execution of these initiatives. Cocoa Green Value Chain Development and Research: The Cocoa value chain report, developed under the FAO’s One Country One Priority Product (OCOP) initiative, is actively being utilised to guide the development of the green value chain for cocoa, providing a strategic framework for interventions. The first phase under the Letters of Agreement (LOAs) with the Cocoa Research Centre (CRC) and the Cocoa Development Company of Trinidad and Tobago (CDCTTL) were completed which led to the production of several key documents. These include: Selection of Agro-Ecological Zones and Cocoa Growing Communities and farms, establishing the target areas for intervention. A Survey instrument for determining risk mitigation & biodiversity management practices on farms towards a sustainable cocoa industry. An Environmental risk mapping and mitigation strategy towards green value chain certification of cocoa. A comprehensive Sustainability Status of the Cocoa Industry in Trinidad and Tobago - Towards building a green cocoa value chain. An Impact Evaluation Report on Trials to Mitigate Losses from Pest and Disease. A Management Plan to Mitigate Losses from Pests and Disease. An innovative approach for Estimating biomass from airborne LiDAR data using machine learning – towards building a Carbon Capture Machine Learning Pipeline for Cocoa farms in Trinidad and Tobago. Soil analysis for Cocoa Growing Areas (CGA) has already been completed by CDCTTL and CRC, providing baseline data for interventions. Cocoa value chain LOAs and farmer surveys are ongoing, indicating continued data collection and engagement. Soil Baseline Analysis: Engagement with the MALF Research Division is underway to conduct soil baseline analysis for selected farms, with ongoing discussions regarding soil sample collection, analysis, and costing. | L46: This output while significantly behind on schedule was bolstered by the assistance of the FAO in procuring the Value Chain Specialist. The NAMDEVCO was unable to engage a suitable candidate and the PSC recommend that the FAO be approached for assistance. However, the works of the LOA partners - Cocoa Dvelopment Company of Trinidad and Tobago and the Cocoa Research Centre has contributed significantly to progress under this output.
