Workbook
Name Countries: Countries!$A$2:$A$250
Name DevCells: '2. Progress towards outcomes'!#REF!
Name DevCells: #REF!
Name DevRatings: '2. Progress towards outcomes'!#REF!
Name DevRatings: #REF!
Name DevScore: #REF!
Name DevScore: _Calc!$D$20
Name ImpCells: '3. Implementation Progress'!$D$73:$M$75
Name ImpRatings: '3. Implementation Progress'!$D$73:$M$75
Name ImpScore: #REF!
Name ImpScore: _Calc!$D$21
Name NumRating: #REF!
Name NumRating: _Calc!$B$2:$B$9
Name TxtRating: #REF!
Name TxtRating: _Calc!$A$2:$A$9
Name Weights: #REF!
Name Weights: _Calc!$E$14:$I$14
Name Weights2: #REF!
Name Weights2: _Calc!$E$17:$H$17

Sheet Table of Contents
B6: FAO-GEF Project Implementation Report
B7: 2025 – Revised Template
B8: Period covered: 1 July 2024 to 30 June 2025
B9: Table of Contents
B10: =HYPERLINK("#'1. Basic project data'!N10","1. BASIC PROJECT DATA") -> 1. BASIC PROJECT DATA
B11: =HYPERLINK("#'2. Progress towards outcomes'!N11","2. PROGRESS TOWARDS ACHIEVING PROJECT OBJECTIVE(S) (DEVELOPMENT OBJECTIVE)") -> 2. PROGRESS TOWARDS ACHIEVING PROJECT OBJECTIVE(S) (DEVELOPMENT OBJECTIVE)
B12: =HYPERLINK("#'3. Implementation Progress'!N12","3. IMPLEMENTATION PROGRESS (IP)") -> 3. IMPLEMENTATION PROGRESS (IP)
B13: =HYPERLINK("#'4. Summary on progress'!N13","4. SUMMARY ON PROGRESS AND CHALLENGES") -> 4. SUMMARY ON PROGRESS AND CHALLENGES
B14: =HYPERLINK("#'5. ESS Risk'!N14","5.ENVIRONMENTAL AND SOCIAL SAFEGUARDS (ESS):RISKS FROM THE PROJECT") -> 5.ENVIRONMENTAL AND SOCIAL SAFEGUARDS (ESS):RISKS FROM THE PROJECT
B15: =HYPERLINK("#'6. Risks to the project'!N15","6. RISKS TO THE PROJECT") -> 6. RISKS TO THE PROJECT
B16: =HYPERLINK("#'7. Follow-up on Mid-term review'!N16","7. FOLLOW-UP ON MID-TERM REVIEW OR SUPERVISION MISSION") -> 7. FOLLOW-UP ON MID-TERM REVIEW OR SUPERVISION MISSION
B17: =HYPERLINK("#'8. Minor project amendments'!N17","8. MINOR PROJECT AMENDMENTS") -> 8. MINOR PROJECT AMENDMENTS
B18: =HYPERLINK("#'9. Stakeholders' Engagement'!N18","9. STAKEHOLDERS' ENGAGEMENT") -> 9. STAKEHOLDERS' ENGAGEMENT
B19: =HYPERLINK("#'10. Gender Mainstreaming'!N19","10. GENDER MAINSTREAMING") -> 10. GENDER MAINSTREAMING
B20: =HYPERLINK("#'11. Knowledge Management'!N20","11. KNOWLEDGE MANAGEMENT ACTIVITIES") -> 11. KNOWLEDGE MANAGEMENT ACTIVITIES
B21: =HYPERLINK("#'12. Indigenous & Local Involve.'!N21","12. INDIGENOUS PEOPLES AND LOCAL COMMUNITIES INVOLVEMENT") -> 12. INDIGENOUS PEOPLES AND LOCAL COMMUNITIES INVOLVEMENT
B22: =HYPERLINK("#'13. Co-Financing Table'!N22","13. CO-FINANCING TABLE") -> 13. CO-FINANCING TABLE
B23: =HYPERLINK("#'14. GEO Location'!N23","14. GEO LOCATION INFORMATION") -> 14. GEO LOCATION INFORMATION
B24: =HYPERLINK("#' GEF-5 LDCF Indicators'!N27"," GEF-5 LDCF Indicators") -> GEF-5 LDCF Indicators
B25: =HYPERLINK("#'GEF6&7 LDCF Core Indicators'!N28"," GEF 6&7 LDCF Core Indicators") -> GEF 6&7 LDCF Core Indicators
B26: =HYPERLINK("#'Annex'!N26","Annex. Monitoring Area-based GEF Core Indicator Commitments and Progress with FERM") -> Annex. Monitoring Area-based GEF Core Indicator Commitments and Progress with FERM
B29: IMPORTANT DISCLAIMER:
B30: The final version of this PIR will be submitted to the GEF Secretariat.
B31: The report will then be publicly available on the GEF website (click here).
B32: Sensitive information should be submitted in Annex to be uploaded separately.
B33: In such cases, please contact faogef-pir-support@fao.org for guidance.

Sheet 1. Basic project data
B2: 1. Basic Project Data
B3: General Information
B4: Region: | E4: Africa (RAF)
B5: Country(ies): | E5: Uganda and Zambia
B6: Project Title: | E6: Scaling Financial and Information Services for Smallholder Adaptation
B7: FAO Project Symbol: | E7: GCP/RAF/1070/LDF
B8: GEF ID: | E8: 10954
B9: Type of Trust Fund(s): | E9: LDCF
B10: GEF Focal Area(s): | E10: Climate Change
B11: Project Executing Partners: | E11: CIAT
B12: Initial project duration (years): | E12: 2
B13: Project Dates
B14: GEF CEO Endorsement Date: | E14: 45035
B15: Actual Agency Approval Date | E15: 45069
B16: Project Implementation Start Date/EOD: | E16: 45413
B17: First Disbursement Date | E17: 45626
B18: Planned Project End Date/NTE1: | E18: 46142
B19: Revised project implementation End date (if approved)2: | E19: N/A
B20: Actual Completion Date: | E20: N/A
B21: Expected Financial Closure Date: | E21: N/A
B22: Funding
B23: GEF Grant Amount (USD): | E23: 1045890
B24: Total GEF grant delivery (as of June 30, 2025 (USD): | E24: 388356
B25: Total Co-financing amount (USD)3: | E25: ='13. Co-Financing Table'!K14 -> 9560000
B26: Total estimated co-financing materialized as of June 30, 2025: | E26: ='13. Co-Financing Table'!N14 -> 6600000
B27: M & E Milestones
B28: Date of Last Project Steering Committee (PSC) Meeting: | E28: N/A
B29: Expected Mid-term Review date5: | E29: N/A
B30: Actual Mid-term review date (if already completed): | E30: N/A
B31: Expected Terminal Evaluation Date6: | E31: N/A
B32: Overall ratings
B33: Overall rating of progress towards achieving objectives/outcomes (cumulative): | E33: Satisfactory
B34: Overall implementation progess rating: | E34: Moderately satisfactory
B35: Overall risk rating: | E35: ='6. Risks to the Project'!C38 -> Low
B36: Status
B37: Implementation Status (1st PIR, 2nd PIR, etc. Final PIR): | E37: 1st PIR
B40: 1 Date that was originally foreseen at the project’s operationalization and indicated in FPMIS. 2 If NTE extension has been requested and approved by the FAO-GEF Coordination Unit. 3 This is the total amount of co-financing as included in the CEO Document/Project Document. 4 Please refer to the Section 13 of this report where updated co-financing estimates are requested and indicate the total co-financing amount materialized. 5 The Mid-Term Review (MTR) should take place after the 2nd PIR, around half-point between EOD and NTE. The MTR report in English should be submitted to the GEF Secretariat within 4 years of the CEO Endorsement date. 6 The Terminal Evaluation date should be discussed with OED 6 months before the project’s NTE date.
B45: Project Contacts
B46: Contact | E46: Name, Title, Division/Institution | I46: E-mail
B47: Project Coordinator (PC) | E47: Majambo Gamoyo | I47: M.jarumani@cgiar.org
...

Sheet _Calc
A1: Rating text | B1: Score
A2: Highly Unsatisfactory (HU) | B2: 1
A3: Unsatisfactory (U) | B3: 2
A4: Moderately Unsatisfactory (MU) | B4: 3
A5: Moderately Satisfactory (MS) | B5: 4
A6: Satisfactory (S) | B6: 5
A7: Highly Satisfactory (HS) | B7: 6
A8: Unknown | B8: 0
A9: Not Rated | B9: 0
D12: for DevScore
D13: Person | E13: PM/Coord | F13: Budget Holder | G13: LTO | H13: GEF OFP | I13: GTO
D14: Weight % | E14: 20 | F14: 25 | G14: 25 | H14: 0 | I14: 30
D15: For ImpScore
D16: Person | E16: PM/Coord | F16: LTO | G16: GEF OFP | H16: GTO
D17: Weight % | E17: 25 | F17: 35 | G17: 0 | H17: 40
A19: Once you've filled in 2. Progress towards outcomes & 3. Implementation Progress
A20: Please double click and press enter on Cells D20 and D21 | D20: {=_xlfn.LET(_xlpm.hdrRow,MATCH("*Development*Objective*rating*",'2. Progress towards outcomes'!$C:$C,0),_xlpm.rRow,_xlpm.hdrRow+1,_xlpm.ratings,INDEX('2. Progress towards outcomes'!$D:$H,_xlpm.rRow,0),_xlpm.scores,_xlfn.XLOOKUP(_xlpm.ratings,TxtRating,NumRating,0),ROUND(SUMPRODUCT(_xlpm.scores,Weights)/SUM(Weights),0))} -> 0
D21: {=ROUND( SUMPRODUCT( _xlfn.XLOOKUP( CHOOSE({1,2,3,4}, '3. Implementation Progress'!D73, '3. Implementation Progress'!F73, '3. Implementation Progress'!H73, '3. Implementation Progress'!J73 ), TxtRating, NumRating, 0 ), Weights2 ) / SUM(Weights2), 0)} -> 3

Sheet Countries
A1: Select Country
A2: Afghanistan
A3: Åland Islands
A4: Albania
A5: Algeria
A6: American Samoa
A7: Andorra
A8: Angola
A9: Anguilla
A10: Antarctica
A11: Antigua and Barbuda
A12: Argentina
... A250: Zimbabwe

Sheet TypeofTrustFund
A1: Type of Trust Fund
A2: Capacity-building Initiative for Transparency (CBIT)
A3: Global Biodiversity Framework Fund (GBFF)
A4: Global Environment Facility Trust Fund (GFF)
A5: Least Developed Countries Fund (LDCF)
A6: Special Climate Change Fund (SCCF)
A7: Small Grants Program (SGP)

Sheet FocalArea
A1: Focal Area
A2: Multi Focal Area
A3: Biodiversity
A4: Chemicals and Waste
A5: Chemicals/PoPs
A6: Climate Change
A7: Climate Change Adaptation
A8: Climate Change Mitigation
A9: International Waters
A10: Land Degradation

Sheet 2. Progress towards outcomes
B1: 2. Progress towards Achieving Project Objective(s) (Development objective)
B3: (All inputs in this section should be cumulative from project start, not annual)
B5: Please indicate the project’s main progress towards achieving its objective(s) and the cumulative level of achievement of each outcome since the start of project implementation.
B6: Project or Development Objective | C6: Outcomes | D6: Outcome indicators | E6: Baseline | F6: Mid-term Target | G6: End-of-project Target | H6: Cumulative progress level at 30 June 2025 | I6: % of cumulative progress | J6: Progress rating
B7: Objective: Increase smallholder farmers’ adaptive capacity through scaled agricultural and financial risk reduction services | C7: Outcome 1: Providers of agro-advisory, financial, and insurance products and services use Farmer generated data more effectively to offer smallholders tailored climate information services, tools, and products | D7: Indicator 1.1: Reach of extension information via Shamba Shape- up (or Shamba Shape-Up-style) model in Uganda and Zambia Indicator 1.2: Agro-climate risk profiles (maps) created using downscaled climate data and crop models. Indicator 1.3: Service providers (advisory, lenders, extension) accessing and using iShamba service- generated data). Indicator 1.4: Smallholder farmers/participants in the Let- it-Rain game for which detailed data on farm size, climate risks, agricultural risks, economic activity, etc. now exists. Indicator 1.5: Existence of support platform, # of bundles on offer | E7: The enabling environment for climate risk management services in Uganda and Zambia reflects limited utilization of farmer-generated data by service providers, with minimal integration into agricultural or financial product development. Financial services tailored to smallholder needs remain scarce, with no operational gender-responsive bundles and low levels of digitization across delivery systems. Uptake of agricultural insurance and credit products remains minimal, with restricted access among smallholder farmers and no systematic tracking of gender-disaggregated participation. Progress is needed in developing inclusive, data-driven, and digitally enabled service delivery mechanisms to enhance smallholder resilience. | F7: Target 1: Additional 80,000 farmers in target locations with Shamba Shape-Up delivery models Target 2: At least 8,000 farmers in target locations with Let- it-rain game Target 3: At least 8,000 farmers in target locations with iShamba information delivery models Target 4: At least 50% of districts in target locations that have 1 risk maps and 1 profile per 3 value chains Target 5: At least 2 agro-advisory financial service products developed in target locations who have access to farmer- generated data Target 6: At least 2 stakeholders in target locations that are able to access the ICT platform | G7: Target 1: 200,000 farmers in target locations with Shamba Shape-Up information delivery models Target 2: At least 20,000 farmers in target locations with Let-it-rain game Target 3: At least 20,000 farmers in target locations with Shamba Shape-Up & iShamba information delivery models Target 4: At least 90% of districts in target locations that have 1 risk maps and 1 profile per 3 value chains Target 5: At least 5 agro-advisory financial serviceproducts developed in target locations who have access to farmer generated data Target 6: At least 5 stakeholders in target locations that are able to access the ICT platform | H7: Initial partnership meetings with Mediae have supported the launch of the Munda Makeover series in Zambia through complementary co-financing projects/programs and the design of targeted content segments for the Shamba Shape-Up program in Uganda. Coordination with IFPRI has contributed to the development of a detailed impact evaluation design, including sampling frameworks, quantitative and qualitative survey instruments, and an analysis plan. Concurrently, the iShamba platform for Zambia is under development, with testing initiated to support digital delivery of climate information and advisory services to smallholder farmers. | I7: 0.3 | J7: Highly Satisfactory (HS)
C8: Outcome 2: Smallholder farmers have access to financially sustainable bundled agro-advisory, financial products and ARM tools tailored to their specific risk profiles, needs, and farm characteristics | D8: Indicators 2.1: Existence of a protocol document or framework for financial product development Indicators 2.2: Existence of risk scoring system Indicators 2.3: # of gender responsive insurance bundles offered Indicators 2.4: Extent to which farmer registrations and transactions are digitized | F8: Target 1: At least 2 of agro- advisory and financial service providers in target locations that are using the framework Target 2: Functional prototype of the climate credit risk scoring system Target 3: Functional prototype of the digitalization system Target 4: 2 agro- advisory and financial bundled products in target locations that are gender- inclusive | G8: Target 1: At least 4 of agro-advisory and financial service providers in target locations that are using the framework Target 2: Integration of the credit risk scoring system with stakeholders platforms Target 3: Integration of the digitalization system with stakeholders platforms Target 4: 5 agro- advisory and financial bundled products in target locations that are gender- inclusive | H8: Initial activities are underway through complementary co-financing projects/programs supporting the rollout of agro-advisory services and crop insurance in selected locations. Design work for the climate-smart credit risk scoring framework is ongoing with technical partners. | I8: 0.2 | J8: Satisfactory (S)
C9: Outcome 3: Increased supply (by providers) and uptake (by smallholder farmers) of climate risk management products and services | D9: Indicators 3.1: Evidence on financial risks, costs and benefits of combined credit and insurance to (a) the credit provider, (b) the credit recipient (smallholder farmer), and (c) any technical assistance provision or advisory agents in the middle Indicators 3.2: # of new or improved insurance, advisory, or credit bundles accessed by smallholder farmers via Platform (disaggregated by gender and age) | F9: Target 1: Proof of concept evidence assessed and reported by IFPRI | G9: Target 1: 1,000 smallholders s in target locations, 60% of which are women, have access to climate smart credit product Target 2: 3,000 smallholders s in target locations,60% of which are women, have adopted gender- inclusive insurance Target 3: 1,000 smallholders in target locations have access to this pilot product | H9: NA in this reporting period | I9: 0 | J9: Not Rated
C10: Outcome 4: Lessons learned in this project are available to inform similar investments in other contexts. | D10: Indicators 4.1: Evidence performance of project, and lessons learned on best practices are available | G10: Target 1: Synthesized evidence is available for stakeholders | H10: Lessons learned are emerging through complementary co-financed initiatives within CGIAR and Mediae Company. One key example is the development of the Munda Makeover campaign, which produced edutainment videos and electronic print materials to support farmer learning. Additionally, the project’s design process and stakeholder engagement have influenced other CGIAR program proposals and contributed to the development of a GCF proposal for Uganda. These processes demonstrate uptake and replication potential, contributing to cross-learning. | I10: 0.3 | J10: Highly Satisfactory (HS)
B12: Average Cumulative progress toward outcomes (%) | C12: Time elapsed since project start/EOD vs Planned Project End Date | D12: % of delivery
B13: =IFERROR(AVERAGE(I7:I10),"") -> 0.2 | C13: =IF(OR('1. Basic project data'!E16="",'1. Basic project data'!E18=""),"",(TODAY()-'1. Basic project data'!E16)/('1. Basic project data'!E18-'1. Basic project data'!E16)) -> 0.68861454 | D13: =IF('1. Basic project data'!E23=0,"",'1. Basic project data'!E24/'1. Basic project data'!E23) -> 0.3713163
B18: Development Objective (DO) Ratings, and Overall Assessment
B19: Please note that the overall DO ratings should be substantiated by evidence and progress reported above. The ratings and comments should reflect the overall progress of results since project start
D21: Project Manager/ Coordinator | E21: Budget Holder | F21: Lead Technical Officer | G21: GEF Operational Focal Point | H21: GEF Technical Officer (GTO)
C22: FY2025 Development Objective rating | D22: Satisfactory (S) | F22: Satisfactory (S) | H22: Satisfactory (S)
C23: Comments/reasons justifying the ratings for FY2025 and any changes (positive or negative) in the ratings since the previous reporting period | D23: During FY2025, the project made satisfactory progress across key outcomes. Outcome 1 achieved significant milestones including the launch of the Munda Makeover series in Zambia and segment development for Shamba Shape-Up in Uganda. Coordination with IFPRI led to the completion of an impact evaluation design and survey planning. Under Outcome 2, early-stage co-financing efforts supported rollout of advisory services and design of credit risk scoring tools. However, activities under Outcome 3 have not commenced, and progress on bundled products remains pending. Outcome 4 reflects emerging lessons through complementary initiatives, especially media campaigns. Overall, while delays impacted some outputs, foundational systems and cross-learning are on track, justifying a Satisfactory rating. | F23: While the project has faced some delays at the onset, the foundational work has been ongoing with key stakeholders, which will be key in picking up speed once the project is fully operational to achieve the planned and intended outcomes. | G23: NA | H23: Despite slow operational start up of the project, the CIAT-based PMU has progressed with project objective delivery thanks to substantial parallel investments, mobilised as co-financing. It is expected that adaptation benefits will be delivered at the intended scale, through innovative yet replicable approaches, as already demonstrated in this initial implementation period.
B28: Measures to address MS, MU, U and HU ratings on Section 2 above
B31: Outcome | D31: Action(s) to be taken | F31: By whom? | H31: By When?
B33: 7 Some indicators may not identify mid-term targets at the design stage (refer to approved results framework) therefore this column should only be filled when relevant. 8 Use GEF Secretariat required six-point scale system: Highly Satisfactory (HS), Satisfactory (S), Moderately Satisfactory (MS), Moderately Unsatisfactory (MU), Unsatisfactory (U), and Highly Unsatisfactory (HU).

Sheet 3. Implementation Progress
B1: 3. Implementation Progress (IP)
B3: (Please indicate progress achieved during this FY as per the Implementation Plan/Annual Workplan)
B5: Outcomes and outputs | D5: Indicators (as per the logical framework) | F5: Main achievements in the last 12 months (please DO NOT repeat results reported in previous year PIR) | L5: Describe any variance in delivering outputs
B7: Outcome 1: Providers of agro-advisory, financial, and insurance products and services use farmer generated data more effectively to offer smallholders tailored climate information services, tools, and products
B8: Output 1.1: Shamba Shape Up and iShamba delivery model (including Let-it-Rain game) functionally scaled out from Kenya to Uganda and Zambia | D8: Number of farmers in target locations reached through the Shamba Shape-Up delivery model and participating in the Let-it-Rain game | F8: In Zambia, a total of 13 segments under the Munda Makeover Series 2 (2024/2025 season) were developed and aired, focusing on agro-advisory, risk reduction, and climate-smart agriculture. The amplified viewership of Munda Makeover grew from 1.9 million in Series I to 2.3 million in Series II. Details available at: https://cgspace.cgiar.org/items/840c1168-e616-4e3d-8b5c-93dd8caeed0a. This achievement was realized through complementary co-financing initiatives led by CGIAR and Mediae Company. In preparation for the 2025/2026 season in Zambia and the 2025 short rain season (OND) in Uganda, partner meetings were held with Mediae to co-design and strategize implementation of Munda Makeover and Shamba Shape Up segments. | L8: The project experienced delays in its onset, which affected the scheduling and implementation of Shamba Shape Up activities in Uganda and the launch of Munda Makeover in Zambia.
B12: Output 1.2: Risk maps, report detailing risk profiles, prioritized risks by district & value chains created using iShamba data | D12: % of districts in target locations that have risk maps and profiles, including each value chain | F12: The framework for climate risk profiling and value chain analysis has been developed and outputs will be validated and refined using primary data collected through the project. In collaboration with IFPRI, the socio-economic baseline design is being finalized, including the design of survey instruments and sampling frameworks for both quantitative and qualitative data collection. | L12: Despite project-wide delays, this output remained on track. Risk profiling design and value chain analysis have progressed through collaboration with IFPRI and will be refined through upcoming data collection.
B16: Output 1.3: Service providers given access to the iShamba farmer- created data | D16: No of agro-advisory financial service providers in target locations who have access to farmer generated data | F16: Technical development of the iShamba (iMunda) platform for Zambia is underway, with core infrastructure and functionality being set up to support data sharing. We are also considering additional digital platforms to support such as WADI from Solidaridad. | L16: Due to delays in the initial rollout, the development and testing of the iMunda platform in Zambia started later than planned. However, the platform is now under testing and technical progress is evident. Further onboarding of service providers is planned for the next phase.
B20: Output 1.4: Platform to offer and support new bundles of agro-advisory and ARM products and services built | D20: Number of farmers in target locations with iShamba information n delivery models | F20: No achievement recorded for this output yet. Implementation is pending completion of digital platforms. | L20: Due to delays in the initial rollout, the development and testing of the iMunda platform in Zambia started later than planned. However, the platform is now being tested and technical progress is evident. Further onboarding of service providers is planned for the next phase.
B24: Outcome 2: Smallholder farmers have access to financially- sustainable bundled agro- advisory,financial products and ARM tools tailored to their specific risk profiles, needs, and farm characteristics
B25: Output 2.1: Framework and approach for financial product development established | D25: Existence of a protocol document or framework for financial product development. | F25: Discussions initiated with partners | L25: Initial discussions with partners have taken place, but full development and piloting of frameworks were delayed and will be completed in the next phase.
B29: Output 2.2: Risk scoring system integrating multiple risks made available to financial companies (credit scoring, insurance) | D29: Existence of risk scoring system. | F29: Conceptual design of the credit risk scoring system initiated, informed by the learning experience from Kenya where a similar tool has been piloted to support climate-resilient lending. For reference, see https://alliancebioversityciat.org/stories/climate-credit-scoring-tool-revolutionizing-agricultural-finance-africa. | L29: Design of the credit risk scoring system was informed by Kenya’s experience. However, due to the delayed rollout, development and piloting will continue in the upcoming phase.
B33: Output 2.3: Gender responsive insurance bundles, including CSA advisories, designed | D33: # of gender responsive insurance bundles offered | F33: Discussions initiated with partners to identify bundle components and target segments; drawing from co-financing programs. | L33: Although technical discussions have begun, delays in implementation affected the launch of bundled insurance products. These services will be introduced after platform readiness and partner coordination.
B37: Output 2.4: Gender responsive credit product bundles, including CSA advisories, designed | D37: # of gender- responsive credit bundles offered (Target: gender- responsive credit bundles on offer to farmers by month 8) | F37: Bundling concepts and gender-responsive design parameters have been initiated, building on technical consultations and initial scoping exercises with partners. | L37: Bundling and gender-responsive design activities have been initiated. However, full implementation has been delayed due to broader rollout challenges and system readiness.
B41: Output 2.5: Farmer registrations and transactions digitized | D41: Extent to which farmer registrations and transactions are digitized | F41: Farmer registration and transaction digitized has not started pending development of the digital platform. | L41: This output is pending due to the incomplete development of the digital platform. Farmer registration and transaction tracking have not yet begun, and their implementation is expected in the next phase.
B45: Outcome 3: Increased supply (by providers) and uptake (by smallholder farmers) of climate risk management products and services
B46: Output 3.1: Proof of concept for risk- contingent credit provision in Uganda and Zambia | D46: Evidence on financial risks, costs and benefits of combined credit and insurance to (a) the credit provider, (b) the credit recipient (smallholder farmer), and (c) any technical assistance provision or advisory agents in the middle | F46: Initial partner discussions held to explore bundled credit-insurance models for testing in Uganda and Zambia. | L46: Initial partner discussions have started, but delays in project rollout and platform development havedelayed testing and implementation.
B50: Output 3.2: New or improved bundled insurance/loan/advisory products and services made available to farmers (including women and youth) through Platform | D50: # of new or improved insurance, advisory, or credit bundles accessed by smallholder farmers via Platform (disaggregated by gender and age) | F50: No achievement recorded for this output yet. Implementation is pending completion of supporting systems and rollout strategy. | L50: This output is scheduled for later phases of the project and remains in planning. Progress will depend on the completion of core infrastructure.
B54: Outcome 4: Lessons learned in this project are available to inform similar investments in other contexts.
B55: Output 4.1: A project report including a summary of lessons learned, impact evaluation estimates and best practices is produced and made publicly available for use as a template to guide the implementation of similar efforts elsewhere | D55: Evidence performance of project, and lessons learned on best practices are available | F55: While a formal project-specific report has not yet been produced, progress has been documented through outputs supported by other co-financing initiatives. One example is the Munda Makeover campaign, which generated practical lessons and multimedia content to inform climate-smart practices. Additionally, agro-advisory content has been transformed into SMS and booklet formats, enhancing accessibility https://db.sproutopencontent.com/dataset/?q=zambia&sort=score+desc%2C+metadata_modified+desc&tags=MoA+Zambia. The Ministry of Agriculture has expressed interest in disseminating this content to Agro-Traders via its Market Information System. | L55: While a formal report has not yet been produced, lessons and content have been generated under co-financed initiatives. Further documentation will be finalized later in the project.
B58: Output 4.2: Video and electronic print materials are developed to disseminatelessons learned from the project | D58: Evidence performance of project, and lessons learned on best practices are available | F58: In progress. Episode of Munda Makeover Season 2 produced reaching 2.3 million viewers. The episodes were produced throught other initiatives and part of the co-financing. | L58: The Munda Makeover episodes, developed through co-financing, have served as early outputs toward this result.
B62: Output 4.2: A broad stakeholder meeting is convened to present and discuss lessons learned | D62: Evidence performance of project, and lessons learned on best practices are available | F62: This will happen during the project closure. | L62: None noted at this stage; preparatory arrangements ongoing
B67: Implementation Progress (IP) , and Overall Assessment
B69: Please note that the overall IP ratings should be substantiated by evidence and progress reported above. The ratings and comments shoud reflect the overall progress of results during the fiscal year (July 1 2024, to June 30, 2025)
D70: Project Manager/ Coordinator | F70: Lead Technical Officer | H70: Budget Holder | J70: GEF Operational Focal Point (OFP) | L70: GEF Technical Officer (GTO)
B73: FY2025 Implementation Objective rating10 | D73: Satisfactory (S) | F73: Satisfactory (S) | L73: Moderately Satisfactory (MS)
B76: Comments/reasons justifying the ratings for FY2025 and any changes (positive or negative) in the ratings since the previous reporting period | D76: Implementation of all planned components is progressing in substantial alignment with the approved workplan. Key foundational activities including the launch of the Munda Makeover series in Zambia, progress on the Shamba Shape-Up segments in Uganda, the development and testing of the iShamba platform, and initiation of the socio-economic impact evaluation design demonstrate timely execution. Coordination with partners has been effective, with adaptive scheduling to account for agricultural seasonality. | F76: The project has experienced some delays in starting of the activities. Nevertheless, the activities that were planned under the co-financing have started, making good progress to ensure that the ground work is set with stakeholder and partner meetings being held, raising awareness, and the progress made towards the development of the iShamba (iMunda) plaform, to name a couple. Unexpected and inevitable situations led to some changes in partners, activities sites and workplan, but with these amendments, I believe that the project will pick up speed and will be back on track for the next reporting period. | H76: Comments | J76: Comments | L76: Once all executing partners will be fully engaged, planned outputs will be delivered promptly, as progress has been made on baseline work, largely thanks to the co-financing from CIAT and Mediae.
B92: 9 Variance refers to the difference between the expected and actual progress at the time of reporting. 10 Implementation Progress Rating – A rating of the extent to which the implementation of a project’s components and activities is in compliance with the projects approved implementation plan.

Sheet 4. Summary_Progress & Challenge
B2: 4. Summary on progress and challenges
B3: Please provide a summary paragraph on project implementation progress consistent with the information reported in section 2 and 3 of the PIR (Max 400 words) (This section will be uploaded to the GEF portal)
B5: During the reporting period, implementation of the project advanced across all four outcome areas, showing strong alignment with the approved work plan. Under Outcome 1, key progress included the successful launch of the Munda Makeover (MMO) series in Zambia through co-financing with other CGIAR initiatives, reaching 2.3 million viewers with 13 new segments. In Uganda, consultations were held in preparation for the 2025 short rains (OND) season to support segment design for localized Shamba Shape-Up content. Socio-economic baseline work, in partnership with IFPRI, progressed with sampling frameworks, instruments, and survey protocols identified. The iShamba platform for Zambia is still under development, laying groundwork for integrated digital delivery of agro-advisory and climate information services. Outcome 2 activities focused on laying foundational elements for bundled financial services. Technical design of the climate-smart credit risk scoring framework is progressing. For Outcome 3, while outputs such as bundled product rollout and proof-of-concept pilots are not yet realized, foundational work, including platform development and financial product design, is ongoing. Under Outcome 4, knowledge and learning activities were driven by complementary co-financing, including the MMO campaign, which also served as a vehicle for disseminating climate-smart agriculture and financial literacy messages. Lessons from the project have informed new CGIAR program proposals and a GCF proposal for Uganda. Stakeholder engagement for synthesis and learning is planned for the upcoming reporting period.
B17: Please provide a summary paragraph on challenges of project implementation consistent with the information reported in section 2 and 3 of the PIR (Max 400 words) (This section will be uploaded to the GEF portal)
B19: The project experienced a delayed start, which compressed the timeline for initial implementation activities and required adjustments to the original scheduling of outputs. As a result, some foundational components—including the inception meeting, partner onboarding, content development, and platform prototyping—were initiated later than anticipated. This delay significantly affected the timely rollout of media-based interventions and activities tied to in-season farming practices. In addition, the withdrawal of USAID funding had a significant impact on institutional financial capacity. This led to the realignment of implementation partners, adjustments in co-financing.
B26: Implementation of Exit Strategy
B28: Has the project developed an Exit Strategy? If yes, please describe the progress to implement it. | F28: Yes, the project embeds a sustainability approach by leveraging existing digital delivery platforms and working through established market systems and public-private partnerships. The strategy centers on institutionalizing project interventions within national programs, as well as anchoring risk tools within private sector-led distribution channels.
B31: How is the project enhancing institutional capacities to foster country ownership for more durable / sustained results? | F31: The project is strengthening institutional capacities through multiple channels: - Collaborating with national ministries (e.g., agriculture) to ensure data, advisory tools, and bundled services align with policy and extension priorities. - Training and capacity support to service providers and farmer groups.

Sheet 5. ESS Risk
B2: 5. Environmental and Social Safeguards (ESS): risks from the project
B4: Initial ESS Risk Classification (at CEO Endorsement/Approval Stage) | E4: Low Risk. The project was screened and rated as low risk at CEO Endorsement since it focuses primarily on capacity development with no direct environmental or infrastructure interventions.
B7: New environmental and social risks. | E7: No new environmental or social risks have been identified during the current implementation period. Project activities remain consistent with the original scope.
B15: Progress made towards implementing the Enivronmental and Social Management Plan (ESMP) (only for Moderate and High Risk Projects)
B23: Grievance Redress Mechanism (GRM) | E23: The project adheres to standard FAO grievance procedures. No grievances have been reported to date under this project implementation cycle.

Sheet 6. Risks to the Project
B2: 6. Risks to the Project
B3: The following table summarizes risks identified in the Project Document and reflects also any new risks identified during the project implementation.
C6: Type of risk | E6: Risk rating11 | F6: Identified in the ProDoc Y/N | G6: Description of Risk | L6: Mitigation measure implemented
B8: 1 | C8: Political | E8: Low | F8: Yes | G8: Government priorities may shift, reducing alignment with project objectives and affecting uptake of results. | L8: Maintain strong engagement with government and non-government stakeholders; alignment with medium-term policy documents to ensure relevance.
B11: 2 | C11: Operational & Logistical | E11: Low | F11: Yes | G11: Field activities could be disrupted by COVID-19, civil unrest, or political instability. | L11: Flexibility built into implementation plans; contingency approaches will be developed in consultation with government stakeholders.
B14: 3 | C14: Economic | E14: Low | F14: Yes | G14: Co-financing may be compromised due to external shocks such as pandemics or financial instability. | L14: Early agreement and confirmation from co-financing partners; low likelihood of disruption given confirmed commitments.
B18: 4 | C18: Partnership & Coordination | E18: Low | F18: Yes | G18: Multi-stakeholder implementation across countries could lead to inefficiencies in coordination, communication, or decision-making. | L18: Strong governance structure with regular meetings, dashboard monitoring, and decentralized in-country coordination mechanisms.
B22: 5 | C22: Environmental | E22: Low | F22: Yes | G22: Risk to program implementation from crop loss, natural disaster, etc. | L22: There will be a strong focus on carefully selected value chains and geographies to the fullest extent possible to help partners diversify risks, including linking to farmer resiliency tools and strong technical inputs to reduce risk.
B26: 6 | C26: Legal & Regulatory | E26: Low | F26: Yes | G26: Regulatory change of mobile, financial, agricultural subsidy and other types of relevant interventions | L26: The project will engage governments (particularly via CGIAR/FAO/GEF country representatives) actively around delivery of agricultural transfer payments, insurance and subsidies via digital channels. Further product development will be conducted only in areas with clear regulatory approvals in place.
B30: 7 | C30: Institutional | E30: Low | F30: Yes | G30: Capacity and willingness of private sector stakeholders | L30: The implementation will follow a market-led approach creating and strengthening existing links within market actors.
B35: Project overall risk rating (Low, Moderate, Substantial or High):
B36: FY2024 rating | C36: FY2025 rating | D36: Comments/reason for the rating for FY2025 and any changes (positive or negative) in the rating since the previous reporting period
C38: Low | D38: While the withdrawal of USAID impacted initial institutional financial capacity and led to realignment of some implementation partners, the overall project risk remains low due to successful adaptative measures. No major new risks have emerged, and previously identified risks continue to be effectively mitigated.
B45: 11 Risk ratings means a rating of the overall risk of factors internal or external to the project which may affect implementation or prospects for achieving project objectives. Risk of projects should be rated on the following scale: Low, Moderate, Substantial or High.

Sheet 7. Follow-up on Mid-term review
B2: 7. Follow-up on Mid-term review or supervision mission
B4: If the project had an MTR or a supervision mission in 2024, please report on how the recommendations were implemented during this fiscal year as indicated in the Management Response or in the supervision mission report.
B7: MTR or supervision mission recommendations | F7: Measures implemented during this Fiscal Year
B9: Recommendation 1: | F9: N/A
B11: Recommendation 2:
B13: Recommendation 3:
B15: Recommendation …
B17: Recommendation…

Sheet 8. Minor project amendments
B2: 8. Minor project amendments
B4: Minor amendments are changes to the design or implementation that do not have significant impact on the project objectives or scope, or an increase of the GEF project financing up to 5% as described in Annex 9 of the GEF Project and Program Cycle Policy Guidelines 12. Please describe any minor changes that the project has made under the relevant category or categories and provide supporting documents as an annex to this report if available. (This section will be uploaded to the GEF Portal)
B9: Category of change | D9: Provide a description of the change | I9: Indicate the timing of the change | J9: Approved by
B12: Results framework
B14: Components and cost
B16: Institutional and implementation arrangements | D16: Realignment of partners due to changes in co-financing sources, particularly following the USAID withdrawal. As part of this adjustment, Lersha initially identified as an implementation partner in Uganda was assessed as high risk and subsequently dropped from the project. Solidaridad was proposed as a replacement partner to support implementation activities in Uganda. This change was made to strengthen institutional delivery capacity and ensure effective execution of the project.
B19: Financial management
B21: Implementation schedule | D21: Delay in the start of project activities due to extended administrative setup processes
B23: Executing Entity
B25: Executing Entity Category
B27: Minor project objective change
B29: Safeguards
B31: Risk analysis
B33: Increase of GEF project financing up to 5%
B36: Co-financing | D36: Withdrawal of USAID impacted internal financial capacity and necessitated partner realignment.
B38: Location of project activity | D38: Relocation of some implementation activities f to better align with logistical and partner programs and benefit from co-financed projects.
B40: Other minor project amendment (define)
B45: 12 GEF Council meeting documents, guidelines, project and program cycle policy 2020 update

Sheet 9. Stakeholders' Engagement
C2: 9. Stakeholders' Engagement
C4: Please report on progress, challeges, and outcomes on stakeholder engagement (based on the description of the Stakeholder Engagement Plan) included at CEO Endorsement/Approval during this reporting period. (This section will be uploaded to the GEF Portal)
C8: Profile | E8: Stakeholder name | G8: Type of partnership | H8: Progress, results & Challenges on Stakeholder's Engagement
C9: Government Institutions | E9: Ministries of Agriculture (Zambia and Uganda) | G9: Strategic and technical collaboration | H9: Engagement progressing well through other initiatives as part of co-financing, supporting alignment with national agricultural priorities.
C10: Private Sector entities | E10: Mediae Company | G10: Communication and outreach partner | H10: Initial partnership meetings with Mediae have supported the launch of the Munda Makeover series in Zambia and the design of targeted content segments for the Shamba Shape-Up program in Uganda.
C11: IGOs | E11: IFPRI | G11: Technical partner for M&E and socio-economic analysis | H11: Coordination with IFPRI has contributed to the development of an impact evaluation design, including sampling frameworks, quantitative and qualitative survey instruments, and an analysis plan.
C12: Private Sector entities | E12: Solidaridad | G12: Technical and implementation partner | H12: Joint planning is underway to support bundling efforts and ensure last-mile delivery through established networks in Uganda
C13: Private Sector entities | E13: One Acre Fund | G13: Technical and implementation partner | H13: Joint planning is underway to support bundling efforts and ensure last-mile delivery through established networks in Zambia
C14: NGOs | E14: Local Farmer Organizations | G14: Community mobilization and grassroots outreach | H14: Engagement progressing well through other initiatives as part of co-financing. These partnerships have facilitated participatory engagement, and outreach for example.

Sheet 10. Gender Mainstreaming
B2: 10. Gender Mainstreaming
B4: Information on Progress on Gender-responsive measures as documented at CEO Endorsement/Approval in the gender action plan or equivalent (when applicable) during this reporting period. (This section will be uploaded to the GEF Portal)
B6: Category | E6: Yes/No | F6: Briefly describe progress and results achieved during this reporting period.
B8: a. Closing gender gaps in access to and control overal natural resources | E8: Yes | F8: Preliminary design of gender-responsive financial and advisory products, including risk scoring and digital registration tools, is underway to address structural gender barriers in access to credit, insurance, and climate services.
B12: b. Improving women's participation and decision making | E12: Yes | F12: Gender considerations have been integrated into stakeholder engagement strategies, ensuring women's representation in field-level consultations and planning for bundled ARM tools.
B16: c. generating socio-economic benefits or services for women | F16: Complementary initiatives, including the Munda Makeover and Shamba Shape-Up content, incorporate women-targeted messaging and inclusive narratives, aiming to improve awareness and uptake of services by women farmers.
B20: Any other good practices on gender | F20: All intervention designs (e.g., digital platforms, bundled products) are incorporating gender-disaggregated data, and upcoming pilots will track uptake among women and youth to inform adaptive targeting.

Sheet 11. Knowledge Management
B2: 11. Knowledge and Learning Activities
B3: Knowledge activities/products (when applicable), as outlined in Knowledge Management (and Learning) Approach approved at CEO Endorsement/Approval, during this reporting period. (This section will be uploaded to the GEF Portal)
B5: Knowledge management and Learning (KML): Does the project have a KML strategy? | E5: Yes
B7: If YES, what is the implementation progress? In your answer, please describe how the project is fostering knowledge sharing and learning among stakeholders at national and sub-national level. | E7: Implementation of the Knowledge Management and Learning (KML) strategy is underway, with activities focusing on capturing lessons from both project-specific and co-financing initiatives. In Zambia, collaboration with Mediae led to the launch, production and broadcasting of the Munda Makeover series, which used edutainment to share bundled agro-advisory and climate risk management practices with farmers, reaching over 2.3 million viewers. In Uganda, similar efforts are ongoing through the Shamba Shape-Up design phase. The project has also engaged technical partners such as IFPRI to co-develop a robust socio-economic research and impact evaluation framework. This includes structured baseline data collection and analysis, which will contribute to learning on bundled service effectiveness. At the sub-national level, knowledge-sharing activities are still in the planning phase. The project is preparing for targeted engagement with local stakeholders, including farmer organizations, to support participatory learning processes and localized dissemination of project learnings in subsequent implementation periods.
B9: If NO, how does the project identify, collect and document good practices?
B12: Please list good practices, including key-technical and/or institutional innovations, from the project thus far. | E12: a) The launch of the Munda Makeover series in Zambia represents a successful innovation in communicating climate-smart agriculture and bundled financial services through mass media. b) Drawing on the experience in Kenya, the project initiated design work for a climate-smart credit risk scoring system to enhance the integration of weather and farm data into lending decisions. c) Drawing on the experience in Kenya, the development and testing of the iShamba platform for Zambia demonstrates a forward-looking strategy to digitize farmer registration and service delivery. This supports bundled advisory, insurance, and credit services in a scalable and accessible channel.B20
B18: Communication strategy: Does the project have a communication strategy? | E18: Yes
B21: Please provide a brief overview of the communications successes and challenges this fiscal year. | E21: During the reporting period, the project leveraged strategic media partnerships to amplify climate risk messaging and agricultural best practices to smallholder farmers. Notably, the co-financed Munda Makeover (MMO) Series II in Zambia resulted in increased viewership (rising from 1.9 million in Series I to 2.3 million). Preparations were also initiated for Shamba Shape-Up segments in Uganda. These campaigns contributed to outreach, awareness, and knowledge dissemination goals. However, delays in project rollout led to missed opportunities to align broadcasts with peak farming seasons particularly the March–May long rains in Uganda. Additionally, integration of communication outputs with planned stakeholder events and platform launch timelines is still being optimized.
B27: Human-interest story: Please share a human-interest story from your project, focusing on how the project has helped to improve people's livelihoods while contributing to achieving the expected Global Environmental Benefits. Please indicate any Socio-economic Co-benefits that were generated by the project. Include at least one beneficiary quote and perspective, and please also include related photos and photo credits. | E27: In Zambia’s, Munda Makeover (MMO) has become more than just a television show, it has evolved into a trusted advisory tool for smallholder farmers navigating climate challenges. One of the farmers reached by MMO is Arthur Abwino, a smallholder from Kapete, Chongwe, who experienced severe losses in 2024/2025 season due to drought. Despite investing ZMW 70,000, he harvested only five bags instead of the 1,020 bags he had expected. “After learning about Weather Index Insurance, I will now purchase it for the next season to protect myself against potential crop losses based on my expected yield. I’ve also learned the importance of crop diversification as a way to minimize risk and loss. Before, I relied solely on radio weather forecasts, but they were often inaccurate—sometimes they would report rain in Lusaka province, but it wouldn’t rain in my area. Now that I know about the Zambia Meteorological Department’s WhatsApp group, I plan to join it to access more accurate and timely weather updates.” This story highlights how media-based agro-advisory campaigns are equipping farmers with practical tools and knowledge to reduce climate-related risks. The impact goes beyond awareness to support actual behavior change in farming practices and use of risk reduction services like insurance and digital weather alerts.
B41: Please provide links to related website, social media account
B44: Please provide a list of publications, leaflets, video materials, newsletters, or other communications assets publised on the web, if any. | E44: https://cgspace.cgiar.org/items/840c1168-e616-4e3d-8b5c-93dd8caeed0a https://www.youtube.com/watch?v=TexzUWTN0OI&list=PLuldN-hq8sqkzPAOMmvnZGoroepG_hVZh https://www.cgiar.org/invest/munda-makeover/?fbclid=IwY2xjawLRqYpleHRuA2FlbQIxMABicmlkETFVVVJZWG90clduWmFoQUtwAR6ZDPTIL0zI4pxl-4dMRFRLixc2ycYNPrerTjJdYL4LT0MQLKdjEjKZ_jRNmQ_aem_AGeDA1LM-36JXVxZzPGkSw
B48: Please indicate the Communication and/or knowledge management focal point's name and contact detais. | E48: Joseline Kiogora Kanja, J.Kiogora@cgiar.org

Sheet 12. Indigenous & Local Involve.
B2: 12. Indigenous Peoples and Local Communites Involvement
B4: Are Indigenous Peoples and local communities involved in the project (as per the approved Project Document)? If yes, please briefly explain.
B6: If applicable, please describe the process and current status of on-going/completed, legitimate consultations to obtain Free, Prior and Informed Consent (FPIC) with the indigenous communities. Do indigenous peoples and/or local communities have an active partcipation in the project activities? If yes, briefly describe how.

Sheet 13. Co-Financing Table
B2: 13. Co-Financing Table
B4: Sources of Co-financing | D4: Name of Co-financer | I4: Type of Co-financing | K4: Amount Confirmed at CEO endorsement/approval (in USD) | N4: Actual Amount Materialized at 30 June 2025 (in USD)
B6: Others | D6: Alliance Bioversity & CIAT | I6: In-kind | K6: 7900000 | N6: 6000000
B7: Others | D7: The Mediae Company | I7: In-kind | K7: 1660000 | N7: 600000
B14: Total | I14: Total | K14: =SUM(K6:K13) -> 9560000 | N14: =SUM(N6:N13) -> 6600000
B17: Please explain any significant changes in project co-financing since CEO Endorsement/Approval, or differences between the pledged and materialized co-financing amounts. Following the withdrawal of USAID as a co-financing partner, there has been an impact on the project's overall co-financing structure. This change is reflected in the co-financing table, which shows a reduced amount materialized compared to the original pledged amount. The withdrawal has necessitated a realignment of some implementation strategies and delivery partners, and underscores the need to leverage additional co-financing through ongoing and planned complementary initiatives to maintain momentum.
B21: GEF CoFinancing Guidelines 2018

Sheet 14. GEO Location
B2: 14. Geo Location Information
B4: This section should be completed ONLY by projects with 1st PIR and in case the geographic coverage of project activities has changed since last reporting period. This information is required by GEF Secretariat in GEF Portal
B6: Are there any changes in the geographic coverage of the project activities since the last PIR report? | K6: Yes
B9: Location Name | E9: Latitude | G9: Longitude | I9: Geo Name ID | L9: Location & Activity Description*
B10: Central Province Zambia | E10: 14.3112 | G10: 28.2994
B11: Uganda | E11: 1.3733 | G11: 32.2903

Sheet GEF-6&7 LDCF Core Indicators
B2: Core Indicators_LDCF GEF-6 & GEF-7
B3: For GEF-6 & 7 LDC funded projects Please provide cumulative total achieved from the inception, if available in the implementation document
B6: Core Indicator 1 | E6: Total | F6: Male | G6: Fmale | H6: % of women
B7: Total number of direct beneficiaries
B9: Core Indicator 2
B10: Area of land managed for climate resilience (ha)
B12: Core Indicators 3
B13: Total no. of policies/plans that will mainstream climate resilence
B15: Core indicator 4 | F15: Male | G15: Female | H15: % of women
B16: Total number of people trained

Sheet Annex
A2: Annex. Monitoring Area-based GEF Core Indicator Commitments and Progress with FERM
A4: The Framework for Ecosystem Restoration Monitoring (FERM), developed by FAO, is the official monitoring platform for tracking global progress and disseminating good practices for the UN Decade of Ecosystem Restoration. The FERM can serve as an integrated GIS-based platform, providing GEF staff and all relevant stakeholders the chance to display the progress of committed versus achieved land under restoration or under improved management for conservation and sustainable use, along with clear results such as the percentage of project achievement. Having a common tracking and monitoring platform allows users to comprehensively assess and report on project progress. A user-friendly dashboard showcasing project results gives stakeholders a clear understanding of the extent to which project targets have been achieved. Projects with area-based GEF Core Indicators (GEF Core Indicators 1-5 and LDCF Core Indicator 2) are encouraged to register in the FERM platform.
A5: Useful links:
A6: • FERM website
A7: • FERM User Guide (PDF)
A8: • FERM YouTube channel
A9: • Email Carmen Morales
A24: 26 It also supports countries in reporting areas under restoration for the Kunming-Montreal GBF Target 2 (areas under restoration) for which FAO is the custodian agency.
